BEGIN:VCALENDAR
VERSION:2.0
PRODID:-//Old Dutch Church - ECPv6.15.20//NONSGML v1.0//EN
CALSCALE:GREGORIAN
METHOD:PUBLISH
X-WR-CALNAME:Old Dutch Church
X-ORIGINAL-URL:https://olddutchchurch.org
X-WR-CALDESC:Events for Old Dutch Church
REFRESH-INTERVAL;VALUE=DURATION:PT1H
X-Robots-Tag:noindex
X-PUBLISHED-TTL:PT1H
BEGIN:VTIMEZONE
TZID:America/New_York
BEGIN:DAYLIGHT
TZOFFSETFROM:-0500
TZOFFSETTO:-0400
TZNAME:EDT
DTSTART:20260308T070000
END:DAYLIGHT
BEGIN:STANDARD
TZOFFSETFROM:-0400
TZOFFSETTO:-0500
TZNAME:EST
DTSTART:20261101T060000
END:STANDARD
BEGIN:DAYLIGHT
TZOFFSETFROM:-0500
TZOFFSETTO:-0400
TZNAME:EDT
DTSTART:20270314T070000
END:DAYLIGHT
BEGIN:STANDARD
TZOFFSETFROM:-0400
TZOFFSETTO:-0500
TZNAME:EST
DTSTART:20271107T060000
END:STANDARD
BEGIN:DAYLIGHT
TZOFFSETFROM:-0500
TZOFFSETTO:-0400
TZNAME:EDT
DTSTART:20280312T070000
END:DAYLIGHT
BEGIN:STANDARD
TZOFFSETFROM:-0400
TZOFFSETTO:-0500
TZNAME:EST
DTSTART:20281105T060000
END:STANDARD
END:VTIMEZONE
BEGIN:VEVENT
DTSTART;TZID=America/New_York:20270904T210000
DTEND;TZID=America/New_York:20270904T220000
DTSTAMP:20260419T191510
CREATED:20230131T003843Z
LAST-MODIFIED:20230131T003843Z
UID:10008670-1820091600-1820095200@olddutchchurch.org
SUMMARY:AA Book Group
DESCRIPTION:
URL:https://olddutchchurch.org/event/aa-book-group/2027-09-04/
LOCATION:NY
END:VEVENT
BEGIN:VEVENT
DTSTART;TZID=America/New_York:20270902T190000
DTEND;TZID=America/New_York:20270902T200000
DTSTAMP:20260419T191510
CREATED:20230131T003704Z
LAST-MODIFIED:20230131T003704Z
UID:10008134-1819911600-1819915200@olddutchchurch.org
SUMMARY:AA
DESCRIPTION:
URL:https://olddutchchurch.org/event/aa/2027-09-02/
LOCATION:NY
END:VEVENT
BEGIN:VEVENT
DTSTART;TZID=America/New_York:20270902T183000
DTEND;TZID=America/New_York:20270902T193000
DTSTAMP:20260419T191510
CREATED:20230131T004310Z
LAST-MODIFIED:20230131T004310Z
UID:10009432-1819909800-1819913400@olddutchchurch.org
SUMMARY:ACA Book Group
DESCRIPTION:Meeting every other week
URL:https://olddutchchurch.org/event/aca-book-group/2027-09-02/
LOCATION:NY
END:VEVENT
BEGIN:VEVENT
DTSTART;TZID=America/New_York:20270901T180000
DTEND;TZID=America/New_York:20270901T210000
DTSTAMP:20260419T191510
CREATED:20230131T003225Z
LAST-MODIFIED:20250624T171339Z
UID:10007181-1819821600-1819832400@olddutchchurch.org
SUMMARY:Ubaka Hill Drum Circle
DESCRIPTION:
URL:https://olddutchchurch.org/event/ubaka-hill-drum-circle/2027-09-01/
LOCATION:NY
END:VEVENT
BEGIN:VEVENT
DTSTART;TZID=America/New_York:20270901T130000
DTEND;TZID=America/New_York:20270901T140000
DTSTAMP:20260419T191510
CREATED:20220621T152107Z
LAST-MODIFIED:20250624T163908Z
UID:10007481-1819803600-1819807200@olddutchchurch.org
SUMMARY:Community Chorus (on hiatus until Fall)
DESCRIPTION:Community Chorus in Bethany Hall
URL:https://olddutchchurch.org/event/community-chorus/2027-09-01/
LOCATION:NY
END:VEVENT
BEGIN:VEVENT
DTSTART;TZID=America/New_York:20270901T120000
DTEND;TZID=America/New_York:20270901T130000
DTSTAMP:20260419T191510
CREATED:20250625T194104Z
LAST-MODIFIED:20250625T194104Z
UID:10011792-1819800000-1819803600@olddutchchurch.org
SUMMARY:ACA
DESCRIPTION:
URL:https://olddutchchurch.org/event/aca-2/2027-09-01/
LOCATION:NY
END:VEVENT
BEGIN:VEVENT
DTSTART;TZID=America/New_York:20270830T190000
DTEND;TZID=America/New_York:20270830T200000
DTSTAMP:20260419T191510
CREATED:20230131T004717Z
LAST-MODIFIED:20230131T004717Z
UID:10009699-1819652400-1819656000@olddutchchurch.org
SUMMARY:Debtors’ Anonymous
DESCRIPTION:
URL:https://olddutchchurch.org/event/debtors-anonymous/2027-08-30/
LOCATION:NY
END:VEVENT
BEGIN:VEVENT
DTSTART;TZID=America/New_York:20270830T183000
DTEND;TZID=America/New_York:20270830T210000
DTSTAMP:20260419T191510
CREATED:20250624T172435Z
LAST-MODIFIED:20250624T172436Z
UID:10006346-1819650600-1819659600@olddutchchurch.org
SUMMARY:Mendelssohn Club
DESCRIPTION:
URL:https://olddutchchurch.org/event/mendelssohn-club-2-2/2027-08-30/
LOCATION:NY
END:VEVENT
BEGIN:VEVENT
DTSTART;TZID=America/New_York:20270830T170000
DTEND;TZID=America/New_York:20270830T180000
DTSTAMP:20260419T191510
CREATED:20230131T005556Z
LAST-MODIFIED:20230131T005556Z
UID:10009966-1819645200-1819648800@olddutchchurch.org
SUMMARY:SLAA Augustine Fellowship
DESCRIPTION:
URL:https://olddutchchurch.org/event/slaa-augustine-fellowship/2027-08-30/
LOCATION:NY
END:VEVENT
BEGIN:VEVENT
DTSTART;TZID=America/New_York:20270829T190000
DTEND;TZID=America/New_York:20270829T213000
DTSTAMP:20260419T191510
CREATED:20220621T152603Z
LAST-MODIFIED:20230131T005403Z
UID:10008401-1819566000-1819575000@olddutchchurch.org
SUMMARY:SLAA Women’s Group
DESCRIPTION:SLAA in OMG
URL:https://olddutchchurch.org/event/slaa-3/2027-08-29/
LOCATION:NY
END:VEVENT
BEGIN:VEVENT
DTSTART;TZID=America/New_York:20270829T113000
DTEND;TZID=America/New_York:20270829T123000
DTSTAMP:20260419T191510
CREATED:20220621T151126Z
LAST-MODIFIED:20230131T004016Z
UID:10005843-1819539000-1819542600@olddutchchurch.org
SUMMARY:ACA
DESCRIPTION:ACA in OMG
URL:https://olddutchchurch.org/event/aca/2027-08-29/
LOCATION:Old Dutch Church\, Wall Street\, Kingston\, 272 Wall Street\, Kingston\, NY\, 12401\, United States
END:VEVENT
BEGIN:VEVENT
DTSTART;TZID=America/New_York:20270829T103000
DTEND;TZID=America/New_York:20270829T113000
DTSTAMP:20260419T191510
CREATED:20220621T145509Z
LAST-MODIFIED:20230131T010033Z
UID:10005543-1819535400-1819539000@olddutchchurch.org
SUMMARY:Sunday Worship
DESCRIPTION:Sunday worship in the Sanctuary
URL:https://olddutchchurch.org/event/sunday-worship/2027-08-29/
LOCATION:Old Dutch Church\, Wall Street\, Kingston\, 272 Wall Street\, Kingston\, NY\, 12401\, United States
END:VEVENT
BEGIN:VEVENT
DTSTART;TZID=America/New_York:20270828T210000
DTEND;TZID=America/New_York:20270828T220000
DTSTAMP:20260419T191510
CREATED:20230131T003843Z
LAST-MODIFIED:20230131T003843Z
UID:10008669-1819486800-1819490400@olddutchchurch.org
SUMMARY:AA Book Group
DESCRIPTION:
URL:https://olddutchchurch.org/event/aa-book-group/2027-08-28/
LOCATION:NY
END:VEVENT
BEGIN:VEVENT
DTSTART;TZID=America/New_York:20270826T190000
DTEND;TZID=America/New_York:20270826T200000
DTSTAMP:20260419T191510
CREATED:20230131T003704Z
LAST-MODIFIED:20230131T003704Z
UID:10008133-1819306800-1819310400@olddutchchurch.org
SUMMARY:AA
DESCRIPTION:
URL:https://olddutchchurch.org/event/aa/2027-08-26/
LOCATION:NY
END:VEVENT
BEGIN:VEVENT
DTSTART;TZID=America/New_York:20270826T183000
DTEND;TZID=America/New_York:20270826T193000
DTSTAMP:20260419T191510
CREATED:20230131T004310Z
LAST-MODIFIED:20230131T004310Z
UID:10009431-1819305000-1819308600@olddutchchurch.org
SUMMARY:ACA Book Group
DESCRIPTION:Meeting every other week
URL:https://olddutchchurch.org/event/aca-book-group/2027-08-26/
LOCATION:NY
END:VEVENT
BEGIN:VEVENT
DTSTART;TZID=America/New_York:20270825T180000
DTEND;TZID=America/New_York:20270825T210000
DTSTAMP:20260419T191510
CREATED:20230131T003225Z
LAST-MODIFIED:20250624T171339Z
UID:10007180-1819216800-1819227600@olddutchchurch.org
SUMMARY:Ubaka Hill Drum Circle
DESCRIPTION:
URL:https://olddutchchurch.org/event/ubaka-hill-drum-circle/2027-08-25/
LOCATION:NY
END:VEVENT
BEGIN:VEVENT
DTSTART;TZID=America/New_York:20270825T130000
DTEND;TZID=America/New_York:20270825T140000
DTSTAMP:20260419T191510
CREATED:20220621T152107Z
LAST-MODIFIED:20250624T163908Z
UID:10007480-1819198800-1819202400@olddutchchurch.org
SUMMARY:Community Chorus (on hiatus until Fall)
DESCRIPTION:Community Chorus in Bethany Hall
URL:https://olddutchchurch.org/event/community-chorus/2027-08-25/
LOCATION:NY
END:VEVENT
BEGIN:VEVENT
DTSTART;TZID=America/New_York:20270825T120000
DTEND;TZID=America/New_York:20270825T130000
DTSTAMP:20260419T191510
CREATED:20250625T194104Z
LAST-MODIFIED:20250625T194104Z
UID:10011791-1819195200-1819198800@olddutchchurch.org
SUMMARY:ACA
DESCRIPTION:
URL:https://olddutchchurch.org/event/aca-2/2027-08-25/
LOCATION:NY
END:VEVENT
BEGIN:VEVENT
DTSTART;TZID=America/New_York:20270823T190000
DTEND;TZID=America/New_York:20270823T200000
DTSTAMP:20260419T191510
CREATED:20230131T004717Z
LAST-MODIFIED:20230131T004717Z
UID:10009698-1819047600-1819051200@olddutchchurch.org
SUMMARY:Debtors’ Anonymous
DESCRIPTION:
URL:https://olddutchchurch.org/event/debtors-anonymous/2027-08-23/
LOCATION:NY
END:VEVENT
BEGIN:VEVENT
DTSTART;TZID=America/New_York:20270823T183000
DTEND;TZID=America/New_York:20270823T210000
DTSTAMP:20260419T191510
CREATED:20250624T172435Z
LAST-MODIFIED:20250624T172436Z
UID:10006345-1819045800-1819054800@olddutchchurch.org
SUMMARY:Mendelssohn Club
DESCRIPTION:
URL:https://olddutchchurch.org/event/mendelssohn-club-2-2/2027-08-23/
LOCATION:NY
END:VEVENT
BEGIN:VEVENT
DTSTART;TZID=America/New_York:20270823T170000
DTEND;TZID=America/New_York:20270823T180000
DTSTAMP:20260419T191510
CREATED:20230131T005556Z
LAST-MODIFIED:20230131T005556Z
UID:10009965-1819040400-1819044000@olddutchchurch.org
SUMMARY:SLAA Augustine Fellowship
DESCRIPTION:
URL:https://olddutchchurch.org/event/slaa-augustine-fellowship/2027-08-23/
LOCATION:NY
END:VEVENT
BEGIN:VEVENT
DTSTART;TZID=America/New_York:20270822T190000
DTEND;TZID=America/New_York:20270822T213000
DTSTAMP:20260419T191510
CREATED:20220621T152603Z
LAST-MODIFIED:20230131T005403Z
UID:10008400-1818961200-1818970200@olddutchchurch.org
SUMMARY:SLAA Women’s Group
DESCRIPTION:SLAA in OMG
URL:https://olddutchchurch.org/event/slaa-3/2027-08-22/
LOCATION:NY
END:VEVENT
BEGIN:VEVENT
DTSTART;TZID=America/New_York:20270822T113000
DTEND;TZID=America/New_York:20270822T123000
DTSTAMP:20260419T191510
CREATED:20220621T151126Z
LAST-MODIFIED:20230131T004016Z
UID:10005842-1818934200-1818937800@olddutchchurch.org
SUMMARY:ACA
DESCRIPTION:ACA in OMG
URL:https://olddutchchurch.org/event/aca/2027-08-22/
LOCATION:Old Dutch Church\, Wall Street\, Kingston\, 272 Wall Street\, Kingston\, NY\, 12401\, United States
END:VEVENT
BEGIN:VEVENT
DTSTART;TZID=America/New_York:20270822T103000
DTEND;TZID=America/New_York:20270822T113000
DTSTAMP:20260419T191511
CREATED:20220621T145509Z
LAST-MODIFIED:20230131T010033Z
UID:10005542-1818930600-1818934200@olddutchchurch.org
SUMMARY:Sunday Worship
DESCRIPTION:Sunday worship in the Sanctuary
URL:https://olddutchchurch.org/event/sunday-worship/2027-08-22/
LOCATION:Old Dutch Church\, Wall Street\, Kingston\, 272 Wall Street\, Kingston\, NY\, 12401\, United States
END:VEVENT
BEGIN:VEVENT
DTSTART;TZID=America/New_York:20270821T210000
DTEND;TZID=America/New_York:20270821T220000
DTSTAMP:20260419T191511
CREATED:20230131T003843Z
LAST-MODIFIED:20230131T003843Z
UID:10008668-1818882000-1818885600@olddutchchurch.org
SUMMARY:AA Book Group
DESCRIPTION:
URL:https://olddutchchurch.org/event/aa-book-group/2027-08-21/
LOCATION:NY
END:VEVENT
BEGIN:VEVENT
DTSTART;TZID=America/New_York:20270819T190000
DTEND;TZID=America/New_York:20270819T200000
DTSTAMP:20260419T191511
CREATED:20230131T003704Z
LAST-MODIFIED:20230131T003704Z
UID:10008132-1818702000-1818705600@olddutchchurch.org
SUMMARY:AA
DESCRIPTION:
URL:https://olddutchchurch.org/event/aa/2027-08-19/
LOCATION:NY
END:VEVENT
BEGIN:VEVENT
DTSTART;TZID=America/New_York:20270819T183000
DTEND;TZID=America/New_York:20270819T193000
DTSTAMP:20260419T191511
CREATED:20230131T004310Z
LAST-MODIFIED:20230131T004310Z
UID:10009430-1818700200-1818703800@olddutchchurch.org
SUMMARY:ACA Book Group
DESCRIPTION:Meeting every other week
URL:https://olddutchchurch.org/event/aca-book-group/2027-08-19/
LOCATION:NY
END:VEVENT
BEGIN:VEVENT
DTSTART;TZID=America/New_York:20270818T180000
DTEND;TZID=America/New_York:20270818T210000
DTSTAMP:20260419T191511
CREATED:20230131T003225Z
LAST-MODIFIED:20250624T171339Z
UID:10007179-1818612000-1818622800@olddutchchurch.org
SUMMARY:Ubaka Hill Drum Circle
DESCRIPTION:
URL:https://olddutchchurch.org/event/ubaka-hill-drum-circle/2027-08-18/
LOCATION:NY
END:VEVENT
BEGIN:VEVENT
DTSTART;TZID=America/New_York:20270818T130000
DTEND;TZID=America/New_York:20270818T140000
DTSTAMP:20260419T191511
CREATED:20220621T152107Z
LAST-MODIFIED:20250624T163908Z
UID:10007479-1818594000-1818597600@olddutchchurch.org
SUMMARY:Community Chorus (on hiatus until Fall)
DESCRIPTION:Community Chorus in Bethany Hall
URL:https://olddutchchurch.org/event/community-chorus/2027-08-18/
LOCATION:NY
END:VEVENT
BEGIN:VEVENT
DTSTART;TZID=America/New_York:20270818T120000
DTEND;TZID=America/New_York:20270818T130000
DTSTAMP:20260419T191511
CREATED:20250625T194104Z
LAST-MODIFIED:20250625T194104Z
UID:10011790-1818590400-1818594000@olddutchchurch.org
SUMMARY:ACA
DESCRIPTION:
URL:https://olddutchchurch.org/event/aca-2/2027-08-18/
LOCATION:NY
END:VEVENT
END:VCALENDAR