BEGIN:VCALENDAR
VERSION:2.0
PRODID:-//Old Dutch Church - ECPv6.15.20//NONSGML v1.0//EN
CALSCALE:GREGORIAN
METHOD:PUBLISH
X-WR-CALNAME:Old Dutch Church
X-ORIGINAL-URL:https://olddutchchurch.org
X-WR-CALDESC:Events for Old Dutch Church
REFRESH-INTERVAL;VALUE=DURATION:PT1H
X-Robots-Tag:noindex
X-PUBLISHED-TTL:PT1H
BEGIN:VTIMEZONE
TZID:America/New_York
BEGIN:DAYLIGHT
TZOFFSETFROM:-0500
TZOFFSETTO:-0400
TZNAME:EDT
DTSTART:20220313T070000
END:DAYLIGHT
BEGIN:STANDARD
TZOFFSETFROM:-0400
TZOFFSETTO:-0500
TZNAME:EST
DTSTART:20221106T060000
END:STANDARD
BEGIN:DAYLIGHT
TZOFFSETFROM:-0500
TZOFFSETTO:-0400
TZNAME:EDT
DTSTART:20230312T070000
END:DAYLIGHT
BEGIN:STANDARD
TZOFFSETFROM:-0400
TZOFFSETTO:-0500
TZNAME:EST
DTSTART:20231105T060000
END:STANDARD
BEGIN:DAYLIGHT
TZOFFSETFROM:-0500
TZOFFSETTO:-0400
TZNAME:EDT
DTSTART:20240310T070000
END:DAYLIGHT
BEGIN:STANDARD
TZOFFSETFROM:-0400
TZOFFSETTO:-0500
TZNAME:EST
DTSTART:20241103T060000
END:STANDARD
END:VTIMEZONE
BEGIN:VEVENT
DTSTART;TZID=America/New_York:20231005T183000
DTEND;TZID=America/New_York:20231005T193000
DTSTAMP:20260419T124555
CREATED:20230131T004310Z
LAST-MODIFIED:20230131T004310Z
UID:10009228-1696530600-1696534200@olddutchchurch.org
SUMMARY:ACA Book Group
DESCRIPTION:Meeting every other week
URL:https://olddutchchurch.org/event/aca-book-group/2023-10-05/
LOCATION:NY
END:VEVENT
BEGIN:VEVENT
DTSTART;TZID=America/New_York:20231005T190000
DTEND;TZID=America/New_York:20231005T200000
DTSTAMP:20260419T124555
CREATED:20230131T003704Z
LAST-MODIFIED:20230131T003704Z
UID:10007930-1696532400-1696536000@olddutchchurch.org
SUMMARY:AA
DESCRIPTION:
URL:https://olddutchchurch.org/event/aa/2023-10-05/
LOCATION:NY
END:VEVENT
BEGIN:VEVENT
DTSTART;TZID=America/New_York:20231007T210000
DTEND;TZID=America/New_York:20231007T220000
DTSTAMP:20260419T124555
CREATED:20230131T003843Z
LAST-MODIFIED:20230131T003843Z
UID:10008466-1696712400-1696716000@olddutchchurch.org
SUMMARY:AA Book Group
DESCRIPTION:
URL:https://olddutchchurch.org/event/aa-book-group/2023-10-07/
LOCATION:NY
END:VEVENT
BEGIN:VEVENT
DTSTART;TZID=America/New_York:20231008T103000
DTEND;TZID=America/New_York:20231008T113000
DTSTAMP:20260419T124555
CREATED:20220621T145509Z
LAST-MODIFIED:20230131T010033Z
UID:10005340-1696761000-1696764600@olddutchchurch.org
SUMMARY:Sunday Worship
DESCRIPTION:Sunday worship in the Sanctuary
URL:https://olddutchchurch.org/event/sunday-worship/2023-10-08/
LOCATION:Old Dutch Church\, Wall Street\, Kingston\, 272 Wall Street\, Kingston\, NY\, 12401\, United States
END:VEVENT
BEGIN:VEVENT
DTSTART;TZID=America/New_York:20231008T113000
DTEND;TZID=America/New_York:20231008T123000
DTSTAMP:20260419T124555
CREATED:20220621T151126Z
LAST-MODIFIED:20230131T004016Z
UID:10005640-1696764600-1696768200@olddutchchurch.org
SUMMARY:ACA
DESCRIPTION:ACA in OMG
URL:https://olddutchchurch.org/event/aca/2023-10-08/
LOCATION:Old Dutch Church\, Wall Street\, Kingston\, 272 Wall Street\, Kingston\, NY\, 12401\, United States
END:VEVENT
BEGIN:VEVENT
DTSTART;TZID=America/New_York:20231008T180000
DTEND;TZID=America/New_York:20231008T203000
DTSTAMP:20260419T124555
CREATED:20220621T151545Z
LAST-MODIFIED:20230131T001910Z
UID:10005979-1696788000-1696797000@olddutchchurch.org
SUMMARY:ARS Choralis
DESCRIPTION:ARS Choralis in Bethany Hall
URL:https://olddutchchurch.org/event/ars-choralis/2023-10-08/
LOCATION:NY
END:VEVENT
BEGIN:VEVENT
DTSTART;TZID=America/New_York:20231008T190000
DTEND;TZID=America/New_York:20231008T213000
DTSTAMP:20260419T124555
CREATED:20220621T152603Z
LAST-MODIFIED:20230131T005403Z
UID:10008198-1696791600-1696800600@olddutchchurch.org
SUMMARY:SLAA Women’s Group
DESCRIPTION:SLAA in OMG
URL:https://olddutchchurch.org/event/slaa-3/2023-10-08/
LOCATION:NY
END:VEVENT
BEGIN:VEVENT
DTSTART;TZID=America/New_York:20231009T170000
DTEND;TZID=America/New_York:20231009T180000
DTSTAMP:20260419T124555
CREATED:20230131T005556Z
LAST-MODIFIED:20230131T005556Z
UID:10009763-1696870800-1696874400@olddutchchurch.org
SUMMARY:SLAA Augustine Fellowship
DESCRIPTION:
URL:https://olddutchchurch.org/event/slaa-augustine-fellowship/2023-10-09/
LOCATION:NY
END:VEVENT
BEGIN:VEVENT
DTSTART;TZID=America/New_York:20231009T190000
DTEND;TZID=America/New_York:20231009T200000
DTSTAMP:20260419T124555
CREATED:20230131T004717Z
LAST-MODIFIED:20230131T004717Z
UID:10009496-1696878000-1696881600@olddutchchurch.org
SUMMARY:Debtors’ Anonymous
DESCRIPTION:
URL:https://olddutchchurch.org/event/debtors-anonymous/2023-10-09/
LOCATION:NY
END:VEVENT
BEGIN:VEVENT
DTSTART;TZID=America/New_York:20231011T130000
DTEND;TZID=America/New_York:20231011T140000
DTSTAMP:20260419T124555
CREATED:20220621T152107Z
LAST-MODIFIED:20250624T163908Z
UID:10007278-1697029200-1697032800@olddutchchurch.org
SUMMARY:Community Chorus (on hiatus until Fall)
DESCRIPTION:Community Chorus in Bethany Hall
URL:https://olddutchchurch.org/event/community-chorus/2023-10-11/
LOCATION:NY
END:VEVENT
BEGIN:VEVENT
DTSTART;TZID=America/New_York:20231011T180000
DTEND;TZID=America/New_York:20231011T210000
DTSTAMP:20260419T124555
CREATED:20230131T003225Z
LAST-MODIFIED:20250624T171339Z
UID:10006978-1697047200-1697058000@olddutchchurch.org
SUMMARY:Ubaka Hill Drum Circle
DESCRIPTION:
URL:https://olddutchchurch.org/event/ubaka-hill-drum-circle/2023-10-11/
LOCATION:NY
END:VEVENT
BEGIN:VEVENT
DTSTART;TZID=America/New_York:20231012T183000
DTEND;TZID=America/New_York:20231012T193000
DTSTAMP:20260419T124555
CREATED:20230131T004310Z
LAST-MODIFIED:20230131T004310Z
UID:10009229-1697135400-1697139000@olddutchchurch.org
SUMMARY:ACA Book Group
DESCRIPTION:Meeting every other week
URL:https://olddutchchurch.org/event/aca-book-group/2023-10-12/
LOCATION:NY
END:VEVENT
BEGIN:VEVENT
DTSTART;TZID=America/New_York:20231012T190000
DTEND;TZID=America/New_York:20231012T200000
DTSTAMP:20260419T124555
CREATED:20230131T003704Z
LAST-MODIFIED:20230131T003704Z
UID:10007931-1697137200-1697140800@olddutchchurch.org
SUMMARY:AA
DESCRIPTION:
URL:https://olddutchchurch.org/event/aa/2023-10-12/
LOCATION:NY
END:VEVENT
BEGIN:VEVENT
DTSTART;TZID=America/New_York:20231014T210000
DTEND;TZID=America/New_York:20231014T220000
DTSTAMP:20260419T124555
CREATED:20230131T003843Z
LAST-MODIFIED:20230131T003843Z
UID:10008467-1697317200-1697320800@olddutchchurch.org
SUMMARY:AA Book Group
DESCRIPTION:
URL:https://olddutchchurch.org/event/aa-book-group/2023-10-14/
LOCATION:NY
END:VEVENT
BEGIN:VEVENT
DTSTART;TZID=America/New_York:20231015T103000
DTEND;TZID=America/New_York:20231015T113000
DTSTAMP:20260419T124555
CREATED:20220621T145509Z
LAST-MODIFIED:20230131T010033Z
UID:10005341-1697365800-1697369400@olddutchchurch.org
SUMMARY:Sunday Worship
DESCRIPTION:Sunday worship in the Sanctuary
URL:https://olddutchchurch.org/event/sunday-worship/2023-10-15/
LOCATION:Old Dutch Church\, Wall Street\, Kingston\, 272 Wall Street\, Kingston\, NY\, 12401\, United States
END:VEVENT
BEGIN:VEVENT
DTSTART;TZID=America/New_York:20231015T113000
DTEND;TZID=America/New_York:20231015T123000
DTSTAMP:20260419T124555
CREATED:20220621T151126Z
LAST-MODIFIED:20230131T004016Z
UID:10005641-1697369400-1697373000@olddutchchurch.org
SUMMARY:ACA
DESCRIPTION:ACA in OMG
URL:https://olddutchchurch.org/event/aca/2023-10-15/
LOCATION:Old Dutch Church\, Wall Street\, Kingston\, 272 Wall Street\, Kingston\, NY\, 12401\, United States
END:VEVENT
BEGIN:VEVENT
DTSTART;TZID=America/New_York:20231015T180000
DTEND;TZID=America/New_York:20231015T203000
DTSTAMP:20260419T124555
CREATED:20220621T151545Z
LAST-MODIFIED:20230131T001910Z
UID:10005980-1697392800-1697401800@olddutchchurch.org
SUMMARY:ARS Choralis
DESCRIPTION:ARS Choralis in Bethany Hall
URL:https://olddutchchurch.org/event/ars-choralis/2023-10-15/
LOCATION:NY
END:VEVENT
BEGIN:VEVENT
DTSTART;TZID=America/New_York:20231015T190000
DTEND;TZID=America/New_York:20231015T213000
DTSTAMP:20260419T124555
CREATED:20220621T152603Z
LAST-MODIFIED:20230131T005403Z
UID:10008199-1697396400-1697405400@olddutchchurch.org
SUMMARY:SLAA Women’s Group
DESCRIPTION:SLAA in OMG
URL:https://olddutchchurch.org/event/slaa-3/2023-10-15/
LOCATION:NY
END:VEVENT
BEGIN:VEVENT
DTSTART;TZID=America/New_York:20231016T170000
DTEND;TZID=America/New_York:20231016T180000
DTSTAMP:20260419T124555
CREATED:20230131T005556Z
LAST-MODIFIED:20230131T005556Z
UID:10009764-1697475600-1697479200@olddutchchurch.org
SUMMARY:SLAA Augustine Fellowship
DESCRIPTION:
URL:https://olddutchchurch.org/event/slaa-augustine-fellowship/2023-10-16/
LOCATION:NY
END:VEVENT
BEGIN:VEVENT
DTSTART;TZID=America/New_York:20231016T190000
DTEND;TZID=America/New_York:20231016T200000
DTSTAMP:20260419T124555
CREATED:20230131T004717Z
LAST-MODIFIED:20230131T004717Z
UID:10009497-1697482800-1697486400@olddutchchurch.org
SUMMARY:Debtors’ Anonymous
DESCRIPTION:
URL:https://olddutchchurch.org/event/debtors-anonymous/2023-10-16/
LOCATION:NY
END:VEVENT
BEGIN:VEVENT
DTSTART;TZID=America/New_York:20231018T130000
DTEND;TZID=America/New_York:20231018T140000
DTSTAMP:20260419T124555
CREATED:20220621T152107Z
LAST-MODIFIED:20250624T163908Z
UID:10007279-1697634000-1697637600@olddutchchurch.org
SUMMARY:Community Chorus (on hiatus until Fall)
DESCRIPTION:Community Chorus in Bethany Hall
URL:https://olddutchchurch.org/event/community-chorus/2023-10-18/
LOCATION:NY
END:VEVENT
BEGIN:VEVENT
DTSTART;TZID=America/New_York:20231018T180000
DTEND;TZID=America/New_York:20231018T210000
DTSTAMP:20260419T124555
CREATED:20230131T003225Z
LAST-MODIFIED:20250624T171339Z
UID:10006979-1697652000-1697662800@olddutchchurch.org
SUMMARY:Ubaka Hill Drum Circle
DESCRIPTION:
URL:https://olddutchchurch.org/event/ubaka-hill-drum-circle/2023-10-18/
LOCATION:NY
END:VEVENT
BEGIN:VEVENT
DTSTART;TZID=America/New_York:20231019T183000
DTEND;TZID=America/New_York:20231019T193000
DTSTAMP:20260419T124555
CREATED:20230131T004310Z
LAST-MODIFIED:20230131T004310Z
UID:10009230-1697740200-1697743800@olddutchchurch.org
SUMMARY:ACA Book Group
DESCRIPTION:Meeting every other week
URL:https://olddutchchurch.org/event/aca-book-group/2023-10-19/
LOCATION:NY
END:VEVENT
BEGIN:VEVENT
DTSTART;TZID=America/New_York:20231019T190000
DTEND;TZID=America/New_York:20231019T200000
DTSTAMP:20260419T124555
CREATED:20230131T003704Z
LAST-MODIFIED:20230131T003704Z
UID:10007932-1697742000-1697745600@olddutchchurch.org
SUMMARY:AA
DESCRIPTION:
URL:https://olddutchchurch.org/event/aa/2023-10-19/
LOCATION:NY
END:VEVENT
BEGIN:VEVENT
DTSTART;TZID=America/New_York:20231021T210000
DTEND;TZID=America/New_York:20231021T220000
DTSTAMP:20260419T124555
CREATED:20230131T003843Z
LAST-MODIFIED:20230131T003843Z
UID:10008468-1697922000-1697925600@olddutchchurch.org
SUMMARY:AA Book Group
DESCRIPTION:
URL:https://olddutchchurch.org/event/aa-book-group/2023-10-21/
LOCATION:NY
END:VEVENT
BEGIN:VEVENT
DTSTART;TZID=America/New_York:20231022T103000
DTEND;TZID=America/New_York:20231022T113000
DTSTAMP:20260419T124555
CREATED:20220621T145509Z
LAST-MODIFIED:20230131T010033Z
UID:10005342-1697970600-1697974200@olddutchchurch.org
SUMMARY:Sunday Worship
DESCRIPTION:Sunday worship in the Sanctuary
URL:https://olddutchchurch.org/event/sunday-worship/2023-10-22/
LOCATION:Old Dutch Church\, Wall Street\, Kingston\, 272 Wall Street\, Kingston\, NY\, 12401\, United States
END:VEVENT
BEGIN:VEVENT
DTSTART;TZID=America/New_York:20231022T113000
DTEND;TZID=America/New_York:20231022T123000
DTSTAMP:20260419T124555
CREATED:20220621T151126Z
LAST-MODIFIED:20230131T004016Z
UID:10005642-1697974200-1697977800@olddutchchurch.org
SUMMARY:ACA
DESCRIPTION:ACA in OMG
URL:https://olddutchchurch.org/event/aca/2023-10-22/
LOCATION:Old Dutch Church\, Wall Street\, Kingston\, 272 Wall Street\, Kingston\, NY\, 12401\, United States
END:VEVENT
BEGIN:VEVENT
DTSTART;TZID=America/New_York:20231022T180000
DTEND;TZID=America/New_York:20231022T203000
DTSTAMP:20260419T124555
CREATED:20220621T151545Z
LAST-MODIFIED:20230131T001910Z
UID:10005981-1697997600-1698006600@olddutchchurch.org
SUMMARY:ARS Choralis
DESCRIPTION:ARS Choralis in Bethany Hall
URL:https://olddutchchurch.org/event/ars-choralis/2023-10-22/
LOCATION:NY
END:VEVENT
BEGIN:VEVENT
DTSTART;TZID=America/New_York:20231022T190000
DTEND;TZID=America/New_York:20231022T213000
DTSTAMP:20260419T124555
CREATED:20220621T152603Z
LAST-MODIFIED:20230131T005403Z
UID:10008200-1698001200-1698010200@olddutchchurch.org
SUMMARY:SLAA Women’s Group
DESCRIPTION:SLAA in OMG
URL:https://olddutchchurch.org/event/slaa-3/2023-10-22/
LOCATION:NY
END:VEVENT
BEGIN:VEVENT
DTSTART;TZID=America/New_York:20231023T170000
DTEND;TZID=America/New_York:20231023T180000
DTSTAMP:20260419T124555
CREATED:20230131T005556Z
LAST-MODIFIED:20230131T005556Z
UID:10009765-1698080400-1698084000@olddutchchurch.org
SUMMARY:SLAA Augustine Fellowship
DESCRIPTION:
URL:https://olddutchchurch.org/event/slaa-augustine-fellowship/2023-10-23/
LOCATION:NY
END:VEVENT
END:VCALENDAR