BEGIN:VCALENDAR
VERSION:2.0
PRODID:-//Old Dutch Church - ECPv6.15.20//NONSGML v1.0//EN
CALSCALE:GREGORIAN
METHOD:PUBLISH
X-WR-CALNAME:Old Dutch Church
X-ORIGINAL-URL:https://olddutchchurch.org
X-WR-CALDESC:Events for Old Dutch Church
REFRESH-INTERVAL;VALUE=DURATION:PT1H
X-Robots-Tag:noindex
X-PUBLISHED-TTL:PT1H
BEGIN:VTIMEZONE
TZID:America/New_York
BEGIN:DAYLIGHT
TZOFFSETFROM:-0500
TZOFFSETTO:-0400
TZNAME:EDT
DTSTART:20260308T070000
END:DAYLIGHT
BEGIN:STANDARD
TZOFFSETFROM:-0400
TZOFFSETTO:-0500
TZNAME:EST
DTSTART:20261101T060000
END:STANDARD
BEGIN:DAYLIGHT
TZOFFSETFROM:-0500
TZOFFSETTO:-0400
TZNAME:EDT
DTSTART:20270314T070000
END:DAYLIGHT
BEGIN:STANDARD
TZOFFSETFROM:-0400
TZOFFSETTO:-0500
TZNAME:EST
DTSTART:20271107T060000
END:STANDARD
BEGIN:DAYLIGHT
TZOFFSETFROM:-0500
TZOFFSETTO:-0400
TZNAME:EDT
DTSTART:20280312T070000
END:DAYLIGHT
BEGIN:STANDARD
TZOFFSETFROM:-0400
TZOFFSETTO:-0500
TZNAME:EST
DTSTART:20281105T060000
END:STANDARD
END:VTIMEZONE
BEGIN:VEVENT
DTSTART;TZID=America/New_York:20270513T183000
DTEND;TZID=America/New_York:20270513T193000
DTSTAMP:20260419T115613
CREATED:20230131T004310Z
LAST-MODIFIED:20230131T004310Z
UID:10009416-1810233000-1810236600@olddutchchurch.org
SUMMARY:ACA Book Group
DESCRIPTION:Meeting every other week
URL:https://olddutchchurch.org/event/aca-book-group/2027-05-13/
LOCATION:NY
END:VEVENT
BEGIN:VEVENT
DTSTART;TZID=America/New_York:20270513T190000
DTEND;TZID=America/New_York:20270513T200000
DTSTAMP:20260419T115613
CREATED:20230131T003704Z
LAST-MODIFIED:20230131T003704Z
UID:10008118-1810234800-1810238400@olddutchchurch.org
SUMMARY:AA
DESCRIPTION:
URL:https://olddutchchurch.org/event/aa/2027-05-13/
LOCATION:NY
END:VEVENT
BEGIN:VEVENT
DTSTART;TZID=America/New_York:20270515T210000
DTEND;TZID=America/New_York:20270515T220000
DTSTAMP:20260419T115613
CREATED:20230131T003843Z
LAST-MODIFIED:20230131T003843Z
UID:10008654-1810414800-1810418400@olddutchchurch.org
SUMMARY:AA Book Group
DESCRIPTION:
URL:https://olddutchchurch.org/event/aa-book-group/2027-05-15/
LOCATION:NY
END:VEVENT
BEGIN:VEVENT
DTSTART;TZID=America/New_York:20270516T103000
DTEND;TZID=America/New_York:20270516T113000
DTSTAMP:20260419T115613
CREATED:20220621T145509Z
LAST-MODIFIED:20230131T010033Z
UID:10005528-1810463400-1810467000@olddutchchurch.org
SUMMARY:Sunday Worship
DESCRIPTION:Sunday worship in the Sanctuary
URL:https://olddutchchurch.org/event/sunday-worship/2027-05-16/
LOCATION:Old Dutch Church\, Wall Street\, Kingston\, 272 Wall Street\, Kingston\, NY\, 12401\, United States
END:VEVENT
BEGIN:VEVENT
DTSTART;TZID=America/New_York:20270516T113000
DTEND;TZID=America/New_York:20270516T123000
DTSTAMP:20260419T115613
CREATED:20220621T151126Z
LAST-MODIFIED:20230131T004016Z
UID:10005828-1810467000-1810470600@olddutchchurch.org
SUMMARY:ACA
DESCRIPTION:ACA in OMG
URL:https://olddutchchurch.org/event/aca/2027-05-16/
LOCATION:Old Dutch Church\, Wall Street\, Kingston\, 272 Wall Street\, Kingston\, NY\, 12401\, United States
END:VEVENT
BEGIN:VEVENT
DTSTART;TZID=America/New_York:20270516T190000
DTEND;TZID=America/New_York:20270516T213000
DTSTAMP:20260419T115613
CREATED:20220621T152603Z
LAST-MODIFIED:20230131T005403Z
UID:10008386-1810494000-1810503000@olddutchchurch.org
SUMMARY:SLAA Women’s Group
DESCRIPTION:SLAA in OMG
URL:https://olddutchchurch.org/event/slaa-3/2027-05-16/
LOCATION:NY
END:VEVENT
BEGIN:VEVENT
DTSTART;TZID=America/New_York:20270517T170000
DTEND;TZID=America/New_York:20270517T180000
DTSTAMP:20260419T115613
CREATED:20230131T005556Z
LAST-MODIFIED:20230131T005556Z
UID:10009951-1810573200-1810576800@olddutchchurch.org
SUMMARY:SLAA Augustine Fellowship
DESCRIPTION:
URL:https://olddutchchurch.org/event/slaa-augustine-fellowship/2027-05-17/
LOCATION:NY
END:VEVENT
BEGIN:VEVENT
DTSTART;TZID=America/New_York:20270517T183000
DTEND;TZID=America/New_York:20270517T210000
DTSTAMP:20260419T115613
CREATED:20250624T172435Z
LAST-MODIFIED:20250624T172436Z
UID:10006331-1810578600-1810587600@olddutchchurch.org
SUMMARY:Mendelssohn Club
DESCRIPTION:
URL:https://olddutchchurch.org/event/mendelssohn-club-2-2/2027-05-17/
LOCATION:NY
END:VEVENT
BEGIN:VEVENT
DTSTART;TZID=America/New_York:20270517T190000
DTEND;TZID=America/New_York:20270517T200000
DTSTAMP:20260419T115613
CREATED:20230131T004717Z
LAST-MODIFIED:20230131T004717Z
UID:10009684-1810580400-1810584000@olddutchchurch.org
SUMMARY:Debtors’ Anonymous
DESCRIPTION:
URL:https://olddutchchurch.org/event/debtors-anonymous/2027-05-17/
LOCATION:NY
END:VEVENT
BEGIN:VEVENT
DTSTART;TZID=America/New_York:20270519T120000
DTEND;TZID=America/New_York:20270519T130000
DTSTAMP:20260419T115613
CREATED:20250625T194104Z
LAST-MODIFIED:20250625T194104Z
UID:10011777-1810728000-1810731600@olddutchchurch.org
SUMMARY:ACA
DESCRIPTION:
URL:https://olddutchchurch.org/event/aca-2/2027-05-19/
LOCATION:NY
END:VEVENT
BEGIN:VEVENT
DTSTART;TZID=America/New_York:20270519T130000
DTEND;TZID=America/New_York:20270519T140000
DTSTAMP:20260419T115613
CREATED:20220621T152107Z
LAST-MODIFIED:20250624T163908Z
UID:10007466-1810731600-1810735200@olddutchchurch.org
SUMMARY:Community Chorus (on hiatus until Fall)
DESCRIPTION:Community Chorus in Bethany Hall
URL:https://olddutchchurch.org/event/community-chorus/2027-05-19/
LOCATION:NY
END:VEVENT
BEGIN:VEVENT
DTSTART;TZID=America/New_York:20270519T180000
DTEND;TZID=America/New_York:20270519T210000
DTSTAMP:20260419T115613
CREATED:20230131T003225Z
LAST-MODIFIED:20250624T171339Z
UID:10007166-1810749600-1810760400@olddutchchurch.org
SUMMARY:Ubaka Hill Drum Circle
DESCRIPTION:
URL:https://olddutchchurch.org/event/ubaka-hill-drum-circle/2027-05-19/
LOCATION:NY
END:VEVENT
BEGIN:VEVENT
DTSTART;TZID=America/New_York:20270520T183000
DTEND;TZID=America/New_York:20270520T193000
DTSTAMP:20260419T115613
CREATED:20230131T004310Z
LAST-MODIFIED:20230131T004310Z
UID:10009417-1810837800-1810841400@olddutchchurch.org
SUMMARY:ACA Book Group
DESCRIPTION:Meeting every other week
URL:https://olddutchchurch.org/event/aca-book-group/2027-05-20/
LOCATION:NY
END:VEVENT
BEGIN:VEVENT
DTSTART;TZID=America/New_York:20270520T190000
DTEND;TZID=America/New_York:20270520T200000
DTSTAMP:20260419T115613
CREATED:20230131T003704Z
LAST-MODIFIED:20230131T003704Z
UID:10008119-1810839600-1810843200@olddutchchurch.org
SUMMARY:AA
DESCRIPTION:
URL:https://olddutchchurch.org/event/aa/2027-05-20/
LOCATION:NY
END:VEVENT
BEGIN:VEVENT
DTSTART;TZID=America/New_York:20270522T210000
DTEND;TZID=America/New_York:20270522T220000
DTSTAMP:20260419T115613
CREATED:20230131T003843Z
LAST-MODIFIED:20230131T003843Z
UID:10008655-1811019600-1811023200@olddutchchurch.org
SUMMARY:AA Book Group
DESCRIPTION:
URL:https://olddutchchurch.org/event/aa-book-group/2027-05-22/
LOCATION:NY
END:VEVENT
BEGIN:VEVENT
DTSTART;TZID=America/New_York:20270523T103000
DTEND;TZID=America/New_York:20270523T113000
DTSTAMP:20260419T115613
CREATED:20220621T145509Z
LAST-MODIFIED:20230131T010033Z
UID:10005529-1811068200-1811071800@olddutchchurch.org
SUMMARY:Sunday Worship
DESCRIPTION:Sunday worship in the Sanctuary
URL:https://olddutchchurch.org/event/sunday-worship/2027-05-23/
LOCATION:Old Dutch Church\, Wall Street\, Kingston\, 272 Wall Street\, Kingston\, NY\, 12401\, United States
END:VEVENT
BEGIN:VEVENT
DTSTART;TZID=America/New_York:20270523T113000
DTEND;TZID=America/New_York:20270523T123000
DTSTAMP:20260419T115613
CREATED:20220621T151126Z
LAST-MODIFIED:20230131T004016Z
UID:10005829-1811071800-1811075400@olddutchchurch.org
SUMMARY:ACA
DESCRIPTION:ACA in OMG
URL:https://olddutchchurch.org/event/aca/2027-05-23/
LOCATION:Old Dutch Church\, Wall Street\, Kingston\, 272 Wall Street\, Kingston\, NY\, 12401\, United States
END:VEVENT
BEGIN:VEVENT
DTSTART;TZID=America/New_York:20270523T190000
DTEND;TZID=America/New_York:20270523T213000
DTSTAMP:20260419T115613
CREATED:20220621T152603Z
LAST-MODIFIED:20230131T005403Z
UID:10008387-1811098800-1811107800@olddutchchurch.org
SUMMARY:SLAA Women’s Group
DESCRIPTION:SLAA in OMG
URL:https://olddutchchurch.org/event/slaa-3/2027-05-23/
LOCATION:NY
END:VEVENT
BEGIN:VEVENT
DTSTART;TZID=America/New_York:20270524T170000
DTEND;TZID=America/New_York:20270524T180000
DTSTAMP:20260419T115613
CREATED:20230131T005556Z
LAST-MODIFIED:20230131T005556Z
UID:10009952-1811178000-1811181600@olddutchchurch.org
SUMMARY:SLAA Augustine Fellowship
DESCRIPTION:
URL:https://olddutchchurch.org/event/slaa-augustine-fellowship/2027-05-24/
LOCATION:NY
END:VEVENT
BEGIN:VEVENT
DTSTART;TZID=America/New_York:20270524T183000
DTEND;TZID=America/New_York:20270524T210000
DTSTAMP:20260419T115613
CREATED:20250624T172435Z
LAST-MODIFIED:20250624T172436Z
UID:10006332-1811183400-1811192400@olddutchchurch.org
SUMMARY:Mendelssohn Club
DESCRIPTION:
URL:https://olddutchchurch.org/event/mendelssohn-club-2-2/2027-05-24/
LOCATION:NY
END:VEVENT
BEGIN:VEVENT
DTSTART;TZID=America/New_York:20270524T190000
DTEND;TZID=America/New_York:20270524T200000
DTSTAMP:20260419T115613
CREATED:20230131T004717Z
LAST-MODIFIED:20230131T004717Z
UID:10009685-1811185200-1811188800@olddutchchurch.org
SUMMARY:Debtors’ Anonymous
DESCRIPTION:
URL:https://olddutchchurch.org/event/debtors-anonymous/2027-05-24/
LOCATION:NY
END:VEVENT
BEGIN:VEVENT
DTSTART;TZID=America/New_York:20270526T120000
DTEND;TZID=America/New_York:20270526T130000
DTSTAMP:20260419T115613
CREATED:20250625T194104Z
LAST-MODIFIED:20250625T194104Z
UID:10011778-1811332800-1811336400@olddutchchurch.org
SUMMARY:ACA
DESCRIPTION:
URL:https://olddutchchurch.org/event/aca-2/2027-05-26/
LOCATION:NY
END:VEVENT
BEGIN:VEVENT
DTSTART;TZID=America/New_York:20270526T130000
DTEND;TZID=America/New_York:20270526T140000
DTSTAMP:20260419T115613
CREATED:20220621T152107Z
LAST-MODIFIED:20250624T163908Z
UID:10007467-1811336400-1811340000@olddutchchurch.org
SUMMARY:Community Chorus (on hiatus until Fall)
DESCRIPTION:Community Chorus in Bethany Hall
URL:https://olddutchchurch.org/event/community-chorus/2027-05-26/
LOCATION:NY
END:VEVENT
BEGIN:VEVENT
DTSTART;TZID=America/New_York:20270526T180000
DTEND;TZID=America/New_York:20270526T210000
DTSTAMP:20260419T115613
CREATED:20230131T003225Z
LAST-MODIFIED:20250624T171339Z
UID:10007167-1811354400-1811365200@olddutchchurch.org
SUMMARY:Ubaka Hill Drum Circle
DESCRIPTION:
URL:https://olddutchchurch.org/event/ubaka-hill-drum-circle/2027-05-26/
LOCATION:NY
END:VEVENT
BEGIN:VEVENT
DTSTART;TZID=America/New_York:20270527T183000
DTEND;TZID=America/New_York:20270527T193000
DTSTAMP:20260419T115613
CREATED:20230131T004310Z
LAST-MODIFIED:20230131T004310Z
UID:10009418-1811442600-1811446200@olddutchchurch.org
SUMMARY:ACA Book Group
DESCRIPTION:Meeting every other week
URL:https://olddutchchurch.org/event/aca-book-group/2027-05-27/
LOCATION:NY
END:VEVENT
BEGIN:VEVENT
DTSTART;TZID=America/New_York:20270527T190000
DTEND;TZID=America/New_York:20270527T200000
DTSTAMP:20260419T115613
CREATED:20230131T003704Z
LAST-MODIFIED:20230131T003704Z
UID:10008120-1811444400-1811448000@olddutchchurch.org
SUMMARY:AA
DESCRIPTION:
URL:https://olddutchchurch.org/event/aa/2027-05-27/
LOCATION:NY
END:VEVENT
BEGIN:VEVENT
DTSTART;TZID=America/New_York:20270529T210000
DTEND;TZID=America/New_York:20270529T220000
DTSTAMP:20260419T115613
CREATED:20230131T003843Z
LAST-MODIFIED:20230131T003843Z
UID:10008656-1811624400-1811628000@olddutchchurch.org
SUMMARY:AA Book Group
DESCRIPTION:
URL:https://olddutchchurch.org/event/aa-book-group/2027-05-29/
LOCATION:NY
END:VEVENT
BEGIN:VEVENT
DTSTART;TZID=America/New_York:20270530T103000
DTEND;TZID=America/New_York:20270530T113000
DTSTAMP:20260419T115613
CREATED:20220621T145509Z
LAST-MODIFIED:20230131T010033Z
UID:10005530-1811673000-1811676600@olddutchchurch.org
SUMMARY:Sunday Worship
DESCRIPTION:Sunday worship in the Sanctuary
URL:https://olddutchchurch.org/event/sunday-worship/2027-05-30/
LOCATION:Old Dutch Church\, Wall Street\, Kingston\, 272 Wall Street\, Kingston\, NY\, 12401\, United States
END:VEVENT
BEGIN:VEVENT
DTSTART;TZID=America/New_York:20270530T113000
DTEND;TZID=America/New_York:20270530T123000
DTSTAMP:20260419T115613
CREATED:20220621T151126Z
LAST-MODIFIED:20230131T004016Z
UID:10005830-1811676600-1811680200@olddutchchurch.org
SUMMARY:ACA
DESCRIPTION:ACA in OMG
URL:https://olddutchchurch.org/event/aca/2027-05-30/
LOCATION:Old Dutch Church\, Wall Street\, Kingston\, 272 Wall Street\, Kingston\, NY\, 12401\, United States
END:VEVENT
BEGIN:VEVENT
DTSTART;TZID=America/New_York:20270530T190000
DTEND;TZID=America/New_York:20270530T213000
DTSTAMP:20260419T115613
CREATED:20220621T152603Z
LAST-MODIFIED:20230131T005403Z
UID:10008388-1811703600-1811712600@olddutchchurch.org
SUMMARY:SLAA Women’s Group
DESCRIPTION:SLAA in OMG
URL:https://olddutchchurch.org/event/slaa-3/2027-05-30/
LOCATION:NY
END:VEVENT
END:VCALENDAR