BEGIN:VCALENDAR
VERSION:2.0
PRODID:-//Old Dutch Church - ECPv6.15.20//NONSGML v1.0//EN
CALSCALE:GREGORIAN
METHOD:PUBLISH
X-WR-CALNAME:Old Dutch Church
X-ORIGINAL-URL:https://olddutchchurch.org
X-WR-CALDESC:Events for Old Dutch Church
REFRESH-INTERVAL;VALUE=DURATION:PT1H
X-Robots-Tag:noindex
X-PUBLISHED-TTL:PT1H
BEGIN:VTIMEZONE
TZID:America/New_York
BEGIN:DAYLIGHT
TZOFFSETFROM:-0500
TZOFFSETTO:-0400
TZNAME:EDT
DTSTART:20260308T070000
END:DAYLIGHT
BEGIN:STANDARD
TZOFFSETFROM:-0400
TZOFFSETTO:-0500
TZNAME:EST
DTSTART:20261101T060000
END:STANDARD
BEGIN:DAYLIGHT
TZOFFSETFROM:-0500
TZOFFSETTO:-0400
TZNAME:EDT
DTSTART:20270314T070000
END:DAYLIGHT
BEGIN:STANDARD
TZOFFSETFROM:-0400
TZOFFSETTO:-0500
TZNAME:EST
DTSTART:20271107T060000
END:STANDARD
BEGIN:DAYLIGHT
TZOFFSETFROM:-0500
TZOFFSETTO:-0400
TZNAME:EDT
DTSTART:20280312T070000
END:DAYLIGHT
BEGIN:STANDARD
TZOFFSETFROM:-0400
TZOFFSETTO:-0500
TZNAME:EST
DTSTART:20281105T060000
END:STANDARD
END:VTIMEZONE
BEGIN:VEVENT
DTSTART;TZID=America/New_York:20270802T170000
DTEND;TZID=America/New_York:20270802T180000
DTSTAMP:20260419T171634
CREATED:20230131T005556Z
LAST-MODIFIED:20230131T005556Z
UID:10009962-1817226000-1817229600@olddutchchurch.org
SUMMARY:SLAA Augustine Fellowship
DESCRIPTION:
URL:https://olddutchchurch.org/event/slaa-augustine-fellowship/2027-08-02/
LOCATION:NY
END:VEVENT
BEGIN:VEVENT
DTSTART;TZID=America/New_York:20270802T183000
DTEND;TZID=America/New_York:20270802T210000
DTSTAMP:20260419T171634
CREATED:20250624T172435Z
LAST-MODIFIED:20250624T172436Z
UID:10006342-1817231400-1817240400@olddutchchurch.org
SUMMARY:Mendelssohn Club
DESCRIPTION:
URL:https://olddutchchurch.org/event/mendelssohn-club-2-2/2027-08-02/
LOCATION:NY
END:VEVENT
BEGIN:VEVENT
DTSTART;TZID=America/New_York:20270802T190000
DTEND;TZID=America/New_York:20270802T200000
DTSTAMP:20260419T171634
CREATED:20230131T004717Z
LAST-MODIFIED:20230131T004717Z
UID:10009695-1817233200-1817236800@olddutchchurch.org
SUMMARY:Debtors’ Anonymous
DESCRIPTION:
URL:https://olddutchchurch.org/event/debtors-anonymous/2027-08-02/
LOCATION:NY
END:VEVENT
BEGIN:VEVENT
DTSTART;TZID=America/New_York:20270804T120000
DTEND;TZID=America/New_York:20270804T130000
DTSTAMP:20260419T171634
CREATED:20250625T194104Z
LAST-MODIFIED:20250625T194104Z
UID:10011788-1817380800-1817384400@olddutchchurch.org
SUMMARY:ACA
DESCRIPTION:
URL:https://olddutchchurch.org/event/aca-2/2027-08-04/
LOCATION:NY
END:VEVENT
BEGIN:VEVENT
DTSTART;TZID=America/New_York:20270804T130000
DTEND;TZID=America/New_York:20270804T140000
DTSTAMP:20260419T171634
CREATED:20220621T152107Z
LAST-MODIFIED:20250624T163908Z
UID:10007477-1817384400-1817388000@olddutchchurch.org
SUMMARY:Community Chorus (on hiatus until Fall)
DESCRIPTION:Community Chorus in Bethany Hall
URL:https://olddutchchurch.org/event/community-chorus/2027-08-04/
LOCATION:NY
END:VEVENT
BEGIN:VEVENT
DTSTART;TZID=America/New_York:20270804T180000
DTEND;TZID=America/New_York:20270804T210000
DTSTAMP:20260419T171634
CREATED:20230131T003225Z
LAST-MODIFIED:20250624T171339Z
UID:10007177-1817402400-1817413200@olddutchchurch.org
SUMMARY:Ubaka Hill Drum Circle
DESCRIPTION:
URL:https://olddutchchurch.org/event/ubaka-hill-drum-circle/2027-08-04/
LOCATION:NY
END:VEVENT
BEGIN:VEVENT
DTSTART;TZID=America/New_York:20270805T183000
DTEND;TZID=America/New_York:20270805T193000
DTSTAMP:20260419T171634
CREATED:20230131T004310Z
LAST-MODIFIED:20230131T004310Z
UID:10009428-1817490600-1817494200@olddutchchurch.org
SUMMARY:ACA Book Group
DESCRIPTION:Meeting every other week
URL:https://olddutchchurch.org/event/aca-book-group/2027-08-05/
LOCATION:NY
END:VEVENT
BEGIN:VEVENT
DTSTART;TZID=America/New_York:20270805T190000
DTEND;TZID=America/New_York:20270805T200000
DTSTAMP:20260419T171634
CREATED:20230131T003704Z
LAST-MODIFIED:20230131T003704Z
UID:10008130-1817492400-1817496000@olddutchchurch.org
SUMMARY:AA
DESCRIPTION:
URL:https://olddutchchurch.org/event/aa/2027-08-05/
LOCATION:NY
END:VEVENT
BEGIN:VEVENT
DTSTART;TZID=America/New_York:20270807T210000
DTEND;TZID=America/New_York:20270807T220000
DTSTAMP:20260419T171634
CREATED:20230131T003843Z
LAST-MODIFIED:20230131T003843Z
UID:10008666-1817672400-1817676000@olddutchchurch.org
SUMMARY:AA Book Group
DESCRIPTION:
URL:https://olddutchchurch.org/event/aa-book-group/2027-08-07/
LOCATION:NY
END:VEVENT
BEGIN:VEVENT
DTSTART;TZID=America/New_York:20270808T103000
DTEND;TZID=America/New_York:20270808T113000
DTSTAMP:20260419T171634
CREATED:20220621T145509Z
LAST-MODIFIED:20230131T010033Z
UID:10005540-1817721000-1817724600@olddutchchurch.org
SUMMARY:Sunday Worship
DESCRIPTION:Sunday worship in the Sanctuary
URL:https://olddutchchurch.org/event/sunday-worship/2027-08-08/
LOCATION:Old Dutch Church\, Wall Street\, Kingston\, 272 Wall Street\, Kingston\, NY\, 12401\, United States
END:VEVENT
BEGIN:VEVENT
DTSTART;TZID=America/New_York:20270808T113000
DTEND;TZID=America/New_York:20270808T123000
DTSTAMP:20260419T171634
CREATED:20220621T151126Z
LAST-MODIFIED:20230131T004016Z
UID:10005840-1817724600-1817728200@olddutchchurch.org
SUMMARY:ACA
DESCRIPTION:ACA in OMG
URL:https://olddutchchurch.org/event/aca/2027-08-08/
LOCATION:Old Dutch Church\, Wall Street\, Kingston\, 272 Wall Street\, Kingston\, NY\, 12401\, United States
END:VEVENT
BEGIN:VEVENT
DTSTART;TZID=America/New_York:20270808T190000
DTEND;TZID=America/New_York:20270808T213000
DTSTAMP:20260419T171634
CREATED:20220621T152603Z
LAST-MODIFIED:20230131T005403Z
UID:10008398-1817751600-1817760600@olddutchchurch.org
SUMMARY:SLAA Women’s Group
DESCRIPTION:SLAA in OMG
URL:https://olddutchchurch.org/event/slaa-3/2027-08-08/
LOCATION:NY
END:VEVENT
BEGIN:VEVENT
DTSTART;TZID=America/New_York:20270809T170000
DTEND;TZID=America/New_York:20270809T180000
DTSTAMP:20260419T171634
CREATED:20230131T005556Z
LAST-MODIFIED:20230131T005556Z
UID:10009963-1817830800-1817834400@olddutchchurch.org
SUMMARY:SLAA Augustine Fellowship
DESCRIPTION:
URL:https://olddutchchurch.org/event/slaa-augustine-fellowship/2027-08-09/
LOCATION:NY
END:VEVENT
BEGIN:VEVENT
DTSTART;TZID=America/New_York:20270809T183000
DTEND;TZID=America/New_York:20270809T210000
DTSTAMP:20260419T171634
CREATED:20250624T172435Z
LAST-MODIFIED:20250624T172436Z
UID:10006343-1817836200-1817845200@olddutchchurch.org
SUMMARY:Mendelssohn Club
DESCRIPTION:
URL:https://olddutchchurch.org/event/mendelssohn-club-2-2/2027-08-09/
LOCATION:NY
END:VEVENT
BEGIN:VEVENT
DTSTART;TZID=America/New_York:20270809T190000
DTEND;TZID=America/New_York:20270809T200000
DTSTAMP:20260419T171634
CREATED:20230131T004717Z
LAST-MODIFIED:20230131T004717Z
UID:10009696-1817838000-1817841600@olddutchchurch.org
SUMMARY:Debtors’ Anonymous
DESCRIPTION:
URL:https://olddutchchurch.org/event/debtors-anonymous/2027-08-09/
LOCATION:NY
END:VEVENT
BEGIN:VEVENT
DTSTART;TZID=America/New_York:20270811T120000
DTEND;TZID=America/New_York:20270811T130000
DTSTAMP:20260419T171634
CREATED:20250625T194104Z
LAST-MODIFIED:20250625T194104Z
UID:10011789-1817985600-1817989200@olddutchchurch.org
SUMMARY:ACA
DESCRIPTION:
URL:https://olddutchchurch.org/event/aca-2/2027-08-11/
LOCATION:NY
END:VEVENT
BEGIN:VEVENT
DTSTART;TZID=America/New_York:20270811T130000
DTEND;TZID=America/New_York:20270811T140000
DTSTAMP:20260419T171634
CREATED:20220621T152107Z
LAST-MODIFIED:20250624T163908Z
UID:10007478-1817989200-1817992800@olddutchchurch.org
SUMMARY:Community Chorus (on hiatus until Fall)
DESCRIPTION:Community Chorus in Bethany Hall
URL:https://olddutchchurch.org/event/community-chorus/2027-08-11/
LOCATION:NY
END:VEVENT
BEGIN:VEVENT
DTSTART;TZID=America/New_York:20270811T180000
DTEND;TZID=America/New_York:20270811T210000
DTSTAMP:20260419T171634
CREATED:20230131T003225Z
LAST-MODIFIED:20250624T171339Z
UID:10007178-1818007200-1818018000@olddutchchurch.org
SUMMARY:Ubaka Hill Drum Circle
DESCRIPTION:
URL:https://olddutchchurch.org/event/ubaka-hill-drum-circle/2027-08-11/
LOCATION:NY
END:VEVENT
BEGIN:VEVENT
DTSTART;TZID=America/New_York:20270812T183000
DTEND;TZID=America/New_York:20270812T193000
DTSTAMP:20260419T171634
CREATED:20230131T004310Z
LAST-MODIFIED:20230131T004310Z
UID:10009429-1818095400-1818099000@olddutchchurch.org
SUMMARY:ACA Book Group
DESCRIPTION:Meeting every other week
URL:https://olddutchchurch.org/event/aca-book-group/2027-08-12/
LOCATION:NY
END:VEVENT
BEGIN:VEVENT
DTSTART;TZID=America/New_York:20270812T190000
DTEND;TZID=America/New_York:20270812T200000
DTSTAMP:20260419T171634
CREATED:20230131T003704Z
LAST-MODIFIED:20230131T003704Z
UID:10008131-1818097200-1818100800@olddutchchurch.org
SUMMARY:AA
DESCRIPTION:
URL:https://olddutchchurch.org/event/aa/2027-08-12/
LOCATION:NY
END:VEVENT
BEGIN:VEVENT
DTSTART;TZID=America/New_York:20270814T210000
DTEND;TZID=America/New_York:20270814T220000
DTSTAMP:20260419T171634
CREATED:20230131T003843Z
LAST-MODIFIED:20230131T003843Z
UID:10008667-1818277200-1818280800@olddutchchurch.org
SUMMARY:AA Book Group
DESCRIPTION:
URL:https://olddutchchurch.org/event/aa-book-group/2027-08-14/
LOCATION:NY
END:VEVENT
BEGIN:VEVENT
DTSTART;TZID=America/New_York:20270815T103000
DTEND;TZID=America/New_York:20270815T113000
DTSTAMP:20260419T171634
CREATED:20220621T145509Z
LAST-MODIFIED:20230131T010033Z
UID:10005541-1818325800-1818329400@olddutchchurch.org
SUMMARY:Sunday Worship
DESCRIPTION:Sunday worship in the Sanctuary
URL:https://olddutchchurch.org/event/sunday-worship/2027-08-15/
LOCATION:Old Dutch Church\, Wall Street\, Kingston\, 272 Wall Street\, Kingston\, NY\, 12401\, United States
END:VEVENT
BEGIN:VEVENT
DTSTART;TZID=America/New_York:20270815T113000
DTEND;TZID=America/New_York:20270815T123000
DTSTAMP:20260419T171634
CREATED:20220621T151126Z
LAST-MODIFIED:20230131T004016Z
UID:10005841-1818329400-1818333000@olddutchchurch.org
SUMMARY:ACA
DESCRIPTION:ACA in OMG
URL:https://olddutchchurch.org/event/aca/2027-08-15/
LOCATION:Old Dutch Church\, Wall Street\, Kingston\, 272 Wall Street\, Kingston\, NY\, 12401\, United States
END:VEVENT
BEGIN:VEVENT
DTSTART;TZID=America/New_York:20270815T190000
DTEND;TZID=America/New_York:20270815T213000
DTSTAMP:20260419T171634
CREATED:20220621T152603Z
LAST-MODIFIED:20230131T005403Z
UID:10008399-1818356400-1818365400@olddutchchurch.org
SUMMARY:SLAA Women’s Group
DESCRIPTION:SLAA in OMG
URL:https://olddutchchurch.org/event/slaa-3/2027-08-15/
LOCATION:NY
END:VEVENT
BEGIN:VEVENT
DTSTART;TZID=America/New_York:20270816T170000
DTEND;TZID=America/New_York:20270816T180000
DTSTAMP:20260419T171634
CREATED:20230131T005556Z
LAST-MODIFIED:20230131T005556Z
UID:10009964-1818435600-1818439200@olddutchchurch.org
SUMMARY:SLAA Augustine Fellowship
DESCRIPTION:
URL:https://olddutchchurch.org/event/slaa-augustine-fellowship/2027-08-16/
LOCATION:NY
END:VEVENT
BEGIN:VEVENT
DTSTART;TZID=America/New_York:20270816T183000
DTEND;TZID=America/New_York:20270816T210000
DTSTAMP:20260419T171634
CREATED:20250624T172435Z
LAST-MODIFIED:20250624T172436Z
UID:10006344-1818441000-1818450000@olddutchchurch.org
SUMMARY:Mendelssohn Club
DESCRIPTION:
URL:https://olddutchchurch.org/event/mendelssohn-club-2-2/2027-08-16/
LOCATION:NY
END:VEVENT
BEGIN:VEVENT
DTSTART;TZID=America/New_York:20270816T190000
DTEND;TZID=America/New_York:20270816T200000
DTSTAMP:20260419T171634
CREATED:20230131T004717Z
LAST-MODIFIED:20230131T004717Z
UID:10009697-1818442800-1818446400@olddutchchurch.org
SUMMARY:Debtors’ Anonymous
DESCRIPTION:
URL:https://olddutchchurch.org/event/debtors-anonymous/2027-08-16/
LOCATION:NY
END:VEVENT
BEGIN:VEVENT
DTSTART;TZID=America/New_York:20270818T120000
DTEND;TZID=America/New_York:20270818T130000
DTSTAMP:20260419T171634
CREATED:20250625T194104Z
LAST-MODIFIED:20250625T194104Z
UID:10011790-1818590400-1818594000@olddutchchurch.org
SUMMARY:ACA
DESCRIPTION:
URL:https://olddutchchurch.org/event/aca-2/2027-08-18/
LOCATION:NY
END:VEVENT
BEGIN:VEVENT
DTSTART;TZID=America/New_York:20270818T130000
DTEND;TZID=America/New_York:20270818T140000
DTSTAMP:20260419T171634
CREATED:20220621T152107Z
LAST-MODIFIED:20250624T163908Z
UID:10007479-1818594000-1818597600@olddutchchurch.org
SUMMARY:Community Chorus (on hiatus until Fall)
DESCRIPTION:Community Chorus in Bethany Hall
URL:https://olddutchchurch.org/event/community-chorus/2027-08-18/
LOCATION:NY
END:VEVENT
BEGIN:VEVENT
DTSTART;TZID=America/New_York:20270818T180000
DTEND;TZID=America/New_York:20270818T210000
DTSTAMP:20260419T171634
CREATED:20230131T003225Z
LAST-MODIFIED:20250624T171339Z
UID:10007179-1818612000-1818622800@olddutchchurch.org
SUMMARY:Ubaka Hill Drum Circle
DESCRIPTION:
URL:https://olddutchchurch.org/event/ubaka-hill-drum-circle/2027-08-18/
LOCATION:NY
END:VEVENT
END:VCALENDAR