BEGIN:VCALENDAR
VERSION:2.0
PRODID:-//Old Dutch Church - ECPv6.15.20//NONSGML v1.0//EN
CALSCALE:GREGORIAN
METHOD:PUBLISH
X-WR-CALNAME:Old Dutch Church
X-ORIGINAL-URL:https://olddutchchurch.org
X-WR-CALDESC:Events for Old Dutch Church
REFRESH-INTERVAL;VALUE=DURATION:PT1H
X-Robots-Tag:noindex
X-PUBLISHED-TTL:PT1H
BEGIN:VTIMEZONE
TZID:America/New_York
BEGIN:DAYLIGHT
TZOFFSETFROM:-0500
TZOFFSETTO:-0400
TZNAME:EDT
DTSTART:20260308T070000
END:DAYLIGHT
BEGIN:STANDARD
TZOFFSETFROM:-0400
TZOFFSETTO:-0500
TZNAME:EST
DTSTART:20261101T060000
END:STANDARD
BEGIN:DAYLIGHT
TZOFFSETFROM:-0500
TZOFFSETTO:-0400
TZNAME:EDT
DTSTART:20270314T070000
END:DAYLIGHT
BEGIN:STANDARD
TZOFFSETFROM:-0400
TZOFFSETTO:-0500
TZNAME:EST
DTSTART:20271107T060000
END:STANDARD
BEGIN:DAYLIGHT
TZOFFSETFROM:-0500
TZOFFSETTO:-0400
TZNAME:EDT
DTSTART:20280312T070000
END:DAYLIGHT
BEGIN:STANDARD
TZOFFSETFROM:-0400
TZOFFSETTO:-0500
TZNAME:EST
DTSTART:20281105T060000
END:STANDARD
END:VTIMEZONE
BEGIN:VEVENT
DTSTART;TZID=America/New_York:20271122T170000
DTEND;TZID=America/New_York:20271122T180000
DTSTAMP:20260419T233332
CREATED:20230131T005556Z
LAST-MODIFIED:20230131T005556Z
UID:10009978-1826902800-1826906400@olddutchchurch.org
SUMMARY:SLAA Augustine Fellowship
DESCRIPTION:
URL:https://olddutchchurch.org/event/slaa-augustine-fellowship/2027-11-22/
LOCATION:NY
END:VEVENT
BEGIN:VEVENT
DTSTART;TZID=America/New_York:20271122T183000
DTEND;TZID=America/New_York:20271122T210000
DTSTAMP:20260419T233332
CREATED:20250624T172435Z
LAST-MODIFIED:20250624T172436Z
UID:10006358-1826908200-1826917200@olddutchchurch.org
SUMMARY:Mendelssohn Club
DESCRIPTION:
URL:https://olddutchchurch.org/event/mendelssohn-club-2-2/2027-11-22/
LOCATION:NY
END:VEVENT
BEGIN:VEVENT
DTSTART;TZID=America/New_York:20271122T190000
DTEND;TZID=America/New_York:20271122T200000
DTSTAMP:20260419T233332
CREATED:20230131T004717Z
LAST-MODIFIED:20230131T004717Z
UID:10009711-1826910000-1826913600@olddutchchurch.org
SUMMARY:Debtors’ Anonymous
DESCRIPTION:
URL:https://olddutchchurch.org/event/debtors-anonymous/2027-11-22/
LOCATION:NY
END:VEVENT
BEGIN:VEVENT
DTSTART;TZID=America/New_York:20271124T120000
DTEND;TZID=America/New_York:20271124T130000
DTSTAMP:20260419T233332
CREATED:20250625T194104Z
LAST-MODIFIED:20250625T194104Z
UID:10011804-1827057600-1827061200@olddutchchurch.org
SUMMARY:ACA
DESCRIPTION:
URL:https://olddutchchurch.org/event/aca-2/2027-11-24/
LOCATION:NY
END:VEVENT
BEGIN:VEVENT
DTSTART;TZID=America/New_York:20271124T130000
DTEND;TZID=America/New_York:20271124T140000
DTSTAMP:20260419T233332
CREATED:20220621T152107Z
LAST-MODIFIED:20250624T163908Z
UID:10007493-1827061200-1827064800@olddutchchurch.org
SUMMARY:Community Chorus (on hiatus until Fall)
DESCRIPTION:Community Chorus in Bethany Hall
URL:https://olddutchchurch.org/event/community-chorus/2027-11-24/
LOCATION:NY
END:VEVENT
BEGIN:VEVENT
DTSTART;TZID=America/New_York:20271124T180000
DTEND;TZID=America/New_York:20271124T210000
DTSTAMP:20260419T233332
CREATED:20230131T003225Z
LAST-MODIFIED:20250624T171339Z
UID:10007193-1827079200-1827090000@olddutchchurch.org
SUMMARY:Ubaka Hill Drum Circle
DESCRIPTION:
URL:https://olddutchchurch.org/event/ubaka-hill-drum-circle/2027-11-24/
LOCATION:NY
END:VEVENT
BEGIN:VEVENT
DTSTART;TZID=America/New_York:20271125T183000
DTEND;TZID=America/New_York:20271125T193000
DTSTAMP:20260419T233332
CREATED:20230131T004310Z
LAST-MODIFIED:20230131T004310Z
UID:10009444-1827167400-1827171000@olddutchchurch.org
SUMMARY:ACA Book Group
DESCRIPTION:Meeting every other week
URL:https://olddutchchurch.org/event/aca-book-group/2027-11-25/
LOCATION:NY
END:VEVENT
BEGIN:VEVENT
DTSTART;TZID=America/New_York:20271125T190000
DTEND;TZID=America/New_York:20271125T200000
DTSTAMP:20260419T233332
CREATED:20230131T003704Z
LAST-MODIFIED:20230131T003704Z
UID:10008146-1827169200-1827172800@olddutchchurch.org
SUMMARY:AA
DESCRIPTION:
URL:https://olddutchchurch.org/event/aa/2027-11-25/
LOCATION:NY
END:VEVENT
BEGIN:VEVENT
DTSTART;TZID=America/New_York:20271127T210000
DTEND;TZID=America/New_York:20271127T220000
DTSTAMP:20260419T233332
CREATED:20230131T003843Z
LAST-MODIFIED:20230131T003843Z
UID:10008682-1827349200-1827352800@olddutchchurch.org
SUMMARY:AA Book Group
DESCRIPTION:
URL:https://olddutchchurch.org/event/aa-book-group/2027-11-27/
LOCATION:NY
END:VEVENT
BEGIN:VEVENT
DTSTART;TZID=America/New_York:20271128T103000
DTEND;TZID=America/New_York:20271128T113000
DTSTAMP:20260419T233332
CREATED:20220621T145509Z
LAST-MODIFIED:20230131T010033Z
UID:10005556-1827397800-1827401400@olddutchchurch.org
SUMMARY:Sunday Worship
DESCRIPTION:Sunday worship in the Sanctuary
URL:https://olddutchchurch.org/event/sunday-worship/2027-11-28/
LOCATION:Old Dutch Church\, Wall Street\, Kingston\, 272 Wall Street\, Kingston\, NY\, 12401\, United States
END:VEVENT
BEGIN:VEVENT
DTSTART;TZID=America/New_York:20271128T113000
DTEND;TZID=America/New_York:20271128T123000
DTSTAMP:20260419T233332
CREATED:20220621T151126Z
LAST-MODIFIED:20230131T004016Z
UID:10005856-1827401400-1827405000@olddutchchurch.org
SUMMARY:ACA
DESCRIPTION:ACA in OMG
URL:https://olddutchchurch.org/event/aca/2027-11-28/
LOCATION:Old Dutch Church\, Wall Street\, Kingston\, 272 Wall Street\, Kingston\, NY\, 12401\, United States
END:VEVENT
BEGIN:VEVENT
DTSTART;TZID=America/New_York:20271128T190000
DTEND;TZID=America/New_York:20271128T213000
DTSTAMP:20260419T233332
CREATED:20220621T152603Z
LAST-MODIFIED:20230131T005403Z
UID:10008414-1827428400-1827437400@olddutchchurch.org
SUMMARY:SLAA Women’s Group
DESCRIPTION:SLAA in OMG
URL:https://olddutchchurch.org/event/slaa-3/2027-11-28/
LOCATION:NY
END:VEVENT
BEGIN:VEVENT
DTSTART;TZID=America/New_York:20271129T170000
DTEND;TZID=America/New_York:20271129T180000
DTSTAMP:20260419T233332
CREATED:20230131T005556Z
LAST-MODIFIED:20230131T005556Z
UID:10009979-1827507600-1827511200@olddutchchurch.org
SUMMARY:SLAA Augustine Fellowship
DESCRIPTION:
URL:https://olddutchchurch.org/event/slaa-augustine-fellowship/2027-11-29/
LOCATION:NY
END:VEVENT
BEGIN:VEVENT
DTSTART;TZID=America/New_York:20271129T183000
DTEND;TZID=America/New_York:20271129T210000
DTSTAMP:20260419T233332
CREATED:20250624T172435Z
LAST-MODIFIED:20250624T172436Z
UID:10006359-1827513000-1827522000@olddutchchurch.org
SUMMARY:Mendelssohn Club
DESCRIPTION:
URL:https://olddutchchurch.org/event/mendelssohn-club-2-2/2027-11-29/
LOCATION:NY
END:VEVENT
BEGIN:VEVENT
DTSTART;TZID=America/New_York:20271129T190000
DTEND;TZID=America/New_York:20271129T200000
DTSTAMP:20260419T233332
CREATED:20230131T004717Z
LAST-MODIFIED:20230131T004717Z
UID:10009712-1827514800-1827518400@olddutchchurch.org
SUMMARY:Debtors’ Anonymous
DESCRIPTION:
URL:https://olddutchchurch.org/event/debtors-anonymous/2027-11-29/
LOCATION:NY
END:VEVENT
BEGIN:VEVENT
DTSTART;TZID=America/New_York:20271201T120000
DTEND;TZID=America/New_York:20271201T130000
DTSTAMP:20260419T233332
CREATED:20250625T194104Z
LAST-MODIFIED:20250625T194104Z
UID:10011805-1827662400-1827666000@olddutchchurch.org
SUMMARY:ACA
DESCRIPTION:
URL:https://olddutchchurch.org/event/aca-2/2027-12-01/
LOCATION:NY
END:VEVENT
BEGIN:VEVENT
DTSTART;TZID=America/New_York:20271201T130000
DTEND;TZID=America/New_York:20271201T140000
DTSTAMP:20260419T233332
CREATED:20220621T152107Z
LAST-MODIFIED:20250624T163908Z
UID:10007494-1827666000-1827669600@olddutchchurch.org
SUMMARY:Community Chorus (on hiatus until Fall)
DESCRIPTION:Community Chorus in Bethany Hall
URL:https://olddutchchurch.org/event/community-chorus/2027-12-01/
LOCATION:NY
END:VEVENT
BEGIN:VEVENT
DTSTART;TZID=America/New_York:20271201T180000
DTEND;TZID=America/New_York:20271201T210000
DTSTAMP:20260419T233332
CREATED:20230131T003225Z
LAST-MODIFIED:20250624T171339Z
UID:10007194-1827684000-1827694800@olddutchchurch.org
SUMMARY:Ubaka Hill Drum Circle
DESCRIPTION:
URL:https://olddutchchurch.org/event/ubaka-hill-drum-circle/2027-12-01/
LOCATION:NY
END:VEVENT
BEGIN:VEVENT
DTSTART;TZID=America/New_York:20271202T183000
DTEND;TZID=America/New_York:20271202T193000
DTSTAMP:20260419T233332
CREATED:20230131T004310Z
LAST-MODIFIED:20230131T004310Z
UID:10009445-1827772200-1827775800@olddutchchurch.org
SUMMARY:ACA Book Group
DESCRIPTION:Meeting every other week
URL:https://olddutchchurch.org/event/aca-book-group/2027-12-02/
LOCATION:NY
END:VEVENT
BEGIN:VEVENT
DTSTART;TZID=America/New_York:20271202T190000
DTEND;TZID=America/New_York:20271202T200000
DTSTAMP:20260419T233332
CREATED:20230131T003704Z
LAST-MODIFIED:20230131T003704Z
UID:10008147-1827774000-1827777600@olddutchchurch.org
SUMMARY:AA
DESCRIPTION:
URL:https://olddutchchurch.org/event/aa/2027-12-02/
LOCATION:NY
END:VEVENT
BEGIN:VEVENT
DTSTART;TZID=America/New_York:20271204T210000
DTEND;TZID=America/New_York:20271204T220000
DTSTAMP:20260419T233332
CREATED:20230131T003843Z
LAST-MODIFIED:20230131T003843Z
UID:10008683-1827954000-1827957600@olddutchchurch.org
SUMMARY:AA Book Group
DESCRIPTION:
URL:https://olddutchchurch.org/event/aa-book-group/2027-12-04/
LOCATION:NY
END:VEVENT
BEGIN:VEVENT
DTSTART;TZID=America/New_York:20271205T103000
DTEND;TZID=America/New_York:20271205T113000
DTSTAMP:20260419T233332
CREATED:20220621T145509Z
LAST-MODIFIED:20230131T010033Z
UID:10005557-1828002600-1828006200@olddutchchurch.org
SUMMARY:Sunday Worship
DESCRIPTION:Sunday worship in the Sanctuary
URL:https://olddutchchurch.org/event/sunday-worship/2027-12-05/
LOCATION:Old Dutch Church\, Wall Street\, Kingston\, 272 Wall Street\, Kingston\, NY\, 12401\, United States
END:VEVENT
BEGIN:VEVENT
DTSTART;TZID=America/New_York:20271205T113000
DTEND;TZID=America/New_York:20271205T123000
DTSTAMP:20260419T233332
CREATED:20220621T151126Z
LAST-MODIFIED:20230131T004016Z
UID:10005857-1828006200-1828009800@olddutchchurch.org
SUMMARY:ACA
DESCRIPTION:ACA in OMG
URL:https://olddutchchurch.org/event/aca/2027-12-05/
LOCATION:Old Dutch Church\, Wall Street\, Kingston\, 272 Wall Street\, Kingston\, NY\, 12401\, United States
END:VEVENT
BEGIN:VEVENT
DTSTART;TZID=America/New_York:20271205T190000
DTEND;TZID=America/New_York:20271205T213000
DTSTAMP:20260419T233332
CREATED:20220621T152603Z
LAST-MODIFIED:20230131T005403Z
UID:10008415-1828033200-1828042200@olddutchchurch.org
SUMMARY:SLAA Women’s Group
DESCRIPTION:SLAA in OMG
URL:https://olddutchchurch.org/event/slaa-3/2027-12-05/
LOCATION:NY
END:VEVENT
BEGIN:VEVENT
DTSTART;TZID=America/New_York:20271206T170000
DTEND;TZID=America/New_York:20271206T180000
DTSTAMP:20260419T233332
CREATED:20230131T005556Z
LAST-MODIFIED:20230131T005556Z
UID:10009980-1828112400-1828116000@olddutchchurch.org
SUMMARY:SLAA Augustine Fellowship
DESCRIPTION:
URL:https://olddutchchurch.org/event/slaa-augustine-fellowship/2027-12-06/
LOCATION:NY
END:VEVENT
BEGIN:VEVENT
DTSTART;TZID=America/New_York:20271206T183000
DTEND;TZID=America/New_York:20271206T210000
DTSTAMP:20260419T233332
CREATED:20250624T172435Z
LAST-MODIFIED:20250624T172436Z
UID:10006360-1828117800-1828126800@olddutchchurch.org
SUMMARY:Mendelssohn Club
DESCRIPTION:
URL:https://olddutchchurch.org/event/mendelssohn-club-2-2/2027-12-06/
LOCATION:NY
END:VEVENT
BEGIN:VEVENT
DTSTART;TZID=America/New_York:20271206T190000
DTEND;TZID=America/New_York:20271206T200000
DTSTAMP:20260419T233332
CREATED:20230131T004717Z
LAST-MODIFIED:20230131T004717Z
UID:10009713-1828119600-1828123200@olddutchchurch.org
SUMMARY:Debtors’ Anonymous
DESCRIPTION:
URL:https://olddutchchurch.org/event/debtors-anonymous/2027-12-06/
LOCATION:NY
END:VEVENT
BEGIN:VEVENT
DTSTART;TZID=America/New_York:20271208T120000
DTEND;TZID=America/New_York:20271208T130000
DTSTAMP:20260419T233332
CREATED:20250625T194104Z
LAST-MODIFIED:20250625T194104Z
UID:10011806-1828267200-1828270800@olddutchchurch.org
SUMMARY:ACA
DESCRIPTION:
URL:https://olddutchchurch.org/event/aca-2/2027-12-08/
LOCATION:NY
END:VEVENT
BEGIN:VEVENT
DTSTART;TZID=America/New_York:20271208T130000
DTEND;TZID=America/New_York:20271208T140000
DTSTAMP:20260419T233332
CREATED:20220621T152107Z
LAST-MODIFIED:20250624T163908Z
UID:10007495-1828270800-1828274400@olddutchchurch.org
SUMMARY:Community Chorus (on hiatus until Fall)
DESCRIPTION:Community Chorus in Bethany Hall
URL:https://olddutchchurch.org/event/community-chorus/2027-12-08/
LOCATION:NY
END:VEVENT
BEGIN:VEVENT
DTSTART;TZID=America/New_York:20271208T180000
DTEND;TZID=America/New_York:20271208T210000
DTSTAMP:20260419T233332
CREATED:20230131T003225Z
LAST-MODIFIED:20250624T171339Z
UID:10007195-1828288800-1828299600@olddutchchurch.org
SUMMARY:Ubaka Hill Drum Circle
DESCRIPTION:
URL:https://olddutchchurch.org/event/ubaka-hill-drum-circle/2027-12-08/
LOCATION:NY
END:VEVENT
END:VCALENDAR