BEGIN:VCALENDAR
VERSION:2.0
PRODID:-//Old Dutch Church - ECPv6.15.20//NONSGML v1.0//EN
CALSCALE:GREGORIAN
METHOD:PUBLISH
X-ORIGINAL-URL:https://olddutchchurch.org
X-WR-CALDESC:Events for Old Dutch Church
REFRESH-INTERVAL;VALUE=DURATION:PT1H
X-Robots-Tag:noindex
X-PUBLISHED-TTL:PT1H
BEGIN:VTIMEZONE
TZID:America/New_York
BEGIN:DAYLIGHT
TZOFFSETFROM:-0500
TZOFFSETTO:-0400
TZNAME:EDT
DTSTART:20230312T070000
END:DAYLIGHT
BEGIN:STANDARD
TZOFFSETFROM:-0400
TZOFFSETTO:-0500
TZNAME:EST
DTSTART:20231105T060000
END:STANDARD
BEGIN:DAYLIGHT
TZOFFSETFROM:-0500
TZOFFSETTO:-0400
TZNAME:EDT
DTSTART:20240310T070000
END:DAYLIGHT
BEGIN:STANDARD
TZOFFSETFROM:-0400
TZOFFSETTO:-0500
TZNAME:EST
DTSTART:20241103T060000
END:STANDARD
BEGIN:DAYLIGHT
TZOFFSETFROM:-0500
TZOFFSETTO:-0400
TZNAME:EDT
DTSTART:20250309T070000
END:DAYLIGHT
BEGIN:STANDARD
TZOFFSETFROM:-0400
TZOFFSETTO:-0500
TZNAME:EST
DTSTART:20251102T060000
END:STANDARD
BEGIN:DAYLIGHT
TZOFFSETFROM:-0500
TZOFFSETTO:-0400
TZNAME:EDT
DTSTART:20260308T070000
END:DAYLIGHT
BEGIN:STANDARD
TZOFFSETFROM:-0400
TZOFFSETTO:-0500
TZNAME:EST
DTSTART:20261101T060000
END:STANDARD
END:VTIMEZONE
BEGIN:VEVENT
DTSTART;TZID=America/New_York:20241207T100000
DTEND;TZID=America/New_York:20250329T140000
DTSTAMP:20260421T083635
CREATED:20230112T191253Z
LAST-MODIFIED:20240926T041126Z
UID:10009191-1733565600-1743256800@olddutchchurch.org
SUMMARY:The Kingston Farmer's Market
DESCRIPTION:The Kingston Farmer’s Market is held in Bethany Hall every other Saturday from 10am to 2pm throughout the winter. Market dates are 12/7\, 12/21\, 1/4\, 1/18\, 2/1\, 2/15\, 3/1\, 3/15\, and 3/29.
URL:https://olddutchchurch.org/event/the-kingston-farmers-market-2/
LOCATION:Old Dutch Church\, Wall Street\, Kingston\, 272 Wall Street\, Kingston\, NY\, 12401\, United States
END:VEVENT
BEGIN:VEVENT
DTSTART;TZID=America/New_York:20250205T130000
DTEND;TZID=America/New_York:20250205T140000
DTSTAMP:20260421T083635
CREATED:20220621T152107Z
LAST-MODIFIED:20250624T163908Z
UID:10007347-1738760400-1738764000@olddutchchurch.org
SUMMARY:Community Chorus (on hiatus until Fall)
DESCRIPTION:Community Chorus in Bethany Hall
URL:https://olddutchchurch.org/event/community-chorus/2025-02-05/
LOCATION:NY
END:VEVENT
BEGIN:VEVENT
DTSTART;TZID=America/New_York:20250205T180000
DTEND;TZID=America/New_York:20250205T210000
DTSTAMP:20260421T083635
CREATED:20230131T003225Z
LAST-MODIFIED:20250624T171339Z
UID:10007047-1738778400-1738789200@olddutchchurch.org
SUMMARY:Ubaka Hill Drum Circle
DESCRIPTION:
URL:https://olddutchchurch.org/event/ubaka-hill-drum-circle/2025-02-05/
LOCATION:NY
END:VEVENT
BEGIN:VEVENT
DTSTART;TZID=America/New_York:20250206T183000
DTEND;TZID=America/New_York:20250206T193000
DTSTAMP:20260421T083635
CREATED:20230131T004310Z
LAST-MODIFIED:20230131T004310Z
UID:10009298-1738866600-1738870200@olddutchchurch.org
SUMMARY:ACA Book Group
DESCRIPTION:Meeting every other week
URL:https://olddutchchurch.org/event/aca-book-group/2025-02-06/
LOCATION:NY
END:VEVENT
BEGIN:VEVENT
DTSTART;TZID=America/New_York:20250206T190000
DTEND;TZID=America/New_York:20250206T200000
DTSTAMP:20260421T083635
CREATED:20230131T003704Z
LAST-MODIFIED:20230131T003704Z
UID:10008000-1738868400-1738872000@olddutchchurch.org
SUMMARY:AA
DESCRIPTION:
URL:https://olddutchchurch.org/event/aa/2025-02-06/
LOCATION:NY
END:VEVENT
BEGIN:VEVENT
DTSTART;TZID=America/New_York:20250208T210000
DTEND;TZID=America/New_York:20250208T220000
DTSTAMP:20260421T083635
CREATED:20230131T003843Z
LAST-MODIFIED:20230131T003843Z
UID:10008536-1739048400-1739052000@olddutchchurch.org
SUMMARY:AA Book Group
DESCRIPTION:
URL:https://olddutchchurch.org/event/aa-book-group/2025-02-08/
LOCATION:NY
END:VEVENT
BEGIN:VEVENT
DTSTART;TZID=America/New_York:20250209T103000
DTEND;TZID=America/New_York:20250209T113000
DTSTAMP:20260421T083635
CREATED:20220621T145509Z
LAST-MODIFIED:20230131T010033Z
UID:10005410-1739097000-1739100600@olddutchchurch.org
SUMMARY:Sunday Worship
DESCRIPTION:Sunday worship in the Sanctuary
URL:https://olddutchchurch.org/event/sunday-worship/2025-02-09/
LOCATION:Old Dutch Church\, Wall Street\, Kingston\, 272 Wall Street\, Kingston\, NY\, 12401\, United States
END:VEVENT
BEGIN:VEVENT
DTSTART;TZID=America/New_York:20250209T113000
DTEND;TZID=America/New_York:20250209T123000
DTSTAMP:20260421T083635
CREATED:20220621T151126Z
LAST-MODIFIED:20230131T004016Z
UID:10005710-1739100600-1739104200@olddutchchurch.org
SUMMARY:ACA
DESCRIPTION:ACA in OMG
URL:https://olddutchchurch.org/event/aca/2025-02-09/
LOCATION:Old Dutch Church\, Wall Street\, Kingston\, 272 Wall Street\, Kingston\, NY\, 12401\, United States
END:VEVENT
BEGIN:VEVENT
DTSTART;TZID=America/New_York:20250209T190000
DTEND;TZID=America/New_York:20250209T213000
DTSTAMP:20260421T083635
CREATED:20220621T152603Z
LAST-MODIFIED:20230131T005403Z
UID:10008268-1739127600-1739136600@olddutchchurch.org
SUMMARY:SLAA Women’s Group
DESCRIPTION:SLAA in OMG
URL:https://olddutchchurch.org/event/slaa-3/2025-02-09/
LOCATION:NY
END:VEVENT
BEGIN:VEVENT
DTSTART;TZID=America/New_York:20250210T170000
DTEND;TZID=America/New_York:20250210T180000
DTSTAMP:20260421T083635
CREATED:20230131T005556Z
LAST-MODIFIED:20230131T005556Z
UID:10009833-1739206800-1739210400@olddutchchurch.org
SUMMARY:SLAA Augustine Fellowship
DESCRIPTION:
URL:https://olddutchchurch.org/event/slaa-augustine-fellowship/2025-02-10/
LOCATION:NY
END:VEVENT
BEGIN:VEVENT
DTSTART;TZID=America/New_York:20250210T190000
DTEND;TZID=America/New_York:20250210T200000
DTSTAMP:20260421T083635
CREATED:20230131T004717Z
LAST-MODIFIED:20230131T004717Z
UID:10009566-1739214000-1739217600@olddutchchurch.org
SUMMARY:Debtors’ Anonymous
DESCRIPTION:
URL:https://olddutchchurch.org/event/debtors-anonymous/2025-02-10/
LOCATION:NY
END:VEVENT
BEGIN:VEVENT
DTSTART;TZID=America/New_York:20250212T130000
DTEND;TZID=America/New_York:20250212T140000
DTSTAMP:20260421T083635
CREATED:20220621T152107Z
LAST-MODIFIED:20250624T163908Z
UID:10007348-1739365200-1739368800@olddutchchurch.org
SUMMARY:Community Chorus (on hiatus until Fall)
DESCRIPTION:Community Chorus in Bethany Hall
URL:https://olddutchchurch.org/event/community-chorus/2025-02-12/
LOCATION:NY
END:VEVENT
BEGIN:VEVENT
DTSTART;TZID=America/New_York:20250212T180000
DTEND;TZID=America/New_York:20250212T210000
DTSTAMP:20260421T083635
CREATED:20230131T003225Z
LAST-MODIFIED:20250624T171339Z
UID:10007048-1739383200-1739394000@olddutchchurch.org
SUMMARY:Ubaka Hill Drum Circle
DESCRIPTION:
URL:https://olddutchchurch.org/event/ubaka-hill-drum-circle/2025-02-12/
LOCATION:NY
END:VEVENT
BEGIN:VEVENT
DTSTART;TZID=America/New_York:20250213T183000
DTEND;TZID=America/New_York:20250213T193000
DTSTAMP:20260421T083635
CREATED:20230131T004310Z
LAST-MODIFIED:20230131T004310Z
UID:10009299-1739471400-1739475000@olddutchchurch.org
SUMMARY:ACA Book Group
DESCRIPTION:Meeting every other week
URL:https://olddutchchurch.org/event/aca-book-group/2025-02-13/
LOCATION:NY
END:VEVENT
BEGIN:VEVENT
DTSTART;TZID=America/New_York:20250213T190000
DTEND;TZID=America/New_York:20250213T200000
DTSTAMP:20260421T083635
CREATED:20230131T003704Z
LAST-MODIFIED:20230131T003704Z
UID:10008001-1739473200-1739476800@olddutchchurch.org
SUMMARY:AA
DESCRIPTION:
URL:https://olddutchchurch.org/event/aa/2025-02-13/
LOCATION:NY
END:VEVENT
BEGIN:VEVENT
DTSTART;TZID=America/New_York:20250215T210000
DTEND;TZID=America/New_York:20250215T220000
DTSTAMP:20260421T083635
CREATED:20230131T003843Z
LAST-MODIFIED:20230131T003843Z
UID:10008537-1739653200-1739656800@olddutchchurch.org
SUMMARY:AA Book Group
DESCRIPTION:
URL:https://olddutchchurch.org/event/aa-book-group/2025-02-15/
LOCATION:NY
END:VEVENT
BEGIN:VEVENT
DTSTART;TZID=America/New_York:20250216T103000
DTEND;TZID=America/New_York:20250216T113000
DTSTAMP:20260421T083635
CREATED:20220621T145509Z
LAST-MODIFIED:20230131T010033Z
UID:10005411-1739701800-1739705400@olddutchchurch.org
SUMMARY:Sunday Worship
DESCRIPTION:Sunday worship in the Sanctuary
URL:https://olddutchchurch.org/event/sunday-worship/2025-02-16/
LOCATION:Old Dutch Church\, Wall Street\, Kingston\, 272 Wall Street\, Kingston\, NY\, 12401\, United States
END:VEVENT
BEGIN:VEVENT
DTSTART;TZID=America/New_York:20250216T113000
DTEND;TZID=America/New_York:20250216T123000
DTSTAMP:20260421T083635
CREATED:20220621T151126Z
LAST-MODIFIED:20230131T004016Z
UID:10005711-1739705400-1739709000@olddutchchurch.org
SUMMARY:ACA
DESCRIPTION:ACA in OMG
URL:https://olddutchchurch.org/event/aca/2025-02-16/
LOCATION:Old Dutch Church\, Wall Street\, Kingston\, 272 Wall Street\, Kingston\, NY\, 12401\, United States
END:VEVENT
BEGIN:VEVENT
DTSTART;TZID=America/New_York:20250216T190000
DTEND;TZID=America/New_York:20250216T213000
DTSTAMP:20260421T083635
CREATED:20220621T152603Z
LAST-MODIFIED:20230131T005403Z
UID:10008269-1739732400-1739741400@olddutchchurch.org
SUMMARY:SLAA Women’s Group
DESCRIPTION:SLAA in OMG
URL:https://olddutchchurch.org/event/slaa-3/2025-02-16/
LOCATION:NY
END:VEVENT
BEGIN:VEVENT
DTSTART;TZID=America/New_York:20250217T170000
DTEND;TZID=America/New_York:20250217T180000
DTSTAMP:20260421T083635
CREATED:20230131T005556Z
LAST-MODIFIED:20230131T005556Z
UID:10009834-1739811600-1739815200@olddutchchurch.org
SUMMARY:SLAA Augustine Fellowship
DESCRIPTION:
URL:https://olddutchchurch.org/event/slaa-augustine-fellowship/2025-02-17/
LOCATION:NY
END:VEVENT
BEGIN:VEVENT
DTSTART;TZID=America/New_York:20250217T190000
DTEND;TZID=America/New_York:20250217T200000
DTSTAMP:20260421T083635
CREATED:20230131T004717Z
LAST-MODIFIED:20230131T004717Z
UID:10009567-1739818800-1739822400@olddutchchurch.org
SUMMARY:Debtors’ Anonymous
DESCRIPTION:
URL:https://olddutchchurch.org/event/debtors-anonymous/2025-02-17/
LOCATION:NY
END:VEVENT
BEGIN:VEVENT
DTSTART;TZID=America/New_York:20250219T130000
DTEND;TZID=America/New_York:20250219T140000
DTSTAMP:20260421T083635
CREATED:20220621T152107Z
LAST-MODIFIED:20250624T163908Z
UID:10007349-1739970000-1739973600@olddutchchurch.org
SUMMARY:Community Chorus (on hiatus until Fall)
DESCRIPTION:Community Chorus in Bethany Hall
URL:https://olddutchchurch.org/event/community-chorus/2025-02-19/
LOCATION:NY
END:VEVENT
BEGIN:VEVENT
DTSTART;TZID=America/New_York:20250219T180000
DTEND;TZID=America/New_York:20250219T210000
DTSTAMP:20260421T083635
CREATED:20230131T003225Z
LAST-MODIFIED:20250624T171339Z
UID:10007049-1739988000-1739998800@olddutchchurch.org
SUMMARY:Ubaka Hill Drum Circle
DESCRIPTION:
URL:https://olddutchchurch.org/event/ubaka-hill-drum-circle/2025-02-19/
LOCATION:NY
END:VEVENT
BEGIN:VEVENT
DTSTART;TZID=America/New_York:20250220T183000
DTEND;TZID=America/New_York:20250220T193000
DTSTAMP:20260421T083635
CREATED:20230131T004310Z
LAST-MODIFIED:20230131T004310Z
UID:10009300-1740076200-1740079800@olddutchchurch.org
SUMMARY:ACA Book Group
DESCRIPTION:Meeting every other week
URL:https://olddutchchurch.org/event/aca-book-group/2025-02-20/
LOCATION:NY
END:VEVENT
BEGIN:VEVENT
DTSTART;TZID=America/New_York:20250220T190000
DTEND;TZID=America/New_York:20250220T200000
DTSTAMP:20260421T083635
CREATED:20230131T003704Z
LAST-MODIFIED:20230131T003704Z
UID:10008002-1740078000-1740081600@olddutchchurch.org
SUMMARY:AA
DESCRIPTION:
URL:https://olddutchchurch.org/event/aa/2025-02-20/
LOCATION:NY
END:VEVENT
BEGIN:VEVENT
DTSTART;TZID=America/New_York:20250222T210000
DTEND;TZID=America/New_York:20250222T220000
DTSTAMP:20260421T083635
CREATED:20230131T003843Z
LAST-MODIFIED:20230131T003843Z
UID:10008538-1740258000-1740261600@olddutchchurch.org
SUMMARY:AA Book Group
DESCRIPTION:
URL:https://olddutchchurch.org/event/aa-book-group/2025-02-22/
LOCATION:NY
END:VEVENT
BEGIN:VEVENT
DTSTART;TZID=America/New_York:20250223T103000
DTEND;TZID=America/New_York:20250223T113000
DTSTAMP:20260421T083635
CREATED:20220621T145509Z
LAST-MODIFIED:20230131T010033Z
UID:10005412-1740306600-1740310200@olddutchchurch.org
SUMMARY:Sunday Worship
DESCRIPTION:Sunday worship in the Sanctuary
URL:https://olddutchchurch.org/event/sunday-worship/2025-02-23/
LOCATION:Old Dutch Church\, Wall Street\, Kingston\, 272 Wall Street\, Kingston\, NY\, 12401\, United States
END:VEVENT
BEGIN:VEVENT
DTSTART;TZID=America/New_York:20250223T113000
DTEND;TZID=America/New_York:20250223T123000
DTSTAMP:20260421T083635
CREATED:20220621T151126Z
LAST-MODIFIED:20230131T004016Z
UID:10005712-1740310200-1740313800@olddutchchurch.org
SUMMARY:ACA
DESCRIPTION:ACA in OMG
URL:https://olddutchchurch.org/event/aca/2025-02-23/
LOCATION:Old Dutch Church\, Wall Street\, Kingston\, 272 Wall Street\, Kingston\, NY\, 12401\, United States
END:VEVENT
BEGIN:VEVENT
DTSTART;TZID=America/New_York:20250223T190000
DTEND;TZID=America/New_York:20250223T213000
DTSTAMP:20260421T083635
CREATED:20220621T152603Z
LAST-MODIFIED:20230131T005403Z
UID:10008270-1740337200-1740346200@olddutchchurch.org
SUMMARY:SLAA Women’s Group
DESCRIPTION:SLAA in OMG
URL:https://olddutchchurch.org/event/slaa-3/2025-02-23/
LOCATION:NY
END:VEVENT
BEGIN:VEVENT
DTSTART;TZID=America/New_York:20250224T170000
DTEND;TZID=America/New_York:20250224T180000
DTSTAMP:20260421T083635
CREATED:20230131T005556Z
LAST-MODIFIED:20230131T005556Z
UID:10009835-1740416400-1740420000@olddutchchurch.org
SUMMARY:SLAA Augustine Fellowship
DESCRIPTION:
URL:https://olddutchchurch.org/event/slaa-augustine-fellowship/2025-02-24/
LOCATION:NY
END:VEVENT
END:VCALENDAR