BEGIN:VCALENDAR
VERSION:2.0
PRODID:-//Old Dutch Church - ECPv6.15.20//NONSGML v1.0//EN
CALSCALE:GREGORIAN
METHOD:PUBLISH
X-ORIGINAL-URL:https://olddutchchurch.org
X-WR-CALDESC:Events for Old Dutch Church
REFRESH-INTERVAL;VALUE=DURATION:PT1H
X-Robots-Tag:noindex
X-PUBLISHED-TTL:PT1H
BEGIN:VTIMEZONE
TZID:America/New_York
BEGIN:DAYLIGHT
TZOFFSETFROM:-0500
TZOFFSETTO:-0400
TZNAME:EDT
DTSTART:20230312T070000
END:DAYLIGHT
BEGIN:STANDARD
TZOFFSETFROM:-0400
TZOFFSETTO:-0500
TZNAME:EST
DTSTART:20231105T060000
END:STANDARD
BEGIN:DAYLIGHT
TZOFFSETFROM:-0500
TZOFFSETTO:-0400
TZNAME:EDT
DTSTART:20240310T070000
END:DAYLIGHT
BEGIN:STANDARD
TZOFFSETFROM:-0400
TZOFFSETTO:-0500
TZNAME:EST
DTSTART:20241103T060000
END:STANDARD
BEGIN:DAYLIGHT
TZOFFSETFROM:-0500
TZOFFSETTO:-0400
TZNAME:EDT
DTSTART:20250309T070000
END:DAYLIGHT
BEGIN:STANDARD
TZOFFSETFROM:-0400
TZOFFSETTO:-0500
TZNAME:EST
DTSTART:20251102T060000
END:STANDARD
BEGIN:DAYLIGHT
TZOFFSETFROM:-0500
TZOFFSETTO:-0400
TZNAME:EDT
DTSTART:20260308T070000
END:DAYLIGHT
BEGIN:STANDARD
TZOFFSETFROM:-0400
TZOFFSETTO:-0500
TZNAME:EST
DTSTART:20261101T060000
END:STANDARD
END:VTIMEZONE
BEGIN:VEVENT
DTSTART;TZID=America/New_York:20241207T100000
DTEND;TZID=America/New_York:20250329T140000
DTSTAMP:20260419T125949
CREATED:20230112T191253Z
LAST-MODIFIED:20240926T041126Z
UID:10009191-1733565600-1743256800@olddutchchurch.org
SUMMARY:The Kingston Farmer's Market
DESCRIPTION:The Kingston Farmer’s Market is held in Bethany Hall every other Saturday from 10am to 2pm throughout the winter. Market dates are 12/7\, 12/21\, 1/4\, 1/18\, 2/1\, 2/15\, 3/1\, 3/15\, and 3/29.
URL:https://olddutchchurch.org/event/the-kingston-farmers-market-2/
LOCATION:Old Dutch Church\, Wall Street\, Kingston\, 272 Wall Street\, Kingston\, NY\, 12401\, United States
END:VEVENT
BEGIN:VEVENT
DTSTART;TZID=America/New_York:20250223T103000
DTEND;TZID=America/New_York:20250223T113000
DTSTAMP:20260419T125949
CREATED:20220621T145509Z
LAST-MODIFIED:20230131T010033Z
UID:10005412-1740306600-1740310200@olddutchchurch.org
SUMMARY:Sunday Worship
DESCRIPTION:Sunday worship in the Sanctuary
URL:https://olddutchchurch.org/event/sunday-worship/2025-02-23/
LOCATION:Old Dutch Church\, Wall Street\, Kingston\, 272 Wall Street\, Kingston\, NY\, 12401\, United States
END:VEVENT
BEGIN:VEVENT
DTSTART;TZID=America/New_York:20250223T113000
DTEND;TZID=America/New_York:20250223T123000
DTSTAMP:20260419T125949
CREATED:20220621T151126Z
LAST-MODIFIED:20230131T004016Z
UID:10005712-1740310200-1740313800@olddutchchurch.org
SUMMARY:ACA
DESCRIPTION:ACA in OMG
URL:https://olddutchchurch.org/event/aca/2025-02-23/
LOCATION:Old Dutch Church\, Wall Street\, Kingston\, 272 Wall Street\, Kingston\, NY\, 12401\, United States
END:VEVENT
BEGIN:VEVENT
DTSTART;TZID=America/New_York:20250223T190000
DTEND;TZID=America/New_York:20250223T213000
DTSTAMP:20260419T125949
CREATED:20220621T152603Z
LAST-MODIFIED:20230131T005403Z
UID:10008270-1740337200-1740346200@olddutchchurch.org
SUMMARY:SLAA Women’s Group
DESCRIPTION:SLAA in OMG
URL:https://olddutchchurch.org/event/slaa-3/2025-02-23/
LOCATION:NY
END:VEVENT
BEGIN:VEVENT
DTSTART;TZID=America/New_York:20250224T170000
DTEND;TZID=America/New_York:20250224T180000
DTSTAMP:20260419T125949
CREATED:20230131T005556Z
LAST-MODIFIED:20230131T005556Z
UID:10009835-1740416400-1740420000@olddutchchurch.org
SUMMARY:SLAA Augustine Fellowship
DESCRIPTION:
URL:https://olddutchchurch.org/event/slaa-augustine-fellowship/2025-02-24/
LOCATION:NY
END:VEVENT
BEGIN:VEVENT
DTSTART;TZID=America/New_York:20250224T190000
DTEND;TZID=America/New_York:20250224T200000
DTSTAMP:20260419T125949
CREATED:20230131T004717Z
LAST-MODIFIED:20230131T004717Z
UID:10009568-1740423600-1740427200@olddutchchurch.org
SUMMARY:Debtors’ Anonymous
DESCRIPTION:
URL:https://olddutchchurch.org/event/debtors-anonymous/2025-02-24/
LOCATION:NY
END:VEVENT
BEGIN:VEVENT
DTSTART;TZID=America/New_York:20250226T130000
DTEND;TZID=America/New_York:20250226T140000
DTSTAMP:20260419T125949
CREATED:20220621T152107Z
LAST-MODIFIED:20250624T163908Z
UID:10007350-1740574800-1740578400@olddutchchurch.org
SUMMARY:Community Chorus (on hiatus until Fall)
DESCRIPTION:Community Chorus in Bethany Hall
URL:https://olddutchchurch.org/event/community-chorus/2025-02-26/
LOCATION:NY
END:VEVENT
BEGIN:VEVENT
DTSTART;TZID=America/New_York:20250226T180000
DTEND;TZID=America/New_York:20250226T210000
DTSTAMP:20260419T125949
CREATED:20230131T003225Z
LAST-MODIFIED:20250624T171339Z
UID:10007050-1740592800-1740603600@olddutchchurch.org
SUMMARY:Ubaka Hill Drum Circle
DESCRIPTION:
URL:https://olddutchchurch.org/event/ubaka-hill-drum-circle/2025-02-26/
LOCATION:NY
END:VEVENT
BEGIN:VEVENT
DTSTART;TZID=America/New_York:20250227T183000
DTEND;TZID=America/New_York:20250227T193000
DTSTAMP:20260419T125949
CREATED:20230131T004310Z
LAST-MODIFIED:20230131T004310Z
UID:10009301-1740681000-1740684600@olddutchchurch.org
SUMMARY:ACA Book Group
DESCRIPTION:Meeting every other week
URL:https://olddutchchurch.org/event/aca-book-group/2025-02-27/
LOCATION:NY
END:VEVENT
BEGIN:VEVENT
DTSTART;TZID=America/New_York:20250227T190000
DTEND;TZID=America/New_York:20250227T200000
DTSTAMP:20260419T125949
CREATED:20230131T003704Z
LAST-MODIFIED:20230131T003704Z
UID:10008003-1740682800-1740686400@olddutchchurch.org
SUMMARY:AA
DESCRIPTION:
URL:https://olddutchchurch.org/event/aa/2025-02-27/
LOCATION:NY
END:VEVENT
BEGIN:VEVENT
DTSTART;TZID=America/New_York:20250301T210000
DTEND;TZID=America/New_York:20250301T220000
DTSTAMP:20260419T125949
CREATED:20230131T003843Z
LAST-MODIFIED:20230131T003843Z
UID:10008539-1740862800-1740866400@olddutchchurch.org
SUMMARY:AA Book Group
DESCRIPTION:
URL:https://olddutchchurch.org/event/aa-book-group/2025-03-01/
LOCATION:NY
END:VEVENT
BEGIN:VEVENT
DTSTART;TZID=America/New_York:20250302T103000
DTEND;TZID=America/New_York:20250302T113000
DTSTAMP:20260419T125949
CREATED:20220621T145509Z
LAST-MODIFIED:20230131T010033Z
UID:10005413-1740911400-1740915000@olddutchchurch.org
SUMMARY:Sunday Worship
DESCRIPTION:Sunday worship in the Sanctuary
URL:https://olddutchchurch.org/event/sunday-worship/2025-03-02/
LOCATION:Old Dutch Church\, Wall Street\, Kingston\, 272 Wall Street\, Kingston\, NY\, 12401\, United States
END:VEVENT
BEGIN:VEVENT
DTSTART;TZID=America/New_York:20250302T113000
DTEND;TZID=America/New_York:20250302T123000
DTSTAMP:20260419T125949
CREATED:20220621T151126Z
LAST-MODIFIED:20230131T004016Z
UID:10005713-1740915000-1740918600@olddutchchurch.org
SUMMARY:ACA
DESCRIPTION:ACA in OMG
URL:https://olddutchchurch.org/event/aca/2025-03-02/
LOCATION:Old Dutch Church\, Wall Street\, Kingston\, 272 Wall Street\, Kingston\, NY\, 12401\, United States
END:VEVENT
BEGIN:VEVENT
DTSTART;TZID=America/New_York:20250302T190000
DTEND;TZID=America/New_York:20250302T213000
DTSTAMP:20260419T125949
CREATED:20220621T152603Z
LAST-MODIFIED:20230131T005403Z
UID:10008271-1740942000-1740951000@olddutchchurch.org
SUMMARY:SLAA Women’s Group
DESCRIPTION:SLAA in OMG
URL:https://olddutchchurch.org/event/slaa-3/2025-03-02/
LOCATION:NY
END:VEVENT
BEGIN:VEVENT
DTSTART;TZID=America/New_York:20250303T170000
DTEND;TZID=America/New_York:20250303T180000
DTSTAMP:20260419T125949
CREATED:20230131T005556Z
LAST-MODIFIED:20230131T005556Z
UID:10009836-1741021200-1741024800@olddutchchurch.org
SUMMARY:SLAA Augustine Fellowship
DESCRIPTION:
URL:https://olddutchchurch.org/event/slaa-augustine-fellowship/2025-03-03/
LOCATION:NY
END:VEVENT
BEGIN:VEVENT
DTSTART;TZID=America/New_York:20250303T190000
DTEND;TZID=America/New_York:20250303T200000
DTSTAMP:20260419T125949
CREATED:20230131T004717Z
LAST-MODIFIED:20230131T004717Z
UID:10009569-1741028400-1741032000@olddutchchurch.org
SUMMARY:Debtors’ Anonymous
DESCRIPTION:
URL:https://olddutchchurch.org/event/debtors-anonymous/2025-03-03/
LOCATION:NY
END:VEVENT
BEGIN:VEVENT
DTSTART;TZID=America/New_York:20250305T130000
DTEND;TZID=America/New_York:20250305T140000
DTSTAMP:20260419T125949
CREATED:20220621T152107Z
LAST-MODIFIED:20250624T163908Z
UID:10007351-1741179600-1741183200@olddutchchurch.org
SUMMARY:Community Chorus (on hiatus until Fall)
DESCRIPTION:Community Chorus in Bethany Hall
URL:https://olddutchchurch.org/event/community-chorus/2025-03-05/
LOCATION:NY
END:VEVENT
BEGIN:VEVENT
DTSTART;TZID=America/New_York:20250305T180000
DTEND;TZID=America/New_York:20250305T210000
DTSTAMP:20260419T125949
CREATED:20230131T003225Z
LAST-MODIFIED:20250624T171339Z
UID:10007051-1741197600-1741208400@olddutchchurch.org
SUMMARY:Ubaka Hill Drum Circle
DESCRIPTION:
URL:https://olddutchchurch.org/event/ubaka-hill-drum-circle/2025-03-05/
LOCATION:NY
END:VEVENT
BEGIN:VEVENT
DTSTART;TZID=America/New_York:20250306T183000
DTEND;TZID=America/New_York:20250306T193000
DTSTAMP:20260419T125949
CREATED:20230131T004310Z
LAST-MODIFIED:20230131T004310Z
UID:10009302-1741285800-1741289400@olddutchchurch.org
SUMMARY:ACA Book Group
DESCRIPTION:Meeting every other week
URL:https://olddutchchurch.org/event/aca-book-group/2025-03-06/
LOCATION:NY
END:VEVENT
BEGIN:VEVENT
DTSTART;TZID=America/New_York:20250306T190000
DTEND;TZID=America/New_York:20250306T200000
DTSTAMP:20260419T125949
CREATED:20230131T003704Z
LAST-MODIFIED:20230131T003704Z
UID:10008004-1741287600-1741291200@olddutchchurch.org
SUMMARY:AA
DESCRIPTION:
URL:https://olddutchchurch.org/event/aa/2025-03-06/
LOCATION:NY
END:VEVENT
BEGIN:VEVENT
DTSTART;TZID=America/New_York:20250308T210000
DTEND;TZID=America/New_York:20250308T220000
DTSTAMP:20260419T125949
CREATED:20230131T003843Z
LAST-MODIFIED:20230131T003843Z
UID:10008540-1741467600-1741471200@olddutchchurch.org
SUMMARY:AA Book Group
DESCRIPTION:
URL:https://olddutchchurch.org/event/aa-book-group/2025-03-08/
LOCATION:NY
END:VEVENT
BEGIN:VEVENT
DTSTART;TZID=America/New_York:20250309T103000
DTEND;TZID=America/New_York:20250309T113000
DTSTAMP:20260419T125949
CREATED:20220621T145509Z
LAST-MODIFIED:20230131T010033Z
UID:10005414-1741516200-1741519800@olddutchchurch.org
SUMMARY:Sunday Worship
DESCRIPTION:Sunday worship in the Sanctuary
URL:https://olddutchchurch.org/event/sunday-worship/2025-03-09/
LOCATION:Old Dutch Church\, Wall Street\, Kingston\, 272 Wall Street\, Kingston\, NY\, 12401\, United States
END:VEVENT
BEGIN:VEVENT
DTSTART;TZID=America/New_York:20250309T113000
DTEND;TZID=America/New_York:20250309T123000
DTSTAMP:20260419T125949
CREATED:20220621T151126Z
LAST-MODIFIED:20230131T004016Z
UID:10005714-1741519800-1741523400@olddutchchurch.org
SUMMARY:ACA
DESCRIPTION:ACA in OMG
URL:https://olddutchchurch.org/event/aca/2025-03-09/
LOCATION:Old Dutch Church\, Wall Street\, Kingston\, 272 Wall Street\, Kingston\, NY\, 12401\, United States
END:VEVENT
BEGIN:VEVENT
DTSTART;TZID=America/New_York:20250309T190000
DTEND;TZID=America/New_York:20250309T213000
DTSTAMP:20260419T125949
CREATED:20220621T152603Z
LAST-MODIFIED:20230131T005403Z
UID:10008272-1741546800-1741555800@olddutchchurch.org
SUMMARY:SLAA Women’s Group
DESCRIPTION:SLAA in OMG
URL:https://olddutchchurch.org/event/slaa-3/2025-03-09/
LOCATION:NY
END:VEVENT
BEGIN:VEVENT
DTSTART;TZID=America/New_York:20250310T170000
DTEND;TZID=America/New_York:20250310T180000
DTSTAMP:20260419T125949
CREATED:20230131T005556Z
LAST-MODIFIED:20230131T005556Z
UID:10009837-1741626000-1741629600@olddutchchurch.org
SUMMARY:SLAA Augustine Fellowship
DESCRIPTION:
URL:https://olddutchchurch.org/event/slaa-augustine-fellowship/2025-03-10/
LOCATION:NY
END:VEVENT
BEGIN:VEVENT
DTSTART;TZID=America/New_York:20250310T190000
DTEND;TZID=America/New_York:20250310T200000
DTSTAMP:20260419T125949
CREATED:20230131T004717Z
LAST-MODIFIED:20230131T004717Z
UID:10009570-1741633200-1741636800@olddutchchurch.org
SUMMARY:Debtors’ Anonymous
DESCRIPTION:
URL:https://olddutchchurch.org/event/debtors-anonymous/2025-03-10/
LOCATION:NY
END:VEVENT
BEGIN:VEVENT
DTSTART;TZID=America/New_York:20250312T130000
DTEND;TZID=America/New_York:20250312T140000
DTSTAMP:20260419T125949
CREATED:20220621T152107Z
LAST-MODIFIED:20250624T163908Z
UID:10007352-1741784400-1741788000@olddutchchurch.org
SUMMARY:Community Chorus (on hiatus until Fall)
DESCRIPTION:Community Chorus in Bethany Hall
URL:https://olddutchchurch.org/event/community-chorus/2025-03-12/
LOCATION:NY
END:VEVENT
BEGIN:VEVENT
DTSTART;TZID=America/New_York:20250312T180000
DTEND;TZID=America/New_York:20250312T210000
DTSTAMP:20260419T125949
CREATED:20230131T003225Z
LAST-MODIFIED:20250624T171339Z
UID:10007052-1741802400-1741813200@olddutchchurch.org
SUMMARY:Ubaka Hill Drum Circle
DESCRIPTION:
URL:https://olddutchchurch.org/event/ubaka-hill-drum-circle/2025-03-12/
LOCATION:NY
END:VEVENT
BEGIN:VEVENT
DTSTART;TZID=America/New_York:20250313T183000
DTEND;TZID=America/New_York:20250313T193000
DTSTAMP:20260419T125949
CREATED:20230131T004310Z
LAST-MODIFIED:20230131T004310Z
UID:10009303-1741890600-1741894200@olddutchchurch.org
SUMMARY:ACA Book Group
DESCRIPTION:Meeting every other week
URL:https://olddutchchurch.org/event/aca-book-group/2025-03-13/
LOCATION:NY
END:VEVENT
BEGIN:VEVENT
DTSTART;TZID=America/New_York:20250313T190000
DTEND;TZID=America/New_York:20250313T200000
DTSTAMP:20260419T125949
CREATED:20230131T003704Z
LAST-MODIFIED:20230131T003704Z
UID:10008005-1741892400-1741896000@olddutchchurch.org
SUMMARY:AA
DESCRIPTION:
URL:https://olddutchchurch.org/event/aa/2025-03-13/
LOCATION:NY
END:VEVENT
END:VCALENDAR