BEGIN:VCALENDAR
VERSION:2.0
PRODID:-//Old Dutch Church - ECPv6.15.20//NONSGML v1.0//EN
CALSCALE:GREGORIAN
METHOD:PUBLISH
X-ORIGINAL-URL:https://olddutchchurch.org
X-WR-CALDESC:Events for Old Dutch Church
REFRESH-INTERVAL;VALUE=DURATION:PT1H
X-Robots-Tag:noindex
X-PUBLISHED-TTL:PT1H
BEGIN:VTIMEZONE
TZID:America/New_York
BEGIN:DAYLIGHT
TZOFFSETFROM:-0500
TZOFFSETTO:-0400
TZNAME:EDT
DTSTART:20260308T070000
END:DAYLIGHT
BEGIN:STANDARD
TZOFFSETFROM:-0400
TZOFFSETTO:-0500
TZNAME:EST
DTSTART:20261101T060000
END:STANDARD
BEGIN:DAYLIGHT
TZOFFSETFROM:-0500
TZOFFSETTO:-0400
TZNAME:EDT
DTSTART:20270314T070000
END:DAYLIGHT
BEGIN:STANDARD
TZOFFSETFROM:-0400
TZOFFSETTO:-0500
TZNAME:EST
DTSTART:20271107T060000
END:STANDARD
BEGIN:DAYLIGHT
TZOFFSETFROM:-0500
TZOFFSETTO:-0400
TZNAME:EDT
DTSTART:20280312T070000
END:DAYLIGHT
BEGIN:STANDARD
TZOFFSETFROM:-0400
TZOFFSETTO:-0500
TZNAME:EST
DTSTART:20281105T060000
END:STANDARD
END:VTIMEZONE
BEGIN:VEVENT
DTSTART;TZID=America/New_York:20270710T210000
DTEND;TZID=America/New_York:20270710T220000
DTSTAMP:20260419T172043
CREATED:20230131T003843Z
LAST-MODIFIED:20230131T003843Z
UID:10008662-1815253200-1815256800@olddutchchurch.org
SUMMARY:AA Book Group
DESCRIPTION:
URL:https://olddutchchurch.org/event/aa-book-group/2027-07-10/
LOCATION:NY
END:VEVENT
BEGIN:VEVENT
DTSTART;TZID=America/New_York:20270711T103000
DTEND;TZID=America/New_York:20270711T113000
DTSTAMP:20260419T172043
CREATED:20220621T145509Z
LAST-MODIFIED:20230131T010033Z
UID:10005536-1815301800-1815305400@olddutchchurch.org
SUMMARY:Sunday Worship
DESCRIPTION:Sunday worship in the Sanctuary
URL:https://olddutchchurch.org/event/sunday-worship/2027-07-11/
LOCATION:Old Dutch Church\, Wall Street\, Kingston\, 272 Wall Street\, Kingston\, NY\, 12401\, United States
END:VEVENT
BEGIN:VEVENT
DTSTART;TZID=America/New_York:20270711T113000
DTEND;TZID=America/New_York:20270711T123000
DTSTAMP:20260419T172043
CREATED:20220621T151126Z
LAST-MODIFIED:20230131T004016Z
UID:10005836-1815305400-1815309000@olddutchchurch.org
SUMMARY:ACA
DESCRIPTION:ACA in OMG
URL:https://olddutchchurch.org/event/aca/2027-07-11/
LOCATION:Old Dutch Church\, Wall Street\, Kingston\, 272 Wall Street\, Kingston\, NY\, 12401\, United States
END:VEVENT
BEGIN:VEVENT
DTSTART;TZID=America/New_York:20270711T190000
DTEND;TZID=America/New_York:20270711T213000
DTSTAMP:20260419T172043
CREATED:20220621T152603Z
LAST-MODIFIED:20230131T005403Z
UID:10008394-1815332400-1815341400@olddutchchurch.org
SUMMARY:SLAA Women’s Group
DESCRIPTION:SLAA in OMG
URL:https://olddutchchurch.org/event/slaa-3/2027-07-11/
LOCATION:NY
END:VEVENT
BEGIN:VEVENT
DTSTART;TZID=America/New_York:20270712T170000
DTEND;TZID=America/New_York:20270712T180000
DTSTAMP:20260419T172043
CREATED:20230131T005556Z
LAST-MODIFIED:20230131T005556Z
UID:10009959-1815411600-1815415200@olddutchchurch.org
SUMMARY:SLAA Augustine Fellowship
DESCRIPTION:
URL:https://olddutchchurch.org/event/slaa-augustine-fellowship/2027-07-12/
LOCATION:NY
END:VEVENT
BEGIN:VEVENT
DTSTART;TZID=America/New_York:20270712T183000
DTEND;TZID=America/New_York:20270712T210000
DTSTAMP:20260419T172043
CREATED:20250624T172435Z
LAST-MODIFIED:20250624T172436Z
UID:10006339-1815417000-1815426000@olddutchchurch.org
SUMMARY:Mendelssohn Club
DESCRIPTION:
URL:https://olddutchchurch.org/event/mendelssohn-club-2-2/2027-07-12/
LOCATION:NY
END:VEVENT
BEGIN:VEVENT
DTSTART;TZID=America/New_York:20270712T190000
DTEND;TZID=America/New_York:20270712T200000
DTSTAMP:20260419T172043
CREATED:20230131T004717Z
LAST-MODIFIED:20230131T004717Z
UID:10009692-1815418800-1815422400@olddutchchurch.org
SUMMARY:Debtors’ Anonymous
DESCRIPTION:
URL:https://olddutchchurch.org/event/debtors-anonymous/2027-07-12/
LOCATION:NY
END:VEVENT
BEGIN:VEVENT
DTSTART;TZID=America/New_York:20270714T120000
DTEND;TZID=America/New_York:20270714T130000
DTSTAMP:20260419T172043
CREATED:20250625T194104Z
LAST-MODIFIED:20250625T194104Z
UID:10011785-1815566400-1815570000@olddutchchurch.org
SUMMARY:ACA
DESCRIPTION:
URL:https://olddutchchurch.org/event/aca-2/2027-07-14/
LOCATION:NY
END:VEVENT
BEGIN:VEVENT
DTSTART;TZID=America/New_York:20270714T130000
DTEND;TZID=America/New_York:20270714T140000
DTSTAMP:20260419T172043
CREATED:20220621T152107Z
LAST-MODIFIED:20250624T163908Z
UID:10007474-1815570000-1815573600@olddutchchurch.org
SUMMARY:Community Chorus (on hiatus until Fall)
DESCRIPTION:Community Chorus in Bethany Hall
URL:https://olddutchchurch.org/event/community-chorus/2027-07-14/
LOCATION:NY
END:VEVENT
BEGIN:VEVENT
DTSTART;TZID=America/New_York:20270714T180000
DTEND;TZID=America/New_York:20270714T210000
DTSTAMP:20260419T172043
CREATED:20230131T003225Z
LAST-MODIFIED:20250624T171339Z
UID:10007174-1815588000-1815598800@olddutchchurch.org
SUMMARY:Ubaka Hill Drum Circle
DESCRIPTION:
URL:https://olddutchchurch.org/event/ubaka-hill-drum-circle/2027-07-14/
LOCATION:NY
END:VEVENT
BEGIN:VEVENT
DTSTART;TZID=America/New_York:20270715T183000
DTEND;TZID=America/New_York:20270715T193000
DTSTAMP:20260419T172043
CREATED:20230131T004310Z
LAST-MODIFIED:20230131T004310Z
UID:10009425-1815676200-1815679800@olddutchchurch.org
SUMMARY:ACA Book Group
DESCRIPTION:Meeting every other week
URL:https://olddutchchurch.org/event/aca-book-group/2027-07-15/
LOCATION:NY
END:VEVENT
BEGIN:VEVENT
DTSTART;TZID=America/New_York:20270715T190000
DTEND;TZID=America/New_York:20270715T200000
DTSTAMP:20260419T172043
CREATED:20230131T003704Z
LAST-MODIFIED:20230131T003704Z
UID:10008127-1815678000-1815681600@olddutchchurch.org
SUMMARY:AA
DESCRIPTION:
URL:https://olddutchchurch.org/event/aa/2027-07-15/
LOCATION:NY
END:VEVENT
BEGIN:VEVENT
DTSTART;TZID=America/New_York:20270717T210000
DTEND;TZID=America/New_York:20270717T220000
DTSTAMP:20260419T172043
CREATED:20230131T003843Z
LAST-MODIFIED:20230131T003843Z
UID:10008663-1815858000-1815861600@olddutchchurch.org
SUMMARY:AA Book Group
DESCRIPTION:
URL:https://olddutchchurch.org/event/aa-book-group/2027-07-17/
LOCATION:NY
END:VEVENT
BEGIN:VEVENT
DTSTART;TZID=America/New_York:20270718T103000
DTEND;TZID=America/New_York:20270718T113000
DTSTAMP:20260419T172043
CREATED:20220621T145509Z
LAST-MODIFIED:20230131T010033Z
UID:10005537-1815906600-1815910200@olddutchchurch.org
SUMMARY:Sunday Worship
DESCRIPTION:Sunday worship in the Sanctuary
URL:https://olddutchchurch.org/event/sunday-worship/2027-07-18/
LOCATION:Old Dutch Church\, Wall Street\, Kingston\, 272 Wall Street\, Kingston\, NY\, 12401\, United States
END:VEVENT
BEGIN:VEVENT
DTSTART;TZID=America/New_York:20270718T113000
DTEND;TZID=America/New_York:20270718T123000
DTSTAMP:20260419T172043
CREATED:20220621T151126Z
LAST-MODIFIED:20230131T004016Z
UID:10005837-1815910200-1815913800@olddutchchurch.org
SUMMARY:ACA
DESCRIPTION:ACA in OMG
URL:https://olddutchchurch.org/event/aca/2027-07-18/
LOCATION:Old Dutch Church\, Wall Street\, Kingston\, 272 Wall Street\, Kingston\, NY\, 12401\, United States
END:VEVENT
BEGIN:VEVENT
DTSTART;TZID=America/New_York:20270718T190000
DTEND;TZID=America/New_York:20270718T213000
DTSTAMP:20260419T172043
CREATED:20220621T152603Z
LAST-MODIFIED:20230131T005403Z
UID:10008395-1815937200-1815946200@olddutchchurch.org
SUMMARY:SLAA Women’s Group
DESCRIPTION:SLAA in OMG
URL:https://olddutchchurch.org/event/slaa-3/2027-07-18/
LOCATION:NY
END:VEVENT
BEGIN:VEVENT
DTSTART;TZID=America/New_York:20270719T170000
DTEND;TZID=America/New_York:20270719T180000
DTSTAMP:20260419T172043
CREATED:20230131T005556Z
LAST-MODIFIED:20230131T005556Z
UID:10009960-1816016400-1816020000@olddutchchurch.org
SUMMARY:SLAA Augustine Fellowship
DESCRIPTION:
URL:https://olddutchchurch.org/event/slaa-augustine-fellowship/2027-07-19/
LOCATION:NY
END:VEVENT
BEGIN:VEVENT
DTSTART;TZID=America/New_York:20270719T183000
DTEND;TZID=America/New_York:20270719T210000
DTSTAMP:20260419T172043
CREATED:20250624T172435Z
LAST-MODIFIED:20250624T172436Z
UID:10006340-1816021800-1816030800@olddutchchurch.org
SUMMARY:Mendelssohn Club
DESCRIPTION:
URL:https://olddutchchurch.org/event/mendelssohn-club-2-2/2027-07-19/
LOCATION:NY
END:VEVENT
BEGIN:VEVENT
DTSTART;TZID=America/New_York:20270719T190000
DTEND;TZID=America/New_York:20270719T200000
DTSTAMP:20260419T172043
CREATED:20230131T004717Z
LAST-MODIFIED:20230131T004717Z
UID:10009693-1816023600-1816027200@olddutchchurch.org
SUMMARY:Debtors’ Anonymous
DESCRIPTION:
URL:https://olddutchchurch.org/event/debtors-anonymous/2027-07-19/
LOCATION:NY
END:VEVENT
BEGIN:VEVENT
DTSTART;TZID=America/New_York:20270721T120000
DTEND;TZID=America/New_York:20270721T130000
DTSTAMP:20260419T172043
CREATED:20250625T194104Z
LAST-MODIFIED:20250625T194104Z
UID:10011786-1816171200-1816174800@olddutchchurch.org
SUMMARY:ACA
DESCRIPTION:
URL:https://olddutchchurch.org/event/aca-2/2027-07-21/
LOCATION:NY
END:VEVENT
BEGIN:VEVENT
DTSTART;TZID=America/New_York:20270721T130000
DTEND;TZID=America/New_York:20270721T140000
DTSTAMP:20260419T172043
CREATED:20220621T152107Z
LAST-MODIFIED:20250624T163908Z
UID:10007475-1816174800-1816178400@olddutchchurch.org
SUMMARY:Community Chorus (on hiatus until Fall)
DESCRIPTION:Community Chorus in Bethany Hall
URL:https://olddutchchurch.org/event/community-chorus/2027-07-21/
LOCATION:NY
END:VEVENT
BEGIN:VEVENT
DTSTART;TZID=America/New_York:20270721T180000
DTEND;TZID=America/New_York:20270721T210000
DTSTAMP:20260419T172043
CREATED:20230131T003225Z
LAST-MODIFIED:20250624T171339Z
UID:10007175-1816192800-1816203600@olddutchchurch.org
SUMMARY:Ubaka Hill Drum Circle
DESCRIPTION:
URL:https://olddutchchurch.org/event/ubaka-hill-drum-circle/2027-07-21/
LOCATION:NY
END:VEVENT
BEGIN:VEVENT
DTSTART;TZID=America/New_York:20270722T183000
DTEND;TZID=America/New_York:20270722T193000
DTSTAMP:20260419T172043
CREATED:20230131T004310Z
LAST-MODIFIED:20230131T004310Z
UID:10009426-1816281000-1816284600@olddutchchurch.org
SUMMARY:ACA Book Group
DESCRIPTION:Meeting every other week
URL:https://olddutchchurch.org/event/aca-book-group/2027-07-22/
LOCATION:NY
END:VEVENT
BEGIN:VEVENT
DTSTART;TZID=America/New_York:20270722T190000
DTEND;TZID=America/New_York:20270722T200000
DTSTAMP:20260419T172043
CREATED:20230131T003704Z
LAST-MODIFIED:20230131T003704Z
UID:10008128-1816282800-1816286400@olddutchchurch.org
SUMMARY:AA
DESCRIPTION:
URL:https://olddutchchurch.org/event/aa/2027-07-22/
LOCATION:NY
END:VEVENT
BEGIN:VEVENT
DTSTART;TZID=America/New_York:20270724T210000
DTEND;TZID=America/New_York:20270724T220000
DTSTAMP:20260419T172043
CREATED:20230131T003843Z
LAST-MODIFIED:20230131T003843Z
UID:10008664-1816462800-1816466400@olddutchchurch.org
SUMMARY:AA Book Group
DESCRIPTION:
URL:https://olddutchchurch.org/event/aa-book-group/2027-07-24/
LOCATION:NY
END:VEVENT
BEGIN:VEVENT
DTSTART;TZID=America/New_York:20270725T103000
DTEND;TZID=America/New_York:20270725T113000
DTSTAMP:20260419T172043
CREATED:20220621T145509Z
LAST-MODIFIED:20230131T010033Z
UID:10005538-1816511400-1816515000@olddutchchurch.org
SUMMARY:Sunday Worship
DESCRIPTION:Sunday worship in the Sanctuary
URL:https://olddutchchurch.org/event/sunday-worship/2027-07-25/
LOCATION:Old Dutch Church\, Wall Street\, Kingston\, 272 Wall Street\, Kingston\, NY\, 12401\, United States
END:VEVENT
BEGIN:VEVENT
DTSTART;TZID=America/New_York:20270725T113000
DTEND;TZID=America/New_York:20270725T123000
DTSTAMP:20260419T172043
CREATED:20220621T151126Z
LAST-MODIFIED:20230131T004016Z
UID:10005838-1816515000-1816518600@olddutchchurch.org
SUMMARY:ACA
DESCRIPTION:ACA in OMG
URL:https://olddutchchurch.org/event/aca/2027-07-25/
LOCATION:Old Dutch Church\, Wall Street\, Kingston\, 272 Wall Street\, Kingston\, NY\, 12401\, United States
END:VEVENT
BEGIN:VEVENT
DTSTART;TZID=America/New_York:20270725T190000
DTEND;TZID=America/New_York:20270725T213000
DTSTAMP:20260419T172043
CREATED:20220621T152603Z
LAST-MODIFIED:20230131T005403Z
UID:10008396-1816542000-1816551000@olddutchchurch.org
SUMMARY:SLAA Women’s Group
DESCRIPTION:SLAA in OMG
URL:https://olddutchchurch.org/event/slaa-3/2027-07-25/
LOCATION:NY
END:VEVENT
BEGIN:VEVENT
DTSTART;TZID=America/New_York:20270726T170000
DTEND;TZID=America/New_York:20270726T180000
DTSTAMP:20260419T172043
CREATED:20230131T005556Z
LAST-MODIFIED:20230131T005556Z
UID:10009961-1816621200-1816624800@olddutchchurch.org
SUMMARY:SLAA Augustine Fellowship
DESCRIPTION:
URL:https://olddutchchurch.org/event/slaa-augustine-fellowship/2027-07-26/
LOCATION:NY
END:VEVENT
BEGIN:VEVENT
DTSTART;TZID=America/New_York:20270726T183000
DTEND;TZID=America/New_York:20270726T210000
DTSTAMP:20260419T172043
CREATED:20250624T172435Z
LAST-MODIFIED:20250624T172436Z
UID:10006341-1816626600-1816635600@olddutchchurch.org
SUMMARY:Mendelssohn Club
DESCRIPTION:
URL:https://olddutchchurch.org/event/mendelssohn-club-2-2/2027-07-26/
LOCATION:NY
END:VEVENT
END:VCALENDAR