BEGIN:VCALENDAR
VERSION:2.0
PRODID:-//Old Dutch Church - ECPv6.15.20//NONSGML v1.0//EN
CALSCALE:GREGORIAN
METHOD:PUBLISH
X-ORIGINAL-URL:https://olddutchchurch.org
X-WR-CALDESC:Events for Old Dutch Church
REFRESH-INTERVAL;VALUE=DURATION:PT1H
X-Robots-Tag:noindex
X-PUBLISHED-TTL:PT1H
BEGIN:VTIMEZONE
TZID:America/New_York
BEGIN:DAYLIGHT
TZOFFSETFROM:-0500
TZOFFSETTO:-0400
TZNAME:EDT
DTSTART:20260308T070000
END:DAYLIGHT
BEGIN:STANDARD
TZOFFSETFROM:-0400
TZOFFSETTO:-0500
TZNAME:EST
DTSTART:20261101T060000
END:STANDARD
BEGIN:DAYLIGHT
TZOFFSETFROM:-0500
TZOFFSETTO:-0400
TZNAME:EDT
DTSTART:20270314T070000
END:DAYLIGHT
BEGIN:STANDARD
TZOFFSETFROM:-0400
TZOFFSETTO:-0500
TZNAME:EST
DTSTART:20271107T060000
END:STANDARD
BEGIN:DAYLIGHT
TZOFFSETFROM:-0500
TZOFFSETTO:-0400
TZNAME:EDT
DTSTART:20280312T070000
END:DAYLIGHT
BEGIN:STANDARD
TZOFFSETFROM:-0400
TZOFFSETTO:-0500
TZNAME:EST
DTSTART:20281105T060000
END:STANDARD
END:VTIMEZONE
BEGIN:VEVENT
DTSTART;TZID=America/New_York:20271021T183000
DTEND;TZID=America/New_York:20271021T193000
DTSTAMP:20260419T210339
CREATED:20230131T004310Z
LAST-MODIFIED:20230131T004310Z
UID:10009439-1824143400-1824147000@olddutchchurch.org
SUMMARY:ACA Book Group
DESCRIPTION:Meeting every other week
URL:https://olddutchchurch.org/event/aca-book-group/2027-10-21/
LOCATION:NY
END:VEVENT
BEGIN:VEVENT
DTSTART;TZID=America/New_York:20271021T190000
DTEND;TZID=America/New_York:20271021T200000
DTSTAMP:20260419T210339
CREATED:20230131T003704Z
LAST-MODIFIED:20230131T003704Z
UID:10008141-1824145200-1824148800@olddutchchurch.org
SUMMARY:AA
DESCRIPTION:
URL:https://olddutchchurch.org/event/aa/2027-10-21/
LOCATION:NY
END:VEVENT
BEGIN:VEVENT
DTSTART;TZID=America/New_York:20271023T210000
DTEND;TZID=America/New_York:20271023T220000
DTSTAMP:20260419T210339
CREATED:20230131T003843Z
LAST-MODIFIED:20230131T003843Z
UID:10008677-1824325200-1824328800@olddutchchurch.org
SUMMARY:AA Book Group
DESCRIPTION:
URL:https://olddutchchurch.org/event/aa-book-group/2027-10-23/
LOCATION:NY
END:VEVENT
BEGIN:VEVENT
DTSTART;TZID=America/New_York:20271024T103000
DTEND;TZID=America/New_York:20271024T113000
DTSTAMP:20260419T210339
CREATED:20220621T145509Z
LAST-MODIFIED:20230131T010033Z
UID:10005551-1824373800-1824377400@olddutchchurch.org
SUMMARY:Sunday Worship
DESCRIPTION:Sunday worship in the Sanctuary
URL:https://olddutchchurch.org/event/sunday-worship/2027-10-24/
LOCATION:Old Dutch Church\, Wall Street\, Kingston\, 272 Wall Street\, Kingston\, NY\, 12401\, United States
END:VEVENT
BEGIN:VEVENT
DTSTART;TZID=America/New_York:20271024T113000
DTEND;TZID=America/New_York:20271024T123000
DTSTAMP:20260419T210339
CREATED:20220621T151126Z
LAST-MODIFIED:20230131T004016Z
UID:10005851-1824377400-1824381000@olddutchchurch.org
SUMMARY:ACA
DESCRIPTION:ACA in OMG
URL:https://olddutchchurch.org/event/aca/2027-10-24/
LOCATION:Old Dutch Church\, Wall Street\, Kingston\, 272 Wall Street\, Kingston\, NY\, 12401\, United States
END:VEVENT
BEGIN:VEVENT
DTSTART;TZID=America/New_York:20271024T190000
DTEND;TZID=America/New_York:20271024T213000
DTSTAMP:20260419T210339
CREATED:20220621T152603Z
LAST-MODIFIED:20230131T005403Z
UID:10008409-1824404400-1824413400@olddutchchurch.org
SUMMARY:SLAA Women’s Group
DESCRIPTION:SLAA in OMG
URL:https://olddutchchurch.org/event/slaa-3/2027-10-24/
LOCATION:NY
END:VEVENT
BEGIN:VEVENT
DTSTART;TZID=America/New_York:20271025T170000
DTEND;TZID=America/New_York:20271025T180000
DTSTAMP:20260419T210339
CREATED:20230131T005556Z
LAST-MODIFIED:20230131T005556Z
UID:10009974-1824483600-1824487200@olddutchchurch.org
SUMMARY:SLAA Augustine Fellowship
DESCRIPTION:
URL:https://olddutchchurch.org/event/slaa-augustine-fellowship/2027-10-25/
LOCATION:NY
END:VEVENT
BEGIN:VEVENT
DTSTART;TZID=America/New_York:20271025T183000
DTEND;TZID=America/New_York:20271025T210000
DTSTAMP:20260419T210339
CREATED:20250624T172435Z
LAST-MODIFIED:20250624T172436Z
UID:10006354-1824489000-1824498000@olddutchchurch.org
SUMMARY:Mendelssohn Club
DESCRIPTION:
URL:https://olddutchchurch.org/event/mendelssohn-club-2-2/2027-10-25/
LOCATION:NY
END:VEVENT
BEGIN:VEVENT
DTSTART;TZID=America/New_York:20271025T190000
DTEND;TZID=America/New_York:20271025T200000
DTSTAMP:20260419T210339
CREATED:20230131T004717Z
LAST-MODIFIED:20230131T004717Z
UID:10009707-1824490800-1824494400@olddutchchurch.org
SUMMARY:Debtors’ Anonymous
DESCRIPTION:
URL:https://olddutchchurch.org/event/debtors-anonymous/2027-10-25/
LOCATION:NY
END:VEVENT
BEGIN:VEVENT
DTSTART;TZID=America/New_York:20271027T120000
DTEND;TZID=America/New_York:20271027T130000
DTSTAMP:20260419T210339
CREATED:20250625T194104Z
LAST-MODIFIED:20250625T194104Z
UID:10011800-1824638400-1824642000@olddutchchurch.org
SUMMARY:ACA
DESCRIPTION:
URL:https://olddutchchurch.org/event/aca-2/2027-10-27/
LOCATION:NY
END:VEVENT
BEGIN:VEVENT
DTSTART;TZID=America/New_York:20271027T130000
DTEND;TZID=America/New_York:20271027T140000
DTSTAMP:20260419T210339
CREATED:20220621T152107Z
LAST-MODIFIED:20250624T163908Z
UID:10007489-1824642000-1824645600@olddutchchurch.org
SUMMARY:Community Chorus (on hiatus until Fall)
DESCRIPTION:Community Chorus in Bethany Hall
URL:https://olddutchchurch.org/event/community-chorus/2027-10-27/
LOCATION:NY
END:VEVENT
BEGIN:VEVENT
DTSTART;TZID=America/New_York:20271027T180000
DTEND;TZID=America/New_York:20271027T210000
DTSTAMP:20260419T210339
CREATED:20230131T003225Z
LAST-MODIFIED:20250624T171339Z
UID:10007189-1824660000-1824670800@olddutchchurch.org
SUMMARY:Ubaka Hill Drum Circle
DESCRIPTION:
URL:https://olddutchchurch.org/event/ubaka-hill-drum-circle/2027-10-27/
LOCATION:NY
END:VEVENT
BEGIN:VEVENT
DTSTART;TZID=America/New_York:20271028T183000
DTEND;TZID=America/New_York:20271028T193000
DTSTAMP:20260419T210339
CREATED:20230131T004310Z
LAST-MODIFIED:20230131T004310Z
UID:10009440-1824748200-1824751800@olddutchchurch.org
SUMMARY:ACA Book Group
DESCRIPTION:Meeting every other week
URL:https://olddutchchurch.org/event/aca-book-group/2027-10-28/
LOCATION:NY
END:VEVENT
BEGIN:VEVENT
DTSTART;TZID=America/New_York:20271028T190000
DTEND;TZID=America/New_York:20271028T200000
DTSTAMP:20260419T210339
CREATED:20230131T003704Z
LAST-MODIFIED:20230131T003704Z
UID:10008142-1824750000-1824753600@olddutchchurch.org
SUMMARY:AA
DESCRIPTION:
URL:https://olddutchchurch.org/event/aa/2027-10-28/
LOCATION:NY
END:VEVENT
BEGIN:VEVENT
DTSTART;TZID=America/New_York:20271030T210000
DTEND;TZID=America/New_York:20271030T220000
DTSTAMP:20260419T210339
CREATED:20230131T003843Z
LAST-MODIFIED:20230131T003843Z
UID:10008678-1824930000-1824933600@olddutchchurch.org
SUMMARY:AA Book Group
DESCRIPTION:
URL:https://olddutchchurch.org/event/aa-book-group/2027-10-30/
LOCATION:NY
END:VEVENT
BEGIN:VEVENT
DTSTART;TZID=America/New_York:20271031T103000
DTEND;TZID=America/New_York:20271031T113000
DTSTAMP:20260419T210339
CREATED:20220621T145509Z
LAST-MODIFIED:20230131T010033Z
UID:10005552-1824978600-1824982200@olddutchchurch.org
SUMMARY:Sunday Worship
DESCRIPTION:Sunday worship in the Sanctuary
URL:https://olddutchchurch.org/event/sunday-worship/2027-10-31/
LOCATION:Old Dutch Church\, Wall Street\, Kingston\, 272 Wall Street\, Kingston\, NY\, 12401\, United States
END:VEVENT
BEGIN:VEVENT
DTSTART;TZID=America/New_York:20271031T113000
DTEND;TZID=America/New_York:20271031T123000
DTSTAMP:20260419T210339
CREATED:20220621T151126Z
LAST-MODIFIED:20230131T004016Z
UID:10005852-1824982200-1824985800@olddutchchurch.org
SUMMARY:ACA
DESCRIPTION:ACA in OMG
URL:https://olddutchchurch.org/event/aca/2027-10-31/
LOCATION:Old Dutch Church\, Wall Street\, Kingston\, 272 Wall Street\, Kingston\, NY\, 12401\, United States
END:VEVENT
BEGIN:VEVENT
DTSTART;TZID=America/New_York:20271031T190000
DTEND;TZID=America/New_York:20271031T213000
DTSTAMP:20260419T210339
CREATED:20220621T152603Z
LAST-MODIFIED:20230131T005403Z
UID:10008410-1825009200-1825018200@olddutchchurch.org
SUMMARY:SLAA Women’s Group
DESCRIPTION:SLAA in OMG
URL:https://olddutchchurch.org/event/slaa-3/2027-10-31/
LOCATION:NY
END:VEVENT
BEGIN:VEVENT
DTSTART;TZID=America/New_York:20271101T170000
DTEND;TZID=America/New_York:20271101T180000
DTSTAMP:20260419T210339
CREATED:20230131T005556Z
LAST-MODIFIED:20230131T005556Z
UID:10009975-1825088400-1825092000@olddutchchurch.org
SUMMARY:SLAA Augustine Fellowship
DESCRIPTION:
URL:https://olddutchchurch.org/event/slaa-augustine-fellowship/2027-11-01/
LOCATION:NY
END:VEVENT
BEGIN:VEVENT
DTSTART;TZID=America/New_York:20271101T183000
DTEND;TZID=America/New_York:20271101T210000
DTSTAMP:20260419T210339
CREATED:20250624T172435Z
LAST-MODIFIED:20250624T172436Z
UID:10006355-1825093800-1825102800@olddutchchurch.org
SUMMARY:Mendelssohn Club
DESCRIPTION:
URL:https://olddutchchurch.org/event/mendelssohn-club-2-2/2027-11-01/
LOCATION:NY
END:VEVENT
BEGIN:VEVENT
DTSTART;TZID=America/New_York:20271101T190000
DTEND;TZID=America/New_York:20271101T200000
DTSTAMP:20260419T210339
CREATED:20230131T004717Z
LAST-MODIFIED:20230131T004717Z
UID:10009708-1825095600-1825099200@olddutchchurch.org
SUMMARY:Debtors’ Anonymous
DESCRIPTION:
URL:https://olddutchchurch.org/event/debtors-anonymous/2027-11-01/
LOCATION:NY
END:VEVENT
BEGIN:VEVENT
DTSTART;TZID=America/New_York:20271103T120000
DTEND;TZID=America/New_York:20271103T130000
DTSTAMP:20260419T210339
CREATED:20250625T194104Z
LAST-MODIFIED:20250625T194104Z
UID:10011801-1825243200-1825246800@olddutchchurch.org
SUMMARY:ACA
DESCRIPTION:
URL:https://olddutchchurch.org/event/aca-2/2027-11-03/
LOCATION:NY
END:VEVENT
BEGIN:VEVENT
DTSTART;TZID=America/New_York:20271103T130000
DTEND;TZID=America/New_York:20271103T140000
DTSTAMP:20260419T210339
CREATED:20220621T152107Z
LAST-MODIFIED:20250624T163908Z
UID:10007490-1825246800-1825250400@olddutchchurch.org
SUMMARY:Community Chorus (on hiatus until Fall)
DESCRIPTION:Community Chorus in Bethany Hall
URL:https://olddutchchurch.org/event/community-chorus/2027-11-03/
LOCATION:NY
END:VEVENT
BEGIN:VEVENT
DTSTART;TZID=America/New_York:20271103T180000
DTEND;TZID=America/New_York:20271103T210000
DTSTAMP:20260419T210339
CREATED:20230131T003225Z
LAST-MODIFIED:20250624T171339Z
UID:10007190-1825264800-1825275600@olddutchchurch.org
SUMMARY:Ubaka Hill Drum Circle
DESCRIPTION:
URL:https://olddutchchurch.org/event/ubaka-hill-drum-circle/2027-11-03/
LOCATION:NY
END:VEVENT
BEGIN:VEVENT
DTSTART;TZID=America/New_York:20271104T183000
DTEND;TZID=America/New_York:20271104T193000
DTSTAMP:20260419T210339
CREATED:20230131T004310Z
LAST-MODIFIED:20230131T004310Z
UID:10009441-1825353000-1825356600@olddutchchurch.org
SUMMARY:ACA Book Group
DESCRIPTION:Meeting every other week
URL:https://olddutchchurch.org/event/aca-book-group/2027-11-04/
LOCATION:NY
END:VEVENT
BEGIN:VEVENT
DTSTART;TZID=America/New_York:20271104T190000
DTEND;TZID=America/New_York:20271104T200000
DTSTAMP:20260419T210339
CREATED:20230131T003704Z
LAST-MODIFIED:20230131T003704Z
UID:10008143-1825354800-1825358400@olddutchchurch.org
SUMMARY:AA
DESCRIPTION:
URL:https://olddutchchurch.org/event/aa/2027-11-04/
LOCATION:NY
END:VEVENT
BEGIN:VEVENT
DTSTART;TZID=America/New_York:20271106T210000
DTEND;TZID=America/New_York:20271106T220000
DTSTAMP:20260419T210339
CREATED:20230131T003843Z
LAST-MODIFIED:20230131T003843Z
UID:10008679-1825534800-1825538400@olddutchchurch.org
SUMMARY:AA Book Group
DESCRIPTION:
URL:https://olddutchchurch.org/event/aa-book-group/2027-11-06/
LOCATION:NY
END:VEVENT
BEGIN:VEVENT
DTSTART;TZID=America/New_York:20271107T103000
DTEND;TZID=America/New_York:20271107T113000
DTSTAMP:20260419T210339
CREATED:20220621T145509Z
LAST-MODIFIED:20230131T010033Z
UID:10005553-1825583400-1825587000@olddutchchurch.org
SUMMARY:Sunday Worship
DESCRIPTION:Sunday worship in the Sanctuary
URL:https://olddutchchurch.org/event/sunday-worship/2027-11-07/
LOCATION:Old Dutch Church\, Wall Street\, Kingston\, 272 Wall Street\, Kingston\, NY\, 12401\, United States
END:VEVENT
BEGIN:VEVENT
DTSTART;TZID=America/New_York:20271107T113000
DTEND;TZID=America/New_York:20271107T123000
DTSTAMP:20260419T210339
CREATED:20220621T151126Z
LAST-MODIFIED:20230131T004016Z
UID:10005853-1825587000-1825590600@olddutchchurch.org
SUMMARY:ACA
DESCRIPTION:ACA in OMG
URL:https://olddutchchurch.org/event/aca/2027-11-07/
LOCATION:Old Dutch Church\, Wall Street\, Kingston\, 272 Wall Street\, Kingston\, NY\, 12401\, United States
END:VEVENT
BEGIN:VEVENT
DTSTART;TZID=America/New_York:20271107T190000
DTEND;TZID=America/New_York:20271107T213000
DTSTAMP:20260419T210339
CREATED:20220621T152603Z
LAST-MODIFIED:20230131T005403Z
UID:10008411-1825614000-1825623000@olddutchchurch.org
SUMMARY:SLAA Women’s Group
DESCRIPTION:SLAA in OMG
URL:https://olddutchchurch.org/event/slaa-3/2027-11-07/
LOCATION:NY
END:VEVENT
END:VCALENDAR