BEGIN:VCALENDAR
VERSION:2.0
PRODID:-//Old Dutch Church - ECPv6.15.20//NONSGML v1.0//EN
CALSCALE:GREGORIAN
METHOD:PUBLISH
X-WR-CALNAME:Old Dutch Church
X-ORIGINAL-URL:https://olddutchchurch.org
X-WR-CALDESC:Events for Old Dutch Church
REFRESH-INTERVAL;VALUE=DURATION:PT1H
X-Robots-Tag:noindex
X-PUBLISHED-TTL:PT1H
BEGIN:VTIMEZONE
TZID:America/New_York
BEGIN:DAYLIGHT
TZOFFSETFROM:-0500
TZOFFSETTO:-0400
TZNAME:EDT
DTSTART:20240310T070000
END:DAYLIGHT
BEGIN:STANDARD
TZOFFSETFROM:-0400
TZOFFSETTO:-0500
TZNAME:EST
DTSTART:20241103T060000
END:STANDARD
BEGIN:DAYLIGHT
TZOFFSETFROM:-0500
TZOFFSETTO:-0400
TZNAME:EDT
DTSTART:20250309T070000
END:DAYLIGHT
BEGIN:STANDARD
TZOFFSETFROM:-0400
TZOFFSETTO:-0500
TZNAME:EST
DTSTART:20251102T060000
END:STANDARD
BEGIN:DAYLIGHT
TZOFFSETFROM:-0500
TZOFFSETTO:-0400
TZNAME:EDT
DTSTART:20260308T070000
END:DAYLIGHT
BEGIN:STANDARD
TZOFFSETFROM:-0400
TZOFFSETTO:-0500
TZNAME:EST
DTSTART:20261101T060000
END:STANDARD
END:VTIMEZONE
BEGIN:VEVENT
DTSTART;TZID=America/New_York:20250727T180000
DTEND;TZID=America/New_York:20250727T190000
DTSTAMP:20260419T214133
CREATED:20250624T191512Z
LAST-MODIFIED:20250624T191512Z
UID:10011654-1753639200-1753642800@olddutchchurch.org
SUMMARY:Voice Theatre Summer Camp Performance
DESCRIPTION:
URL:https://olddutchchurch.org/event/voice-theatre-summer-camp-performance/
END:VEVENT
BEGIN:VEVENT
DTSTART;TZID=America/New_York:20250727T140000
DTEND;TZID=America/New_York:20250727T170000
DTSTAMP:20260419T214133
CREATED:20250624T173437Z
LAST-MODIFIED:20250624T173700Z
UID:10011527-1753624800-1753635600@olddutchchurch.org
SUMMARY:Voice Theatre Noises Off Matinee
DESCRIPTION:
URL:https://olddutchchurch.org/event/voice-theatre-noises-off-matinee/2025-07-27/
END:VEVENT
BEGIN:VEVENT
DTSTART;TZID=America/New_York:20250727T113000
DTEND;TZID=America/New_York:20250727T123000
DTSTAMP:20260419T214133
CREATED:20220621T151126Z
LAST-MODIFIED:20230131T004016Z
UID:10005734-1753615800-1753619400@olddutchchurch.org
SUMMARY:ACA
DESCRIPTION:ACA in OMG
URL:https://olddutchchurch.org/event/aca/2025-07-27/
LOCATION:Old Dutch Church\, Wall Street\, Kingston\, 272 Wall Street\, Kingston\, NY\, 12401\, United States
END:VEVENT
BEGIN:VEVENT
DTSTART;TZID=America/New_York:20250727T103000
DTEND;TZID=America/New_York:20250727T113000
DTSTAMP:20260419T214133
CREATED:20220621T145509Z
LAST-MODIFIED:20230131T010033Z
UID:10005434-1753612200-1753615800@olddutchchurch.org
SUMMARY:Sunday Worship
DESCRIPTION:Sunday worship in the Sanctuary
URL:https://olddutchchurch.org/event/sunday-worship/2025-07-27/
LOCATION:Old Dutch Church\, Wall Street\, Kingston\, 272 Wall Street\, Kingston\, NY\, 12401\, United States
END:VEVENT
BEGIN:VEVENT
DTSTART;TZID=America/New_York:20250726T210000
DTEND;TZID=America/New_York:20250726T220000
DTSTAMP:20260419T214133
CREATED:20230131T003843Z
LAST-MODIFIED:20230131T003843Z
UID:10008560-1753563600-1753567200@olddutchchurch.org
SUMMARY:AA Book Group
DESCRIPTION:
URL:https://olddutchchurch.org/event/aa-book-group/2025-07-26/
END:VEVENT
BEGIN:VEVENT
DTSTART;TZID=America/New_York:20250726T190000
DTEND;TZID=America/New_York:20250726T210000
DTSTAMP:20260419T214133
CREATED:20250624T170932Z
LAST-MODIFIED:20250624T173235Z
UID:10011521-1753556400-1753563600@olddutchchurch.org
SUMMARY:Voice Theatre Noises Off
DESCRIPTION:Noises Off Performance
URL:https://olddutchchurch.org/event/voice-theatre-noises-off/2025-07-26/
END:VEVENT
BEGIN:VEVENT
DTSTART;TZID=America/New_York:20250726T140000
DTEND;TZID=America/New_York:20250726T170000
DTSTAMP:20260419T214133
CREATED:20250624T173437Z
LAST-MODIFIED:20250624T173700Z
UID:10011526-1753538400-1753549200@olddutchchurch.org
SUMMARY:Voice Theatre Noises Off Matinee
DESCRIPTION:
URL:https://olddutchchurch.org/event/voice-theatre-noises-off-matinee/2025-07-26/
END:VEVENT
BEGIN:VEVENT
DTSTART;TZID=America/New_York:20250726T100000
DTEND;TZID=America/New_York:20250726T120000
DTSTAMP:20260419T214133
CREATED:20250624T191423Z
LAST-MODIFIED:20250624T191423Z
UID:10011653-1753524000-1753531200@olddutchchurch.org
SUMMARY:Voice Theatre Summer Camp Rehearsal
DESCRIPTION:
URL:https://olddutchchurch.org/event/voice-theatre-summer-camp-rehearsal/
END:VEVENT
BEGIN:VEVENT
DTSTART;TZID=America/New_York:20250725T190000
DTEND;TZID=America/New_York:20250725T210000
DTSTAMP:20260419T214133
CREATED:20250624T170932Z
LAST-MODIFIED:20250624T173235Z
UID:10011520-1753470000-1753477200@olddutchchurch.org
SUMMARY:Voice Theatre Noises Off
DESCRIPTION:Noises Off Performance
URL:https://olddutchchurch.org/event/voice-theatre-noises-off/2025-07-25/
END:VEVENT
BEGIN:VEVENT
DTSTART;TZID=America/New_York:20250725T100000
DTEND;TZID=America/New_York:20250725T150000
DTSTAMP:20260419T214133
CREATED:20250624T191330Z
LAST-MODIFIED:20250624T191330Z
UID:10011652-1753437600-1753455600@olddutchchurch.org
SUMMARY:Voice Theatre Summer Camp
DESCRIPTION:
URL:https://olddutchchurch.org/event/voice-theatre-summer-camp/2025-07-25/
END:VEVENT
BEGIN:VEVENT
DTSTART;TZID=America/New_York:20250724T190000
DTEND;TZID=America/New_York:20250724T210000
DTSTAMP:20260419T214133
CREATED:20250624T170932Z
LAST-MODIFIED:20250624T173235Z
UID:10011519-1753383600-1753390800@olddutchchurch.org
SUMMARY:Voice Theatre Noises Off
DESCRIPTION:Noises Off Performance
URL:https://olddutchchurch.org/event/voice-theatre-noises-off/2025-07-24/
END:VEVENT
BEGIN:VEVENT
DTSTART;TZID=America/New_York:20250724T190000
DTEND;TZID=America/New_York:20250724T200000
DTSTAMP:20260419T214133
CREATED:20230131T003704Z
LAST-MODIFIED:20230131T003704Z
UID:10008024-1753383600-1753387200@olddutchchurch.org
SUMMARY:AA
DESCRIPTION:
URL:https://olddutchchurch.org/event/aa/2025-07-24/
END:VEVENT
BEGIN:VEVENT
DTSTART;TZID=America/New_York:20250724T183000
DTEND;TZID=America/New_York:20250724T193000
DTSTAMP:20260419T214133
CREATED:20230131T004310Z
LAST-MODIFIED:20230131T004310Z
UID:10009322-1753381800-1753385400@olddutchchurch.org
SUMMARY:ACA Book Group
DESCRIPTION:Meeting every other week
URL:https://olddutchchurch.org/event/aca-book-group/2025-07-24/
END:VEVENT
BEGIN:VEVENT
DTSTART;TZID=America/New_York:20250724T100000
DTEND;TZID=America/New_York:20250724T150000
DTSTAMP:20260419T214133
CREATED:20250624T191330Z
LAST-MODIFIED:20250624T191330Z
UID:10011651-1753351200-1753369200@olddutchchurch.org
SUMMARY:Voice Theatre Summer Camp
DESCRIPTION:
URL:https://olddutchchurch.org/event/voice-theatre-summer-camp/2025-07-24/
END:VEVENT
BEGIN:VEVENT
DTSTART;TZID=America/New_York:20250723T180000
DTEND;TZID=America/New_York:20250723T210000
DTSTAMP:20260419T214133
CREATED:20230131T003225Z
LAST-MODIFIED:20250624T171339Z
UID:10007071-1753293600-1753304400@olddutchchurch.org
SUMMARY:Ubaka Hill Drum Circle
DESCRIPTION:
URL:https://olddutchchurch.org/event/ubaka-hill-drum-circle/2025-07-23/
END:VEVENT
BEGIN:VEVENT
DTSTART;TZID=America/New_York:20250723T160000
DTEND;TZID=America/New_York:20250723T180000
DTSTAMP:20260419T214133
CREATED:20250624T194037Z
LAST-MODIFIED:20250624T194037Z
UID:10011660-1753286400-1753293600@olddutchchurch.org
SUMMARY:Vegan Happy Cart
DESCRIPTION:Free Vegan Food
URL:https://olddutchchurch.org/event/vegan-happy-cart/2025-07-23/
END:VEVENT
BEGIN:VEVENT
DTSTART;TZID=America/New_York:20250723T130000
DTEND;TZID=America/New_York:20250723T140000
DTSTAMP:20260419T214133
CREATED:20220621T152107Z
LAST-MODIFIED:20250624T163908Z
UID:10007371-1753275600-1753279200@olddutchchurch.org
SUMMARY:Community Chorus (on hiatus until Fall)
DESCRIPTION:Community Chorus in Bethany Hall
URL:https://olddutchchurch.org/event/community-chorus/2025-07-23/
END:VEVENT
BEGIN:VEVENT
DTSTART;TZID=America/New_York:20250723T120000
DTEND;TZID=America/New_York:20250723T130000
DTSTAMP:20260419T214133
CREATED:20250625T194104Z
LAST-MODIFIED:20250625T194104Z
UID:10011682-1753272000-1753275600@olddutchchurch.org
SUMMARY:ACA
DESCRIPTION:
URL:https://olddutchchurch.org/event/aca-2/2025-07-23/
END:VEVENT
BEGIN:VEVENT
DTSTART;TZID=America/New_York:20250723T100000
DTEND;TZID=America/New_York:20250723T150000
DTSTAMP:20260419T214133
CREATED:20250624T191330Z
LAST-MODIFIED:20250624T191330Z
UID:10011650-1753264800-1753282800@olddutchchurch.org
SUMMARY:Voice Theatre Summer Camp
DESCRIPTION:
URL:https://olddutchchurch.org/event/voice-theatre-summer-camp/2025-07-23/
END:VEVENT
BEGIN:VEVENT
DTSTART;TZID=America/New_York:20250722T100000
DTEND;TZID=America/New_York:20250722T150000
DTSTAMP:20260419T214133
CREATED:20250624T191330Z
LAST-MODIFIED:20250624T191330Z
UID:10011649-1753178400-1753196400@olddutchchurch.org
SUMMARY:Voice Theatre Summer Camp
DESCRIPTION:
URL:https://olddutchchurch.org/event/voice-theatre-summer-camp/2025-07-22/
END:VEVENT
BEGIN:VEVENT
DTSTART;TZID=America/New_York:20250721T190000
DTEND;TZID=America/New_York:20250721T200000
DTSTAMP:20260419T214133
CREATED:20230131T004717Z
LAST-MODIFIED:20230131T004717Z
UID:10009589-1753124400-1753128000@olddutchchurch.org
SUMMARY:Debtors’ Anonymous
DESCRIPTION:
URL:https://olddutchchurch.org/event/debtors-anonymous/2025-07-21/
END:VEVENT
BEGIN:VEVENT
DTSTART;TZID=America/New_York:20250721T170000
DTEND;TZID=America/New_York:20250721T180000
DTSTAMP:20260419T214133
CREATED:20230131T005556Z
LAST-MODIFIED:20230131T005556Z
UID:10009856-1753117200-1753120800@olddutchchurch.org
SUMMARY:SLAA Augustine Fellowship
DESCRIPTION:
URL:https://olddutchchurch.org/event/slaa-augustine-fellowship/2025-07-21/
END:VEVENT
BEGIN:VEVENT
DTSTART;TZID=America/New_York:20250721T160000
DTEND;TZID=America/New_York:20250721T190000
DTSTAMP:20260419T214133
CREATED:20250624T192001Z
LAST-MODIFIED:20250624T192001Z
UID:10011655-1753113600-1753124400@olddutchchurch.org
SUMMARY:Hey Neighbor
DESCRIPTION:A variety of neighbors preparing and selling global cuisine for take home meals.
URL:https://olddutchchurch.org/event/hey-neighbor/
END:VEVENT
BEGIN:VEVENT
DTSTART;TZID=America/New_York:20250721T100000
DTEND;TZID=America/New_York:20250721T150000
DTSTAMP:20260419T214133
CREATED:20250624T191330Z
LAST-MODIFIED:20250624T191330Z
UID:10011648-1753092000-1753110000@olddutchchurch.org
SUMMARY:Voice Theatre Summer Camp
DESCRIPTION:
URL:https://olddutchchurch.org/event/voice-theatre-summer-camp/2025-07-21/
END:VEVENT
BEGIN:VEVENT
DTSTART;TZID=America/New_York:20250720T190000
DTEND;TZID=America/New_York:20250720T213000
DTSTAMP:20260419T214133
CREATED:20220621T152603Z
LAST-MODIFIED:20230131T005403Z
UID:10008291-1753038000-1753047000@olddutchchurch.org
SUMMARY:SLAA Women’s Group
DESCRIPTION:SLAA in OMG
URL:https://olddutchchurch.org/event/slaa-3/2025-07-20/
END:VEVENT
BEGIN:VEVENT
DTSTART;TZID=America/New_York:20250720T140000
DTEND;TZID=America/New_York:20250720T170000
DTSTAMP:20260419T214133
CREATED:20250624T173437Z
LAST-MODIFIED:20250624T173700Z
UID:10011525-1753020000-1753030800@olddutchchurch.org
SUMMARY:Voice Theatre Noises Off Matinee
DESCRIPTION:
URL:https://olddutchchurch.org/event/voice-theatre-noises-off-matinee/2025-07-20/
END:VEVENT
BEGIN:VEVENT
DTSTART;TZID=America/New_York:20250720T113000
DTEND;TZID=America/New_York:20250720T123000
DTSTAMP:20260419T214133
CREATED:20220621T151126Z
LAST-MODIFIED:20230131T004016Z
UID:10005733-1753011000-1753014600@olddutchchurch.org
SUMMARY:ACA
DESCRIPTION:ACA in OMG
URL:https://olddutchchurch.org/event/aca/2025-07-20/
LOCATION:Old Dutch Church\, Wall Street\, Kingston\, 272 Wall Street\, Kingston\, NY\, 12401\, United States
END:VEVENT
BEGIN:VEVENT
DTSTART;TZID=America/New_York:20250720T103000
DTEND;TZID=America/New_York:20250720T113000
DTSTAMP:20260419T214133
CREATED:20220621T145509Z
LAST-MODIFIED:20230131T010033Z
UID:10005433-1753007400-1753011000@olddutchchurch.org
SUMMARY:Sunday Worship
DESCRIPTION:Sunday worship in the Sanctuary
URL:https://olddutchchurch.org/event/sunday-worship/2025-07-20/
LOCATION:Old Dutch Church\, Wall Street\, Kingston\, 272 Wall Street\, Kingston\, NY\, 12401\, United States
END:VEVENT
BEGIN:VEVENT
DTSTART;TZID=America/New_York:20250719T210000
DTEND;TZID=America/New_York:20250719T220000
DTSTAMP:20260419T214133
CREATED:20230131T003843Z
LAST-MODIFIED:20230131T003843Z
UID:10008559-1752958800-1752962400@olddutchchurch.org
SUMMARY:AA Book Group
DESCRIPTION:
URL:https://olddutchchurch.org/event/aa-book-group/2025-07-19/
END:VEVENT
BEGIN:VEVENT
DTSTART;TZID=America/New_York:20250719T190000
DTEND;TZID=America/New_York:20250719T210000
DTSTAMP:20260419T214133
CREATED:20250624T170932Z
LAST-MODIFIED:20250624T173235Z
UID:10011518-1752951600-1752958800@olddutchchurch.org
SUMMARY:Voice Theatre Noises Off
DESCRIPTION:Noises Off Performance
URL:https://olddutchchurch.org/event/voice-theatre-noises-off/2025-07-19/
END:VEVENT
END:VCALENDAR