BEGIN:VCALENDAR
VERSION:2.0
PRODID:-//Old Dutch Church - ECPv6.15.20//NONSGML v1.0//EN
CALSCALE:GREGORIAN
METHOD:PUBLISH
X-WR-CALNAME:Old Dutch Church
X-ORIGINAL-URL:https://olddutchchurch.org
X-WR-CALDESC:Events for Old Dutch Church
REFRESH-INTERVAL;VALUE=DURATION:PT1H
X-Robots-Tag:noindex
X-PUBLISHED-TTL:PT1H
BEGIN:VTIMEZONE
TZID:America/New_York
BEGIN:DAYLIGHT
TZOFFSETFROM:-0500
TZOFFSETTO:-0400
TZNAME:EDT
DTSTART:20220313T070000
END:DAYLIGHT
BEGIN:STANDARD
TZOFFSETFROM:-0400
TZOFFSETTO:-0500
TZNAME:EST
DTSTART:20221106T060000
END:STANDARD
BEGIN:DAYLIGHT
TZOFFSETFROM:-0500
TZOFFSETTO:-0400
TZNAME:EDT
DTSTART:20230312T070000
END:DAYLIGHT
BEGIN:STANDARD
TZOFFSETFROM:-0400
TZOFFSETTO:-0500
TZNAME:EST
DTSTART:20231105T060000
END:STANDARD
BEGIN:DAYLIGHT
TZOFFSETFROM:-0500
TZOFFSETTO:-0400
TZNAME:EDT
DTSTART:20240310T070000
END:DAYLIGHT
BEGIN:STANDARD
TZOFFSETFROM:-0400
TZOFFSETTO:-0500
TZNAME:EST
DTSTART:20241103T060000
END:STANDARD
END:VTIMEZONE
BEGIN:VEVENT
DTSTART;TZID=America/New_York:20230218T210000
DTEND;TZID=America/New_York:20230218T220000
DTSTAMP:20260422T181746
CREATED:20230131T003843Z
LAST-MODIFIED:20230131T003843Z
UID:10008433-1676754000-1676757600@olddutchchurch.org
SUMMARY:AA Book Group
DESCRIPTION:
URL:https://olddutchchurch.org/event/aa-book-group/2023-02-18/
END:VEVENT
BEGIN:VEVENT
DTSTART;TZID=America/New_York:20230218T183000
DTEND;TZID=America/New_York:20230218T203000
DTSTAMP:20260422T181746
CREATED:20230112T192033Z
LAST-MODIFIED:20230112T192033Z
UID:10005993-1676745000-1676752200@olddutchchurch.org
SUMMARY:Sound Healing and Guided Meditation
DESCRIPTION:Lorry Saluzzi\, Reiki Healer\, will be holding Free Community Reiki Demonstrations on January 28th and February from 11am to 3pm in the Sanctuary. She also offers Sound Healing and Guided Meditation upstairs in the corner Balcony Room on January 21st\, February 4th and 18th from 6:30pm to 8:30pm. There is a suggested donation of $25 per person $40 for two. Text or call her at (516) 708-5213
URL:https://olddutchchurch.org/event/sound-healing-and-guided-meditation-3/
END:VEVENT
BEGIN:VEVENT
DTSTART;TZID=America/New_York:20230218T090000
DTEND;TZID=America/New_York:20230218T100000
DTSTAMP:20260422T181746
CREATED:20220621T153115Z
LAST-MODIFIED:20220621T153115Z
UID:10008882-1676710800-1676714400@olddutchchurch.org
SUMMARY:HVKYPAA Book Club
DESCRIPTION:HVKYPAA Book Club – Bethany Hall
URL:https://olddutchchurch.org/event/hvkypaa-book-club/2023-02-18/
END:VEVENT
BEGIN:VEVENT
DTSTART;TZID=America/New_York:20230217T113000
DTEND;TZID=America/New_York:20230217T130000
DTSTAMP:20260422T181746
CREATED:20220621T152514Z
LAST-MODIFIED:20220621T152514Z
UID:10007890-1676633400-1676638800@olddutchchurch.org
SUMMARY:Chair Yoga
DESCRIPTION:Chair Yoga – Bethany Hall \nStart time:  11:45am to 1:15pm
URL:https://olddutchchurch.org/event/chair-yoga/2023-02-17/
END:VEVENT
BEGIN:VEVENT
DTSTART;TZID=America/New_York:20230216T190000
DTEND;TZID=America/New_York:20230216T210000
DTSTAMP:20260422T181746
CREATED:20220621T152326Z
LAST-MODIFIED:20220621T152326Z
UID:10007583-1676574000-1676581200@olddutchchurch.org
SUMMARY:HVYPAA
DESCRIPTION:HVYPAA in Bethany Hall
URL:https://olddutchchurch.org/event/hvypaa/2023-02-16/
END:VEVENT
BEGIN:VEVENT
DTSTART;TZID=America/New_York:20230216T190000
DTEND;TZID=America/New_York:20230216T200000
DTSTAMP:20260422T181746
CREATED:20230131T003704Z
LAST-MODIFIED:20230131T003704Z
UID:10007897-1676574000-1676577600@olddutchchurch.org
SUMMARY:AA
DESCRIPTION:
URL:https://olddutchchurch.org/event/aa/2023-02-16/
END:VEVENT
BEGIN:VEVENT
DTSTART;TZID=America/New_York:20230216T183000
DTEND;TZID=America/New_York:20230216T193000
DTSTAMP:20260422T181746
CREATED:20230131T004310Z
LAST-MODIFIED:20230131T004310Z
UID:10009195-1676572200-1676575800@olddutchchurch.org
SUMMARY:ACA Book Group
DESCRIPTION:Meeting every other week
URL:https://olddutchchurch.org/event/aca-book-group/2023-02-16/
END:VEVENT
BEGIN:VEVENT
DTSTART;TZID=America/New_York:20230215T180000
DTEND;TZID=America/New_York:20230215T210000
DTSTAMP:20260422T181746
CREATED:20230131T003225Z
LAST-MODIFIED:20250624T171339Z
UID:10006944-1676484000-1676494800@olddutchchurch.org
SUMMARY:Ubaka Hill Drum Circle
DESCRIPTION:
URL:https://olddutchchurch.org/event/ubaka-hill-drum-circle/2023-02-15/
END:VEVENT
BEGIN:VEVENT
DTSTART;TZID=America/New_York:20230215T130000
DTEND;TZID=America/New_York:20230215T140000
DTSTAMP:20260422T181746
CREATED:20220621T152107Z
LAST-MODIFIED:20250624T163908Z
UID:10007244-1676466000-1676469600@olddutchchurch.org
SUMMARY:Community Chorus (on hiatus until Fall)
DESCRIPTION:Community Chorus in Bethany Hall
URL:https://olddutchchurch.org/event/community-chorus/2023-02-15/
END:VEVENT
BEGIN:VEVENT
DTSTART;TZID=America/New_York:20230214T180000
DTEND;TZID=America/New_York:20230214T210000
DTSTAMP:20260422T181746
CREATED:20220621T152213Z
LAST-MODIFIED:20220621T152213Z
UID:10007544-1676397600-1676408400@olddutchchurch.org
SUMMARY:Women’s Drum Circle
DESCRIPTION:Women’s Drum Circle – Bethany Hall
URL:https://olddutchchurch.org/event/womens-drum-circle/2023-02-14/
END:VEVENT
BEGIN:VEVENT
DTSTART;TZID=America/New_York:20230213T190000
DTEND;TZID=America/New_York:20230213T200000
DTSTAMP:20260422T181746
CREATED:20230131T004717Z
LAST-MODIFIED:20230131T004717Z
UID:10009462-1676314800-1676318400@olddutchchurch.org
SUMMARY:Debtors’ Anonymous
DESCRIPTION:
URL:https://olddutchchurch.org/event/debtors-anonymous/2023-02-13/
END:VEVENT
BEGIN:VEVENT
DTSTART;TZID=America/New_York:20230213T190000
DTEND;TZID=America/New_York:20230213T200000
DTSTAMP:20260422T181746
CREATED:20220621T151857Z
LAST-MODIFIED:20220621T151857Z
UID:10006103-1676314800-1676318400@olddutchchurch.org
SUMMARY:BDA
DESCRIPTION:BDA in OMG
URL:https://olddutchchurch.org/event/bda/2023-02-13/
END:VEVENT
BEGIN:VEVENT
DTSTART;TZID=America/New_York:20230213T170000
DTEND;TZID=America/New_York:20230213T180000
DTSTAMP:20260422T181746
CREATED:20230131T005556Z
LAST-MODIFIED:20230131T005556Z
UID:10009729-1676307600-1676311200@olddutchchurch.org
SUMMARY:SLAA Augustine Fellowship
DESCRIPTION:
URL:https://olddutchchurch.org/event/slaa-augustine-fellowship/2023-02-13/
END:VEVENT
BEGIN:VEVENT
DTSTART;TZID=America/New_York:20230213T170000
DTEND;TZID=America/New_York:20230213T180000
DTSTAMP:20260422T181746
CREATED:20220621T151804Z
LAST-MODIFIED:20220621T151804Z
UID:10006065-1676307600-1676311200@olddutchchurch.org
SUMMARY:SLAA
DESCRIPTION:SLAA in OMG
URL:https://olddutchchurch.org/event/slaa-2/2023-02-13/
END:VEVENT
BEGIN:VEVENT
DTSTART;TZID=America/New_York:20230212T190000
DTEND;TZID=America/New_York:20230212T213000
DTSTAMP:20260422T181746
CREATED:20220621T152603Z
LAST-MODIFIED:20230131T005403Z
UID:10008164-1676228400-1676237400@olddutchchurch.org
SUMMARY:SLAA Women’s Group
DESCRIPTION:SLAA in OMG
URL:https://olddutchchurch.org/event/slaa-3/2023-02-12/
END:VEVENT
BEGIN:VEVENT
DTSTART;TZID=America/New_York:20230212T190000
DTEND;TZID=America/New_York:20230212T213000
DTSTAMP:20260422T181746
CREATED:20220621T151654Z
LAST-MODIFIED:20220621T151654Z
UID:10006027-1676228400-1676237400@olddutchchurch.org
SUMMARY:SLAA
DESCRIPTION:SLAA in OMG
URL:https://olddutchchurch.org/event/slaa/2023-02-12/
END:VEVENT
BEGIN:VEVENT
DTSTART;TZID=America/New_York:20230212T180000
DTEND;TZID=America/New_York:20230212T203000
DTSTAMP:20260422T181746
CREATED:20220621T151545Z
LAST-MODIFIED:20230131T001910Z
UID:10005945-1676224800-1676233800@olddutchchurch.org
SUMMARY:ARS Choralis
DESCRIPTION:ARS Choralis in Bethany Hall
URL:https://olddutchchurch.org/event/ars-choralis/2023-02-12/
END:VEVENT
BEGIN:VEVENT
DTSTART;TZID=America/New_York:20230212T170000
DTEND;TZID=America/New_York:20230212T183000
DTSTAMP:20260422T181746
CREATED:20220621T151346Z
LAST-MODIFIED:20220621T151346Z
UID:10005905-1676221200-1676226600@olddutchchurch.org
SUMMARY:Healing Hearts
DESCRIPTION:Healing Hearts in OMG
URL:https://olddutchchurch.org/event/healing-hearts/2023-02-12/
END:VEVENT
BEGIN:VEVENT
DTSTART;TZID=America/New_York:20230212T113000
DTEND;TZID=America/New_York:20230212T123000
DTSTAMP:20260422T181746
CREATED:20220621T151126Z
LAST-MODIFIED:20230131T004016Z
UID:10005606-1676201400-1676205000@olddutchchurch.org
SUMMARY:ACA
DESCRIPTION:ACA in OMG
URL:https://olddutchchurch.org/event/aca/2023-02-12/
LOCATION:Old Dutch Church\, Wall Street\, Kingston\, 272 Wall Street\, Kingston\, NY\, 12401\, United States
END:VEVENT
BEGIN:VEVENT
DTSTART;TZID=America/New_York:20230212T103000
DTEND;TZID=America/New_York:20230212T113000
DTSTAMP:20260422T181746
CREATED:20220621T145509Z
LAST-MODIFIED:20230131T010033Z
UID:10005306-1676197800-1676201400@olddutchchurch.org
SUMMARY:Sunday Worship
DESCRIPTION:Sunday worship in the Sanctuary
URL:https://olddutchchurch.org/event/sunday-worship/2023-02-12/
LOCATION:Old Dutch Church\, Wall Street\, Kingston\, 272 Wall Street\, Kingston\, NY\, 12401\, United States
END:VEVENT
BEGIN:VEVENT
DTSTART;TZID=America/New_York:20230211T210000
DTEND;TZID=America/New_York:20230211T220000
DTSTAMP:20260422T181746
CREATED:20230131T003843Z
LAST-MODIFIED:20230131T003843Z
UID:10008432-1676149200-1676152800@olddutchchurch.org
SUMMARY:AA Book Group
DESCRIPTION:
URL:https://olddutchchurch.org/event/aa-book-group/2023-02-11/
END:VEVENT
BEGIN:VEVENT
DTSTART;TZID=America/New_York:20230211T100000
DTEND;TZID=America/New_York:20230211T150000
DTSTAMP:20260422T181746
CREATED:20230112T191444Z
LAST-MODIFIED:20230112T191444Z
UID:10009192-1676109600-1676127600@olddutchchurch.org
SUMMARY:HEARTS AND CRAFTS
DESCRIPTION:HEARTS AND CRAFTS: On February 11th from 10am to 3 pm Old Dutch will feature local artisans in a Maker’s Market upstairs during the Farmer’s Market. It is a perfect place to find unique handmade items for your special someone!
URL:https://olddutchchurch.org/event/hearts-and-crafts/
LOCATION:Old Dutch Church\, Wall Street\, Kingston\, 272 Wall Street\, Kingston\, NY\, 12401\, United States
END:VEVENT
BEGIN:VEVENT
DTSTART;TZID=America/New_York:20230211T100000
DTEND;TZID=America/New_York:20230211T140000
DTSTAMP:20260422T181746
CREATED:20230112T190803Z
LAST-MODIFIED:20230112T192253Z
UID:10009186-1676109600-1676124000@olddutchchurch.org
SUMMARY:Kingston Farmer's Market
DESCRIPTION:The Kingston Farmer’s Market is held in Bethany Hall every other Saturday from 10am to 2pm throughout the winter. Market dates are January 14th and 28th\, February 11th and 25th\, March 11th and 25th\, and April 8th and 22nd.\n\n\n\n\n\n\nOur resident vegan chef\, Gabby\, of Gab’s Veg Table will be selling her delicious vegan grab and go sandwiches and sides on Saturdays during the Kingston Farmers Market
URL:https://olddutchchurch.org/event/kingston-farmers-market-2/
LOCATION:Old Dutch Church\, Wall Street\, Kingston\, 272 Wall Street\, Kingston\, NY\, 12401\, United States
END:VEVENT
BEGIN:VEVENT
DTSTART;TZID=America/New_York:20230211T090000
DTEND;TZID=America/New_York:20230211T100000
DTSTAMP:20260422T181746
CREATED:20220621T153115Z
LAST-MODIFIED:20220621T153115Z
UID:10008881-1676106000-1676109600@olddutchchurch.org
SUMMARY:HVKYPAA Book Club
DESCRIPTION:HVKYPAA Book Club – Bethany Hall
URL:https://olddutchchurch.org/event/hvkypaa-book-club/2023-02-11/
END:VEVENT
BEGIN:VEVENT
DTSTART;TZID=America/New_York:20230210T113000
DTEND;TZID=America/New_York:20230210T130000
DTSTAMP:20260422T181746
CREATED:20220621T152514Z
LAST-MODIFIED:20220621T152514Z
UID:10007889-1676028600-1676034000@olddutchchurch.org
SUMMARY:Chair Yoga
DESCRIPTION:Chair Yoga – Bethany Hall \nStart time:  11:45am to 1:15pm
URL:https://olddutchchurch.org/event/chair-yoga/2023-02-10/
END:VEVENT
BEGIN:VEVENT
DTSTART;TZID=America/New_York:20230209T190000
DTEND;TZID=America/New_York:20230209T210000
DTSTAMP:20260422T181746
CREATED:20220621T152326Z
LAST-MODIFIED:20220621T152326Z
UID:10007582-1675969200-1675976400@olddutchchurch.org
SUMMARY:HVYPAA
DESCRIPTION:HVYPAA in Bethany Hall
URL:https://olddutchchurch.org/event/hvypaa/2023-02-09/
END:VEVENT
BEGIN:VEVENT
DTSTART;TZID=America/New_York:20230209T190000
DTEND;TZID=America/New_York:20230209T200000
DTSTAMP:20260422T181746
CREATED:20230131T003704Z
LAST-MODIFIED:20230131T003704Z
UID:10007896-1675969200-1675972800@olddutchchurch.org
SUMMARY:AA
DESCRIPTION:
URL:https://olddutchchurch.org/event/aa/2023-02-09/
END:VEVENT
BEGIN:VEVENT
DTSTART;TZID=America/New_York:20230209T183000
DTEND;TZID=America/New_York:20230209T193000
DTSTAMP:20260422T181746
CREATED:20230131T004310Z
LAST-MODIFIED:20230131T004310Z
UID:10009194-1675967400-1675971000@olddutchchurch.org
SUMMARY:ACA Book Group
DESCRIPTION:Meeting every other week
URL:https://olddutchchurch.org/event/aca-book-group/2023-02-09/
END:VEVENT
BEGIN:VEVENT
DTSTART;TZID=America/New_York:20230208T180000
DTEND;TZID=America/New_York:20230208T210000
DTSTAMP:20260422T181746
CREATED:20230131T003225Z
LAST-MODIFIED:20250624T171339Z
UID:10006943-1675879200-1675890000@olddutchchurch.org
SUMMARY:Ubaka Hill Drum Circle
DESCRIPTION:
URL:https://olddutchchurch.org/event/ubaka-hill-drum-circle/2023-02-08/
END:VEVENT
BEGIN:VEVENT
DTSTART;TZID=America/New_York:20230208T130000
DTEND;TZID=America/New_York:20230208T140000
DTSTAMP:20260422T181746
CREATED:20220621T152107Z
LAST-MODIFIED:20250624T163908Z
UID:10007243-1675861200-1675864800@olddutchchurch.org
SUMMARY:Community Chorus (on hiatus until Fall)
DESCRIPTION:Community Chorus in Bethany Hall
URL:https://olddutchchurch.org/event/community-chorus/2023-02-08/
END:VEVENT
END:VCALENDAR