BEGIN:VCALENDAR
VERSION:2.0
PRODID:-//Old Dutch Church - ECPv6.15.20//NONSGML v1.0//EN
CALSCALE:GREGORIAN
METHOD:PUBLISH
X-WR-CALNAME:Old Dutch Church
X-ORIGINAL-URL:https://olddutchchurch.org
X-WR-CALDESC:Events for Old Dutch Church
REFRESH-INTERVAL;VALUE=DURATION:PT1H
X-Robots-Tag:noindex
X-PUBLISHED-TTL:PT1H
BEGIN:VTIMEZONE
TZID:America/New_York
BEGIN:DAYLIGHT
TZOFFSETFROM:-0500
TZOFFSETTO:-0400
TZNAME:EDT
DTSTART:20230312T070000
END:DAYLIGHT
BEGIN:STANDARD
TZOFFSETFROM:-0400
TZOFFSETTO:-0500
TZNAME:EST
DTSTART:20231105T060000
END:STANDARD
BEGIN:DAYLIGHT
TZOFFSETFROM:-0500
TZOFFSETTO:-0400
TZNAME:EDT
DTSTART:20240310T070000
END:DAYLIGHT
BEGIN:STANDARD
TZOFFSETFROM:-0400
TZOFFSETTO:-0500
TZNAME:EST
DTSTART:20241103T060000
END:STANDARD
BEGIN:DAYLIGHT
TZOFFSETFROM:-0500
TZOFFSETTO:-0400
TZNAME:EDT
DTSTART:20250309T070000
END:DAYLIGHT
BEGIN:STANDARD
TZOFFSETFROM:-0400
TZOFFSETTO:-0500
TZNAME:EST
DTSTART:20251102T060000
END:STANDARD
END:VTIMEZONE
BEGIN:VEVENT
DTSTART;TZID=America/New_York:20241114T190000
DTEND;TZID=America/New_York:20241114T200000
DTSTAMP:20260422T181924
CREATED:20230131T003704Z
LAST-MODIFIED:20230131T003704Z
UID:10007988-1731610800-1731614400@olddutchchurch.org
SUMMARY:AA
DESCRIPTION:
URL:https://olddutchchurch.org/event/aa/2024-11-14/
END:VEVENT
BEGIN:VEVENT
DTSTART;TZID=America/New_York:20241114T183000
DTEND;TZID=America/New_York:20241114T193000
DTSTAMP:20260422T181924
CREATED:20230131T004310Z
LAST-MODIFIED:20230131T004310Z
UID:10009286-1731609000-1731612600@olddutchchurch.org
SUMMARY:ACA Book Group
DESCRIPTION:Meeting every other week
URL:https://olddutchchurch.org/event/aca-book-group/2024-11-14/
END:VEVENT
BEGIN:VEVENT
DTSTART;TZID=America/New_York:20241113T180000
DTEND;TZID=America/New_York:20241113T210000
DTSTAMP:20260422T181924
CREATED:20230131T003225Z
LAST-MODIFIED:20250624T171339Z
UID:10007035-1731520800-1731531600@olddutchchurch.org
SUMMARY:Ubaka Hill Drum Circle
DESCRIPTION:
URL:https://olddutchchurch.org/event/ubaka-hill-drum-circle/2024-11-13/
END:VEVENT
BEGIN:VEVENT
DTSTART;TZID=America/New_York:20241113T130000
DTEND;TZID=America/New_York:20241113T140000
DTSTAMP:20260422T181924
CREATED:20220621T152107Z
LAST-MODIFIED:20250624T163908Z
UID:10007335-1731502800-1731506400@olddutchchurch.org
SUMMARY:Community Chorus (on hiatus until Fall)
DESCRIPTION:Community Chorus in Bethany Hall
URL:https://olddutchchurch.org/event/community-chorus/2024-11-13/
END:VEVENT
BEGIN:VEVENT
DTSTART;TZID=America/New_York:20241111T190000
DTEND;TZID=America/New_York:20241111T200000
DTSTAMP:20260422T181924
CREATED:20230131T004717Z
LAST-MODIFIED:20230131T004717Z
UID:10009553-1731351600-1731355200@olddutchchurch.org
SUMMARY:Debtors’ Anonymous
DESCRIPTION:
URL:https://olddutchchurch.org/event/debtors-anonymous/2024-11-11/
END:VEVENT
BEGIN:VEVENT
DTSTART;TZID=America/New_York:20241111T170000
DTEND;TZID=America/New_York:20241111T180000
DTSTAMP:20260422T181924
CREATED:20230131T005556Z
LAST-MODIFIED:20230131T005556Z
UID:10009820-1731344400-1731348000@olddutchchurch.org
SUMMARY:SLAA Augustine Fellowship
DESCRIPTION:
URL:https://olddutchchurch.org/event/slaa-augustine-fellowship/2024-11-11/
END:VEVENT
BEGIN:VEVENT
DTSTART;TZID=America/New_York:20241110T190000
DTEND;TZID=America/New_York:20241110T213000
DTSTAMP:20260422T181924
CREATED:20220621T152603Z
LAST-MODIFIED:20230131T005403Z
UID:10008255-1731265200-1731274200@olddutchchurch.org
SUMMARY:SLAA Women’s Group
DESCRIPTION:SLAA in OMG
URL:https://olddutchchurch.org/event/slaa-3/2024-11-10/
END:VEVENT
BEGIN:VEVENT
DTSTART;TZID=America/New_York:20241110T113000
DTEND;TZID=America/New_York:20241110T123000
DTSTAMP:20260422T181924
CREATED:20220621T151126Z
LAST-MODIFIED:20230131T004016Z
UID:10005697-1731238200-1731241800@olddutchchurch.org
SUMMARY:ACA
DESCRIPTION:ACA in OMG
URL:https://olddutchchurch.org/event/aca/2024-11-10/
LOCATION:Old Dutch Church\, Wall Street\, Kingston\, 272 Wall Street\, Kingston\, NY\, 12401\, United States
END:VEVENT
BEGIN:VEVENT
DTSTART;TZID=America/New_York:20241110T103000
DTEND;TZID=America/New_York:20241110T113000
DTSTAMP:20260422T181924
CREATED:20220621T145509Z
LAST-MODIFIED:20230131T010033Z
UID:10005397-1731234600-1731238200@olddutchchurch.org
SUMMARY:Sunday Worship
DESCRIPTION:Sunday worship in the Sanctuary
URL:https://olddutchchurch.org/event/sunday-worship/2024-11-10/
LOCATION:Old Dutch Church\, Wall Street\, Kingston\, 272 Wall Street\, Kingston\, NY\, 12401\, United States
END:VEVENT
BEGIN:VEVENT
DTSTART;TZID=America/New_York:20241109T210000
DTEND;TZID=America/New_York:20241109T220000
DTSTAMP:20260422T181924
CREATED:20230131T003843Z
LAST-MODIFIED:20230131T003843Z
UID:10008523-1731186000-1731189600@olddutchchurch.org
SUMMARY:AA Book Group
DESCRIPTION:
URL:https://olddutchchurch.org/event/aa-book-group/2024-11-09/
END:VEVENT
BEGIN:VEVENT
DTSTART;TZID=America/New_York:20241107T190000
DTEND;TZID=America/New_York:20241107T200000
DTSTAMP:20260422T181924
CREATED:20230131T003704Z
LAST-MODIFIED:20230131T003704Z
UID:10007987-1731006000-1731009600@olddutchchurch.org
SUMMARY:AA
DESCRIPTION:
URL:https://olddutchchurch.org/event/aa/2024-11-07/
END:VEVENT
BEGIN:VEVENT
DTSTART;TZID=America/New_York:20241107T183000
DTEND;TZID=America/New_York:20241107T193000
DTSTAMP:20260422T181924
CREATED:20230131T004310Z
LAST-MODIFIED:20230131T004310Z
UID:10009285-1731004200-1731007800@olddutchchurch.org
SUMMARY:ACA Book Group
DESCRIPTION:Meeting every other week
URL:https://olddutchchurch.org/event/aca-book-group/2024-11-07/
END:VEVENT
BEGIN:VEVENT
DTSTART;TZID=America/New_York:20241106T180000
DTEND;TZID=America/New_York:20241106T210000
DTSTAMP:20260422T181924
CREATED:20230131T003225Z
LAST-MODIFIED:20250624T171339Z
UID:10007034-1730916000-1730926800@olddutchchurch.org
SUMMARY:Ubaka Hill Drum Circle
DESCRIPTION:
URL:https://olddutchchurch.org/event/ubaka-hill-drum-circle/2024-11-06/
END:VEVENT
BEGIN:VEVENT
DTSTART;TZID=America/New_York:20241106T130000
DTEND;TZID=America/New_York:20241106T140000
DTSTAMP:20260422T181924
CREATED:20220621T152107Z
LAST-MODIFIED:20250624T163908Z
UID:10007334-1730898000-1730901600@olddutchchurch.org
SUMMARY:Community Chorus (on hiatus until Fall)
DESCRIPTION:Community Chorus in Bethany Hall
URL:https://olddutchchurch.org/event/community-chorus/2024-11-06/
END:VEVENT
BEGIN:VEVENT
DTSTART;TZID=America/New_York:20241104T190000
DTEND;TZID=America/New_York:20241104T200000
DTSTAMP:20260422T181924
CREATED:20230131T004717Z
LAST-MODIFIED:20230131T004717Z
UID:10009552-1730746800-1730750400@olddutchchurch.org
SUMMARY:Debtors’ Anonymous
DESCRIPTION:
URL:https://olddutchchurch.org/event/debtors-anonymous/2024-11-04/
END:VEVENT
BEGIN:VEVENT
DTSTART;TZID=America/New_York:20241104T170000
DTEND;TZID=America/New_York:20241104T180000
DTSTAMP:20260422T181924
CREATED:20230131T005556Z
LAST-MODIFIED:20230131T005556Z
UID:10009819-1730739600-1730743200@olddutchchurch.org
SUMMARY:SLAA Augustine Fellowship
DESCRIPTION:
URL:https://olddutchchurch.org/event/slaa-augustine-fellowship/2024-11-04/
END:VEVENT
BEGIN:VEVENT
DTSTART;TZID=America/New_York:20241103T190000
DTEND;TZID=America/New_York:20241103T213000
DTSTAMP:20260422T181924
CREATED:20220621T152603Z
LAST-MODIFIED:20230131T005403Z
UID:10008254-1730660400-1730669400@olddutchchurch.org
SUMMARY:SLAA Women’s Group
DESCRIPTION:SLAA in OMG
URL:https://olddutchchurch.org/event/slaa-3/2024-11-03/
END:VEVENT
BEGIN:VEVENT
DTSTART;TZID=America/New_York:20241103T113000
DTEND;TZID=America/New_York:20241103T123000
DTSTAMP:20260422T181924
CREATED:20220621T151126Z
LAST-MODIFIED:20230131T004016Z
UID:10005696-1730633400-1730637000@olddutchchurch.org
SUMMARY:ACA
DESCRIPTION:ACA in OMG
URL:https://olddutchchurch.org/event/aca/2024-11-03/
LOCATION:Old Dutch Church\, Wall Street\, Kingston\, 272 Wall Street\, Kingston\, NY\, 12401\, United States
END:VEVENT
BEGIN:VEVENT
DTSTART;TZID=America/New_York:20241103T103000
DTEND;TZID=America/New_York:20241103T113000
DTSTAMP:20260422T181925
CREATED:20220621T145509Z
LAST-MODIFIED:20230131T010033Z
UID:10005396-1730629800-1730633400@olddutchchurch.org
SUMMARY:Sunday Worship
DESCRIPTION:Sunday worship in the Sanctuary
URL:https://olddutchchurch.org/event/sunday-worship/2024-11-03/
LOCATION:Old Dutch Church\, Wall Street\, Kingston\, 272 Wall Street\, Kingston\, NY\, 12401\, United States
END:VEVENT
BEGIN:VEVENT
DTSTART;TZID=America/New_York:20241102T210000
DTEND;TZID=America/New_York:20241102T220000
DTSTAMP:20260422T181925
CREATED:20230131T003843Z
LAST-MODIFIED:20230131T003843Z
UID:10008522-1730581200-1730584800@olddutchchurch.org
SUMMARY:AA Book Group
DESCRIPTION:
URL:https://olddutchchurch.org/event/aa-book-group/2024-11-02/
END:VEVENT
BEGIN:VEVENT
DTSTART;TZID=America/New_York:20241031T190000
DTEND;TZID=America/New_York:20241031T200000
DTSTAMP:20260422T181925
CREATED:20230131T003704Z
LAST-MODIFIED:20230131T003704Z
UID:10007986-1730401200-1730404800@olddutchchurch.org
SUMMARY:AA
DESCRIPTION:
URL:https://olddutchchurch.org/event/aa/2024-10-31/
END:VEVENT
BEGIN:VEVENT
DTSTART;TZID=America/New_York:20241031T183000
DTEND;TZID=America/New_York:20241031T193000
DTSTAMP:20260422T181925
CREATED:20230131T004310Z
LAST-MODIFIED:20230131T004310Z
UID:10009284-1730399400-1730403000@olddutchchurch.org
SUMMARY:ACA Book Group
DESCRIPTION:Meeting every other week
URL:https://olddutchchurch.org/event/aca-book-group/2024-10-31/
END:VEVENT
BEGIN:VEVENT
DTSTART;TZID=America/New_York:20241030T180000
DTEND;TZID=America/New_York:20241030T210000
DTSTAMP:20260422T181925
CREATED:20230131T003225Z
LAST-MODIFIED:20250624T171339Z
UID:10007033-1730311200-1730322000@olddutchchurch.org
SUMMARY:Ubaka Hill Drum Circle
DESCRIPTION:
URL:https://olddutchchurch.org/event/ubaka-hill-drum-circle/2024-10-30/
END:VEVENT
BEGIN:VEVENT
DTSTART;TZID=America/New_York:20241030T130000
DTEND;TZID=America/New_York:20241030T140000
DTSTAMP:20260422T181925
CREATED:20220621T152107Z
LAST-MODIFIED:20250624T163908Z
UID:10007333-1730293200-1730296800@olddutchchurch.org
SUMMARY:Community Chorus (on hiatus until Fall)
DESCRIPTION:Community Chorus in Bethany Hall
URL:https://olddutchchurch.org/event/community-chorus/2024-10-30/
END:VEVENT
BEGIN:VEVENT
DTSTART;TZID=America/New_York:20241028T190000
DTEND;TZID=America/New_York:20241028T200000
DTSTAMP:20260422T181925
CREATED:20230131T004717Z
LAST-MODIFIED:20230131T004717Z
UID:10009551-1730142000-1730145600@olddutchchurch.org
SUMMARY:Debtors’ Anonymous
DESCRIPTION:
URL:https://olddutchchurch.org/event/debtors-anonymous/2024-10-28/
END:VEVENT
BEGIN:VEVENT
DTSTART;TZID=America/New_York:20241028T170000
DTEND;TZID=America/New_York:20241028T180000
DTSTAMP:20260422T181925
CREATED:20230131T005556Z
LAST-MODIFIED:20230131T005556Z
UID:10009818-1730134800-1730138400@olddutchchurch.org
SUMMARY:SLAA Augustine Fellowship
DESCRIPTION:
URL:https://olddutchchurch.org/event/slaa-augustine-fellowship/2024-10-28/
END:VEVENT
BEGIN:VEVENT
DTSTART;TZID=America/New_York:20241027T190000
DTEND;TZID=America/New_York:20241027T213000
DTSTAMP:20260422T181925
CREATED:20220621T152603Z
LAST-MODIFIED:20230131T005403Z
UID:10008253-1730055600-1730064600@olddutchchurch.org
SUMMARY:SLAA Women’s Group
DESCRIPTION:SLAA in OMG
URL:https://olddutchchurch.org/event/slaa-3/2024-10-27/
END:VEVENT
BEGIN:VEVENT
DTSTART;TZID=America/New_York:20241027T113000
DTEND;TZID=America/New_York:20241027T123000
DTSTAMP:20260422T181925
CREATED:20220621T151126Z
LAST-MODIFIED:20230131T004016Z
UID:10005695-1730028600-1730032200@olddutchchurch.org
SUMMARY:ACA
DESCRIPTION:ACA in OMG
URL:https://olddutchchurch.org/event/aca/2024-10-27/
LOCATION:Old Dutch Church\, Wall Street\, Kingston\, 272 Wall Street\, Kingston\, NY\, 12401\, United States
END:VEVENT
BEGIN:VEVENT
DTSTART;TZID=America/New_York:20241027T103000
DTEND;TZID=America/New_York:20241027T113000
DTSTAMP:20260422T181925
CREATED:20220621T145509Z
LAST-MODIFIED:20230131T010033Z
UID:10005395-1730025000-1730028600@olddutchchurch.org
SUMMARY:Sunday Worship
DESCRIPTION:Sunday worship in the Sanctuary
URL:https://olddutchchurch.org/event/sunday-worship/2024-10-27/
LOCATION:Old Dutch Church\, Wall Street\, Kingston\, 272 Wall Street\, Kingston\, NY\, 12401\, United States
END:VEVENT
BEGIN:VEVENT
DTSTART;TZID=America/New_York:20241026T210000
DTEND;TZID=America/New_York:20241026T220000
DTSTAMP:20260422T181925
CREATED:20230131T003843Z
LAST-MODIFIED:20230131T003843Z
UID:10008521-1729976400-1729980000@olddutchchurch.org
SUMMARY:AA Book Group
DESCRIPTION:
URL:https://olddutchchurch.org/event/aa-book-group/2024-10-26/
END:VEVENT
END:VCALENDAR