BEGIN:VCALENDAR
VERSION:2.0
PRODID:-//Old Dutch Church - ECPv6.15.20//NONSGML v1.0//EN
CALSCALE:GREGORIAN
METHOD:PUBLISH
X-ORIGINAL-URL:https://olddutchchurch.org
X-WR-CALDESC:Events for Old Dutch Church
REFRESH-INTERVAL;VALUE=DURATION:PT1H
X-Robots-Tag:noindex
X-PUBLISHED-TTL:PT1H
BEGIN:VTIMEZONE
TZID:America/New_York
BEGIN:DAYLIGHT
TZOFFSETFROM:-0500
TZOFFSETTO:-0400
TZNAME:EDT
DTSTART:20220313T070000
END:DAYLIGHT
BEGIN:STANDARD
TZOFFSETFROM:-0400
TZOFFSETTO:-0500
TZNAME:EST
DTSTART:20221106T060000
END:STANDARD
BEGIN:DAYLIGHT
TZOFFSETFROM:-0500
TZOFFSETTO:-0400
TZNAME:EDT
DTSTART:20230312T070000
END:DAYLIGHT
BEGIN:STANDARD
TZOFFSETFROM:-0400
TZOFFSETTO:-0500
TZNAME:EST
DTSTART:20231105T060000
END:STANDARD
BEGIN:DAYLIGHT
TZOFFSETFROM:-0500
TZOFFSETTO:-0400
TZNAME:EDT
DTSTART:20240310T070000
END:DAYLIGHT
BEGIN:STANDARD
TZOFFSETFROM:-0400
TZOFFSETTO:-0500
TZNAME:EST
DTSTART:20241103T060000
END:STANDARD
END:VTIMEZONE
BEGIN:VEVENT
DTSTART;TZID=America/New_York:20230730T103000
DTEND;TZID=America/New_York:20230730T113000
DTSTAMP:20260422T174703
CREATED:20220621T145509Z
LAST-MODIFIED:20230131T010033Z
UID:10005330-1690713000-1690716600@olddutchchurch.org
SUMMARY:Sunday Worship
DESCRIPTION:Sunday worship in the Sanctuary
URL:https://olddutchchurch.org/event/sunday-worship/2023-07-30/
LOCATION:Old Dutch Church\, Wall Street\, Kingston\, 272 Wall Street\, Kingston\, NY\, 12401\, United States
END:VEVENT
BEGIN:VEVENT
DTSTART;TZID=America/New_York:20230730T113000
DTEND;TZID=America/New_York:20230730T123000
DTSTAMP:20260422T174703
CREATED:20220621T151126Z
LAST-MODIFIED:20230131T004016Z
UID:10005630-1690716600-1690720200@olddutchchurch.org
SUMMARY:ACA
DESCRIPTION:ACA in OMG
URL:https://olddutchchurch.org/event/aca/2023-07-30/
LOCATION:Old Dutch Church\, Wall Street\, Kingston\, 272 Wall Street\, Kingston\, NY\, 12401\, United States
END:VEVENT
BEGIN:VEVENT
DTSTART;TZID=America/New_York:20230730T180000
DTEND;TZID=America/New_York:20230730T203000
DTSTAMP:20260422T174703
CREATED:20220621T151545Z
LAST-MODIFIED:20230131T001910Z
UID:10005969-1690740000-1690749000@olddutchchurch.org
SUMMARY:ARS Choralis
DESCRIPTION:ARS Choralis in Bethany Hall
URL:https://olddutchchurch.org/event/ars-choralis/2023-07-30/
END:VEVENT
BEGIN:VEVENT
DTSTART;TZID=America/New_York:20230730T190000
DTEND;TZID=America/New_York:20230730T213000
DTSTAMP:20260422T174703
CREATED:20220621T152603Z
LAST-MODIFIED:20230131T005403Z
UID:10008188-1690743600-1690752600@olddutchchurch.org
SUMMARY:SLAA Women’s Group
DESCRIPTION:SLAA in OMG
URL:https://olddutchchurch.org/event/slaa-3/2023-07-30/
END:VEVENT
BEGIN:VEVENT
DTSTART;TZID=America/New_York:20230731T170000
DTEND;TZID=America/New_York:20230731T180000
DTSTAMP:20260422T174703
CREATED:20230131T005556Z
LAST-MODIFIED:20230131T005556Z
UID:10009753-1690822800-1690826400@olddutchchurch.org
SUMMARY:SLAA Augustine Fellowship
DESCRIPTION:
URL:https://olddutchchurch.org/event/slaa-augustine-fellowship/2023-07-31/
END:VEVENT
BEGIN:VEVENT
DTSTART;TZID=America/New_York:20230731T190000
DTEND;TZID=America/New_York:20230731T200000
DTSTAMP:20260422T174703
CREATED:20230131T004717Z
LAST-MODIFIED:20230131T004717Z
UID:10009486-1690830000-1690833600@olddutchchurch.org
SUMMARY:Debtors’ Anonymous
DESCRIPTION:
URL:https://olddutchchurch.org/event/debtors-anonymous/2023-07-31/
END:VEVENT
BEGIN:VEVENT
DTSTART;TZID=America/New_York:20230802T130000
DTEND;TZID=America/New_York:20230802T140000
DTSTAMP:20260422T174703
CREATED:20220621T152107Z
LAST-MODIFIED:20250624T163908Z
UID:10007268-1690981200-1690984800@olddutchchurch.org
SUMMARY:Community Chorus (on hiatus until Fall)
DESCRIPTION:Community Chorus in Bethany Hall
URL:https://olddutchchurch.org/event/community-chorus/2023-08-02/
END:VEVENT
BEGIN:VEVENT
DTSTART;TZID=America/New_York:20230802T180000
DTEND;TZID=America/New_York:20230802T210000
DTSTAMP:20260422T174703
CREATED:20230131T003225Z
LAST-MODIFIED:20250624T171339Z
UID:10006968-1690999200-1691010000@olddutchchurch.org
SUMMARY:Ubaka Hill Drum Circle
DESCRIPTION:
URL:https://olddutchchurch.org/event/ubaka-hill-drum-circle/2023-08-02/
END:VEVENT
BEGIN:VEVENT
DTSTART;TZID=America/New_York:20230803T183000
DTEND;TZID=America/New_York:20230803T193000
DTSTAMP:20260422T174703
CREATED:20230131T004310Z
LAST-MODIFIED:20230131T004310Z
UID:10009219-1691087400-1691091000@olddutchchurch.org
SUMMARY:ACA Book Group
DESCRIPTION:Meeting every other week
URL:https://olddutchchurch.org/event/aca-book-group/2023-08-03/
END:VEVENT
BEGIN:VEVENT
DTSTART;TZID=America/New_York:20230803T190000
DTEND;TZID=America/New_York:20230803T200000
DTSTAMP:20260422T174703
CREATED:20230131T003704Z
LAST-MODIFIED:20230131T003704Z
UID:10007921-1691089200-1691092800@olddutchchurch.org
SUMMARY:AA
DESCRIPTION:
URL:https://olddutchchurch.org/event/aa/2023-08-03/
END:VEVENT
BEGIN:VEVENT
DTSTART;TZID=America/New_York:20230805T210000
DTEND;TZID=America/New_York:20230805T220000
DTSTAMP:20260422T174703
CREATED:20230131T003843Z
LAST-MODIFIED:20230131T003843Z
UID:10008457-1691269200-1691272800@olddutchchurch.org
SUMMARY:AA Book Group
DESCRIPTION:
URL:https://olddutchchurch.org/event/aa-book-group/2023-08-05/
END:VEVENT
BEGIN:VEVENT
DTSTART;TZID=America/New_York:20230806T103000
DTEND;TZID=America/New_York:20230806T113000
DTSTAMP:20260422T174703
CREATED:20220621T145509Z
LAST-MODIFIED:20230131T010033Z
UID:10005331-1691317800-1691321400@olddutchchurch.org
SUMMARY:Sunday Worship
DESCRIPTION:Sunday worship in the Sanctuary
URL:https://olddutchchurch.org/event/sunday-worship/2023-08-06/
LOCATION:Old Dutch Church\, Wall Street\, Kingston\, 272 Wall Street\, Kingston\, NY\, 12401\, United States
END:VEVENT
BEGIN:VEVENT
DTSTART;TZID=America/New_York:20230806T113000
DTEND;TZID=America/New_York:20230806T123000
DTSTAMP:20260422T174703
CREATED:20220621T151126Z
LAST-MODIFIED:20230131T004016Z
UID:10005631-1691321400-1691325000@olddutchchurch.org
SUMMARY:ACA
DESCRIPTION:ACA in OMG
URL:https://olddutchchurch.org/event/aca/2023-08-06/
LOCATION:Old Dutch Church\, Wall Street\, Kingston\, 272 Wall Street\, Kingston\, NY\, 12401\, United States
END:VEVENT
BEGIN:VEVENT
DTSTART;TZID=America/New_York:20230806T180000
DTEND;TZID=America/New_York:20230806T203000
DTSTAMP:20260422T174703
CREATED:20220621T151545Z
LAST-MODIFIED:20230131T001910Z
UID:10005970-1691344800-1691353800@olddutchchurch.org
SUMMARY:ARS Choralis
DESCRIPTION:ARS Choralis in Bethany Hall
URL:https://olddutchchurch.org/event/ars-choralis/2023-08-06/
END:VEVENT
BEGIN:VEVENT
DTSTART;TZID=America/New_York:20230806T190000
DTEND;TZID=America/New_York:20230806T213000
DTSTAMP:20260422T174703
CREATED:20220621T152603Z
LAST-MODIFIED:20230131T005403Z
UID:10008189-1691348400-1691357400@olddutchchurch.org
SUMMARY:SLAA Women’s Group
DESCRIPTION:SLAA in OMG
URL:https://olddutchchurch.org/event/slaa-3/2023-08-06/
END:VEVENT
BEGIN:VEVENT
DTSTART;TZID=America/New_York:20230807T170000
DTEND;TZID=America/New_York:20230807T180000
DTSTAMP:20260422T174703
CREATED:20230131T005556Z
LAST-MODIFIED:20230131T005556Z
UID:10009754-1691427600-1691431200@olddutchchurch.org
SUMMARY:SLAA Augustine Fellowship
DESCRIPTION:
URL:https://olddutchchurch.org/event/slaa-augustine-fellowship/2023-08-07/
END:VEVENT
BEGIN:VEVENT
DTSTART;TZID=America/New_York:20230807T190000
DTEND;TZID=America/New_York:20230807T200000
DTSTAMP:20260422T174703
CREATED:20230131T004717Z
LAST-MODIFIED:20230131T004717Z
UID:10009487-1691434800-1691438400@olddutchchurch.org
SUMMARY:Debtors’ Anonymous
DESCRIPTION:
URL:https://olddutchchurch.org/event/debtors-anonymous/2023-08-07/
END:VEVENT
BEGIN:VEVENT
DTSTART;TZID=America/New_York:20230809T130000
DTEND;TZID=America/New_York:20230809T140000
DTSTAMP:20260422T174703
CREATED:20220621T152107Z
LAST-MODIFIED:20250624T163908Z
UID:10007269-1691586000-1691589600@olddutchchurch.org
SUMMARY:Community Chorus (on hiatus until Fall)
DESCRIPTION:Community Chorus in Bethany Hall
URL:https://olddutchchurch.org/event/community-chorus/2023-08-09/
END:VEVENT
BEGIN:VEVENT
DTSTART;TZID=America/New_York:20230809T180000
DTEND;TZID=America/New_York:20230809T210000
DTSTAMP:20260422T174703
CREATED:20230131T003225Z
LAST-MODIFIED:20250624T171339Z
UID:10006969-1691604000-1691614800@olddutchchurch.org
SUMMARY:Ubaka Hill Drum Circle
DESCRIPTION:
URL:https://olddutchchurch.org/event/ubaka-hill-drum-circle/2023-08-09/
END:VEVENT
BEGIN:VEVENT
DTSTART;TZID=America/New_York:20230810T183000
DTEND;TZID=America/New_York:20230810T193000
DTSTAMP:20260422T174703
CREATED:20230131T004310Z
LAST-MODIFIED:20230131T004310Z
UID:10009220-1691692200-1691695800@olddutchchurch.org
SUMMARY:ACA Book Group
DESCRIPTION:Meeting every other week
URL:https://olddutchchurch.org/event/aca-book-group/2023-08-10/
END:VEVENT
BEGIN:VEVENT
DTSTART;TZID=America/New_York:20230810T190000
DTEND;TZID=America/New_York:20230810T200000
DTSTAMP:20260422T174703
CREATED:20230131T003704Z
LAST-MODIFIED:20230131T003704Z
UID:10007922-1691694000-1691697600@olddutchchurch.org
SUMMARY:AA
DESCRIPTION:
URL:https://olddutchchurch.org/event/aa/2023-08-10/
END:VEVENT
BEGIN:VEVENT
DTSTART;TZID=America/New_York:20230812T210000
DTEND;TZID=America/New_York:20230812T220000
DTSTAMP:20260422T174703
CREATED:20230131T003843Z
LAST-MODIFIED:20230131T003843Z
UID:10008458-1691874000-1691877600@olddutchchurch.org
SUMMARY:AA Book Group
DESCRIPTION:
URL:https://olddutchchurch.org/event/aa-book-group/2023-08-12/
END:VEVENT
BEGIN:VEVENT
DTSTART;TZID=America/New_York:20230813T103000
DTEND;TZID=America/New_York:20230813T113000
DTSTAMP:20260422T174703
CREATED:20220621T145509Z
LAST-MODIFIED:20230131T010033Z
UID:10005332-1691922600-1691926200@olddutchchurch.org
SUMMARY:Sunday Worship
DESCRIPTION:Sunday worship in the Sanctuary
URL:https://olddutchchurch.org/event/sunday-worship/2023-08-13/
LOCATION:Old Dutch Church\, Wall Street\, Kingston\, 272 Wall Street\, Kingston\, NY\, 12401\, United States
END:VEVENT
BEGIN:VEVENT
DTSTART;TZID=America/New_York:20230813T113000
DTEND;TZID=America/New_York:20230813T123000
DTSTAMP:20260422T174703
CREATED:20220621T151126Z
LAST-MODIFIED:20230131T004016Z
UID:10005632-1691926200-1691929800@olddutchchurch.org
SUMMARY:ACA
DESCRIPTION:ACA in OMG
URL:https://olddutchchurch.org/event/aca/2023-08-13/
LOCATION:Old Dutch Church\, Wall Street\, Kingston\, 272 Wall Street\, Kingston\, NY\, 12401\, United States
END:VEVENT
BEGIN:VEVENT
DTSTART;TZID=America/New_York:20230813T180000
DTEND;TZID=America/New_York:20230813T203000
DTSTAMP:20260422T174703
CREATED:20220621T151545Z
LAST-MODIFIED:20230131T001910Z
UID:10005971-1691949600-1691958600@olddutchchurch.org
SUMMARY:ARS Choralis
DESCRIPTION:ARS Choralis in Bethany Hall
URL:https://olddutchchurch.org/event/ars-choralis/2023-08-13/
END:VEVENT
BEGIN:VEVENT
DTSTART;TZID=America/New_York:20230813T190000
DTEND;TZID=America/New_York:20230813T213000
DTSTAMP:20260422T174703
CREATED:20220621T152603Z
LAST-MODIFIED:20230131T005403Z
UID:10008190-1691953200-1691962200@olddutchchurch.org
SUMMARY:SLAA Women’s Group
DESCRIPTION:SLAA in OMG
URL:https://olddutchchurch.org/event/slaa-3/2023-08-13/
END:VEVENT
BEGIN:VEVENT
DTSTART;TZID=America/New_York:20230814T170000
DTEND;TZID=America/New_York:20230814T180000
DTSTAMP:20260422T174703
CREATED:20230131T005556Z
LAST-MODIFIED:20230131T005556Z
UID:10009755-1692032400-1692036000@olddutchchurch.org
SUMMARY:SLAA Augustine Fellowship
DESCRIPTION:
URL:https://olddutchchurch.org/event/slaa-augustine-fellowship/2023-08-14/
END:VEVENT
BEGIN:VEVENT
DTSTART;TZID=America/New_York:20230814T190000
DTEND;TZID=America/New_York:20230814T200000
DTSTAMP:20260422T174703
CREATED:20230131T004717Z
LAST-MODIFIED:20230131T004717Z
UID:10009488-1692039600-1692043200@olddutchchurch.org
SUMMARY:Debtors’ Anonymous
DESCRIPTION:
URL:https://olddutchchurch.org/event/debtors-anonymous/2023-08-14/
END:VEVENT
BEGIN:VEVENT
DTSTART;TZID=America/New_York:20230816T130000
DTEND;TZID=America/New_York:20230816T140000
DTSTAMP:20260422T174703
CREATED:20220621T152107Z
LAST-MODIFIED:20250624T163908Z
UID:10007270-1692190800-1692194400@olddutchchurch.org
SUMMARY:Community Chorus (on hiatus until Fall)
DESCRIPTION:Community Chorus in Bethany Hall
URL:https://olddutchchurch.org/event/community-chorus/2023-08-16/
END:VEVENT
BEGIN:VEVENT
DTSTART;TZID=America/New_York:20230816T180000
DTEND;TZID=America/New_York:20230816T210000
DTSTAMP:20260422T174703
CREATED:20230131T003225Z
LAST-MODIFIED:20250624T171339Z
UID:10006970-1692208800-1692219600@olddutchchurch.org
SUMMARY:Ubaka Hill Drum Circle
DESCRIPTION:
URL:https://olddutchchurch.org/event/ubaka-hill-drum-circle/2023-08-16/
END:VEVENT
END:VCALENDAR