BEGIN:VCALENDAR
VERSION:2.0
PRODID:-//Old Dutch Church - ECPv6.15.20//NONSGML v1.0//EN
CALSCALE:GREGORIAN
METHOD:PUBLISH
X-WR-CALNAME:Old Dutch Church
X-ORIGINAL-URL:https://olddutchchurch.org
X-WR-CALDESC:Events for Old Dutch Church
REFRESH-INTERVAL;VALUE=DURATION:PT1H
X-Robots-Tag:noindex
X-PUBLISHED-TTL:PT1H
BEGIN:VTIMEZONE
TZID:America/New_York
BEGIN:DAYLIGHT
TZOFFSETFROM:-0500
TZOFFSETTO:-0400
TZNAME:EDT
DTSTART:20220313T070000
END:DAYLIGHT
BEGIN:STANDARD
TZOFFSETFROM:-0400
TZOFFSETTO:-0500
TZNAME:EST
DTSTART:20221106T060000
END:STANDARD
BEGIN:DAYLIGHT
TZOFFSETFROM:-0500
TZOFFSETTO:-0400
TZNAME:EDT
DTSTART:20230312T070000
END:DAYLIGHT
BEGIN:STANDARD
TZOFFSETFROM:-0400
TZOFFSETTO:-0500
TZNAME:EST
DTSTART:20231105T060000
END:STANDARD
BEGIN:DAYLIGHT
TZOFFSETFROM:-0500
TZOFFSETTO:-0400
TZNAME:EDT
DTSTART:20240310T070000
END:DAYLIGHT
BEGIN:STANDARD
TZOFFSETFROM:-0400
TZOFFSETTO:-0500
TZNAME:EST
DTSTART:20241103T060000
END:STANDARD
END:VTIMEZONE
BEGIN:VEVENT
DTSTART;TZID=America/New_York:20230709T190000
DTEND;TZID=America/New_York:20230709T213000
DTSTAMP:20260422T181752
CREATED:20220621T152603Z
LAST-MODIFIED:20230131T005403Z
UID:10008185-1688929200-1688938200@olddutchchurch.org
SUMMARY:SLAA Women’s Group
DESCRIPTION:SLAA in OMG
URL:https://olddutchchurch.org/event/slaa-3/2023-07-09/
END:VEVENT
BEGIN:VEVENT
DTSTART;TZID=America/New_York:20230710T170000
DTEND;TZID=America/New_York:20230710T180000
DTSTAMP:20260422T181752
CREATED:20230131T005556Z
LAST-MODIFIED:20230131T005556Z
UID:10009750-1689008400-1689012000@olddutchchurch.org
SUMMARY:SLAA Augustine Fellowship
DESCRIPTION:
URL:https://olddutchchurch.org/event/slaa-augustine-fellowship/2023-07-10/
END:VEVENT
BEGIN:VEVENT
DTSTART;TZID=America/New_York:20230710T190000
DTEND;TZID=America/New_York:20230710T200000
DTSTAMP:20260422T181752
CREATED:20230131T004717Z
LAST-MODIFIED:20230131T004717Z
UID:10009483-1689015600-1689019200@olddutchchurch.org
SUMMARY:Debtors’ Anonymous
DESCRIPTION:
URL:https://olddutchchurch.org/event/debtors-anonymous/2023-07-10/
END:VEVENT
BEGIN:VEVENT
DTSTART;TZID=America/New_York:20230712T130000
DTEND;TZID=America/New_York:20230712T140000
DTSTAMP:20260422T181752
CREATED:20220621T152107Z
LAST-MODIFIED:20250624T163908Z
UID:10007265-1689166800-1689170400@olddutchchurch.org
SUMMARY:Community Chorus (on hiatus until Fall)
DESCRIPTION:Community Chorus in Bethany Hall
URL:https://olddutchchurch.org/event/community-chorus/2023-07-12/
END:VEVENT
BEGIN:VEVENT
DTSTART;TZID=America/New_York:20230712T180000
DTEND;TZID=America/New_York:20230712T210000
DTSTAMP:20260422T181752
CREATED:20230131T003225Z
LAST-MODIFIED:20250624T171339Z
UID:10006965-1689184800-1689195600@olddutchchurch.org
SUMMARY:Ubaka Hill Drum Circle
DESCRIPTION:
URL:https://olddutchchurch.org/event/ubaka-hill-drum-circle/2023-07-12/
END:VEVENT
BEGIN:VEVENT
DTSTART;TZID=America/New_York:20230713T183000
DTEND;TZID=America/New_York:20230713T193000
DTSTAMP:20260422T181752
CREATED:20230131T004310Z
LAST-MODIFIED:20230131T004310Z
UID:10009216-1689273000-1689276600@olddutchchurch.org
SUMMARY:ACA Book Group
DESCRIPTION:Meeting every other week
URL:https://olddutchchurch.org/event/aca-book-group/2023-07-13/
END:VEVENT
BEGIN:VEVENT
DTSTART;TZID=America/New_York:20230713T190000
DTEND;TZID=America/New_York:20230713T200000
DTSTAMP:20260422T181752
CREATED:20230131T003704Z
LAST-MODIFIED:20230131T003704Z
UID:10007918-1689274800-1689278400@olddutchchurch.org
SUMMARY:AA
DESCRIPTION:
URL:https://olddutchchurch.org/event/aa/2023-07-13/
END:VEVENT
BEGIN:VEVENT
DTSTART;TZID=America/New_York:20230715T210000
DTEND;TZID=America/New_York:20230715T220000
DTSTAMP:20260422T181752
CREATED:20230131T003843Z
LAST-MODIFIED:20230131T003843Z
UID:10008454-1689454800-1689458400@olddutchchurch.org
SUMMARY:AA Book Group
DESCRIPTION:
URL:https://olddutchchurch.org/event/aa-book-group/2023-07-15/
END:VEVENT
BEGIN:VEVENT
DTSTART;TZID=America/New_York:20230716T103000
DTEND;TZID=America/New_York:20230716T113000
DTSTAMP:20260422T181752
CREATED:20220621T145509Z
LAST-MODIFIED:20230131T010033Z
UID:10005328-1689503400-1689507000@olddutchchurch.org
SUMMARY:Sunday Worship
DESCRIPTION:Sunday worship in the Sanctuary
URL:https://olddutchchurch.org/event/sunday-worship/2023-07-16/
LOCATION:Old Dutch Church\, Wall Street\, Kingston\, 272 Wall Street\, Kingston\, NY\, 12401\, United States
END:VEVENT
BEGIN:VEVENT
DTSTART;TZID=America/New_York:20230716T113000
DTEND;TZID=America/New_York:20230716T123000
DTSTAMP:20260422T181752
CREATED:20220621T151126Z
LAST-MODIFIED:20230131T004016Z
UID:10005628-1689507000-1689510600@olddutchchurch.org
SUMMARY:ACA
DESCRIPTION:ACA in OMG
URL:https://olddutchchurch.org/event/aca/2023-07-16/
LOCATION:Old Dutch Church\, Wall Street\, Kingston\, 272 Wall Street\, Kingston\, NY\, 12401\, United States
END:VEVENT
BEGIN:VEVENT
DTSTART;TZID=America/New_York:20230716T180000
DTEND;TZID=America/New_York:20230716T203000
DTSTAMP:20260422T181752
CREATED:20220621T151545Z
LAST-MODIFIED:20230131T001910Z
UID:10005967-1689530400-1689539400@olddutchchurch.org
SUMMARY:ARS Choralis
DESCRIPTION:ARS Choralis in Bethany Hall
URL:https://olddutchchurch.org/event/ars-choralis/2023-07-16/
END:VEVENT
BEGIN:VEVENT
DTSTART;TZID=America/New_York:20230716T190000
DTEND;TZID=America/New_York:20230716T213000
DTSTAMP:20260422T181752
CREATED:20220621T152603Z
LAST-MODIFIED:20230131T005403Z
UID:10008186-1689534000-1689543000@olddutchchurch.org
SUMMARY:SLAA Women’s Group
DESCRIPTION:SLAA in OMG
URL:https://olddutchchurch.org/event/slaa-3/2023-07-16/
END:VEVENT
BEGIN:VEVENT
DTSTART;TZID=America/New_York:20230717T170000
DTEND;TZID=America/New_York:20230717T180000
DTSTAMP:20260422T181752
CREATED:20230131T005556Z
LAST-MODIFIED:20230131T005556Z
UID:10009751-1689613200-1689616800@olddutchchurch.org
SUMMARY:SLAA Augustine Fellowship
DESCRIPTION:
URL:https://olddutchchurch.org/event/slaa-augustine-fellowship/2023-07-17/
END:VEVENT
BEGIN:VEVENT
DTSTART;TZID=America/New_York:20230717T190000
DTEND;TZID=America/New_York:20230717T200000
DTSTAMP:20260422T181752
CREATED:20230131T004717Z
LAST-MODIFIED:20230131T004717Z
UID:10009484-1689620400-1689624000@olddutchchurch.org
SUMMARY:Debtors’ Anonymous
DESCRIPTION:
URL:https://olddutchchurch.org/event/debtors-anonymous/2023-07-17/
END:VEVENT
BEGIN:VEVENT
DTSTART;TZID=America/New_York:20230719T130000
DTEND;TZID=America/New_York:20230719T140000
DTSTAMP:20260422T181752
CREATED:20220621T152107Z
LAST-MODIFIED:20250624T163908Z
UID:10007266-1689771600-1689775200@olddutchchurch.org
SUMMARY:Community Chorus (on hiatus until Fall)
DESCRIPTION:Community Chorus in Bethany Hall
URL:https://olddutchchurch.org/event/community-chorus/2023-07-19/
END:VEVENT
BEGIN:VEVENT
DTSTART;TZID=America/New_York:20230719T180000
DTEND;TZID=America/New_York:20230719T210000
DTSTAMP:20260422T181752
CREATED:20230131T003225Z
LAST-MODIFIED:20250624T171339Z
UID:10006966-1689789600-1689800400@olddutchchurch.org
SUMMARY:Ubaka Hill Drum Circle
DESCRIPTION:
URL:https://olddutchchurch.org/event/ubaka-hill-drum-circle/2023-07-19/
END:VEVENT
BEGIN:VEVENT
DTSTART;TZID=America/New_York:20230720T183000
DTEND;TZID=America/New_York:20230720T193000
DTSTAMP:20260422T181752
CREATED:20230131T004310Z
LAST-MODIFIED:20230131T004310Z
UID:10009217-1689877800-1689881400@olddutchchurch.org
SUMMARY:ACA Book Group
DESCRIPTION:Meeting every other week
URL:https://olddutchchurch.org/event/aca-book-group/2023-07-20/
END:VEVENT
BEGIN:VEVENT
DTSTART;TZID=America/New_York:20230720T190000
DTEND;TZID=America/New_York:20230720T200000
DTSTAMP:20260422T181752
CREATED:20230131T003704Z
LAST-MODIFIED:20230131T003704Z
UID:10007919-1689879600-1689883200@olddutchchurch.org
SUMMARY:AA
DESCRIPTION:
URL:https://olddutchchurch.org/event/aa/2023-07-20/
END:VEVENT
BEGIN:VEVENT
DTSTART;TZID=America/New_York:20230722T210000
DTEND;TZID=America/New_York:20230722T220000
DTSTAMP:20260422T181752
CREATED:20230131T003843Z
LAST-MODIFIED:20230131T003843Z
UID:10008455-1690059600-1690063200@olddutchchurch.org
SUMMARY:AA Book Group
DESCRIPTION:
URL:https://olddutchchurch.org/event/aa-book-group/2023-07-22/
END:VEVENT
BEGIN:VEVENT
DTSTART;TZID=America/New_York:20230723T103000
DTEND;TZID=America/New_York:20230723T113000
DTSTAMP:20260422T181752
CREATED:20220621T145509Z
LAST-MODIFIED:20230131T010033Z
UID:10005329-1690108200-1690111800@olddutchchurch.org
SUMMARY:Sunday Worship
DESCRIPTION:Sunday worship in the Sanctuary
URL:https://olddutchchurch.org/event/sunday-worship/2023-07-23/
LOCATION:Old Dutch Church\, Wall Street\, Kingston\, 272 Wall Street\, Kingston\, NY\, 12401\, United States
END:VEVENT
BEGIN:VEVENT
DTSTART;TZID=America/New_York:20230723T113000
DTEND;TZID=America/New_York:20230723T123000
DTSTAMP:20260422T181752
CREATED:20220621T151126Z
LAST-MODIFIED:20230131T004016Z
UID:10005629-1690111800-1690115400@olddutchchurch.org
SUMMARY:ACA
DESCRIPTION:ACA in OMG
URL:https://olddutchchurch.org/event/aca/2023-07-23/
LOCATION:Old Dutch Church\, Wall Street\, Kingston\, 272 Wall Street\, Kingston\, NY\, 12401\, United States
END:VEVENT
BEGIN:VEVENT
DTSTART;TZID=America/New_York:20230723T180000
DTEND;TZID=America/New_York:20230723T203000
DTSTAMP:20260422T181752
CREATED:20220621T151545Z
LAST-MODIFIED:20230131T001910Z
UID:10005968-1690135200-1690144200@olddutchchurch.org
SUMMARY:ARS Choralis
DESCRIPTION:ARS Choralis in Bethany Hall
URL:https://olddutchchurch.org/event/ars-choralis/2023-07-23/
END:VEVENT
BEGIN:VEVENT
DTSTART;TZID=America/New_York:20230723T190000
DTEND;TZID=America/New_York:20230723T213000
DTSTAMP:20260422T181752
CREATED:20220621T152603Z
LAST-MODIFIED:20230131T005403Z
UID:10008187-1690138800-1690147800@olddutchchurch.org
SUMMARY:SLAA Women’s Group
DESCRIPTION:SLAA in OMG
URL:https://olddutchchurch.org/event/slaa-3/2023-07-23/
END:VEVENT
BEGIN:VEVENT
DTSTART;TZID=America/New_York:20230724T170000
DTEND;TZID=America/New_York:20230724T180000
DTSTAMP:20260422T181752
CREATED:20230131T005556Z
LAST-MODIFIED:20230131T005556Z
UID:10009752-1690218000-1690221600@olddutchchurch.org
SUMMARY:SLAA Augustine Fellowship
DESCRIPTION:
URL:https://olddutchchurch.org/event/slaa-augustine-fellowship/2023-07-24/
END:VEVENT
BEGIN:VEVENT
DTSTART;TZID=America/New_York:20230724T190000
DTEND;TZID=America/New_York:20230724T200000
DTSTAMP:20260422T181752
CREATED:20230131T004717Z
LAST-MODIFIED:20230131T004717Z
UID:10009485-1690225200-1690228800@olddutchchurch.org
SUMMARY:Debtors’ Anonymous
DESCRIPTION:
URL:https://olddutchchurch.org/event/debtors-anonymous/2023-07-24/
END:VEVENT
BEGIN:VEVENT
DTSTART;TZID=America/New_York:20230726T130000
DTEND;TZID=America/New_York:20230726T140000
DTSTAMP:20260422T181752
CREATED:20220621T152107Z
LAST-MODIFIED:20250624T163908Z
UID:10007267-1690376400-1690380000@olddutchchurch.org
SUMMARY:Community Chorus (on hiatus until Fall)
DESCRIPTION:Community Chorus in Bethany Hall
URL:https://olddutchchurch.org/event/community-chorus/2023-07-26/
END:VEVENT
BEGIN:VEVENT
DTSTART;TZID=America/New_York:20230726T180000
DTEND;TZID=America/New_York:20230726T210000
DTSTAMP:20260422T181752
CREATED:20230131T003225Z
LAST-MODIFIED:20250624T171339Z
UID:10006967-1690394400-1690405200@olddutchchurch.org
SUMMARY:Ubaka Hill Drum Circle
DESCRIPTION:
URL:https://olddutchchurch.org/event/ubaka-hill-drum-circle/2023-07-26/
END:VEVENT
BEGIN:VEVENT
DTSTART;TZID=America/New_York:20230727T183000
DTEND;TZID=America/New_York:20230727T193000
DTSTAMP:20260422T181752
CREATED:20230131T004310Z
LAST-MODIFIED:20230131T004310Z
UID:10009218-1690482600-1690486200@olddutchchurch.org
SUMMARY:ACA Book Group
DESCRIPTION:Meeting every other week
URL:https://olddutchchurch.org/event/aca-book-group/2023-07-27/
END:VEVENT
BEGIN:VEVENT
DTSTART;TZID=America/New_York:20230727T190000
DTEND;TZID=America/New_York:20230727T200000
DTSTAMP:20260422T181752
CREATED:20230131T003704Z
LAST-MODIFIED:20230131T003704Z
UID:10007920-1690484400-1690488000@olddutchchurch.org
SUMMARY:AA
DESCRIPTION:
URL:https://olddutchchurch.org/event/aa/2023-07-27/
END:VEVENT
BEGIN:VEVENT
DTSTART;TZID=America/New_York:20230729T210000
DTEND;TZID=America/New_York:20230729T220000
DTSTAMP:20260422T181752
CREATED:20230131T003843Z
LAST-MODIFIED:20230131T003843Z
UID:10008456-1690664400-1690668000@olddutchchurch.org
SUMMARY:AA Book Group
DESCRIPTION:
URL:https://olddutchchurch.org/event/aa-book-group/2023-07-29/
END:VEVENT
END:VCALENDAR