BEGIN:VCALENDAR
VERSION:2.0
PRODID:-//Old Dutch Church - ECPv6.15.20//NONSGML v1.0//EN
CALSCALE:GREGORIAN
METHOD:PUBLISH
X-ORIGINAL-URL:https://olddutchchurch.org
X-WR-CALDESC:Events for Old Dutch Church
REFRESH-INTERVAL;VALUE=DURATION:PT1H
X-Robots-Tag:noindex
X-PUBLISHED-TTL:PT1H
BEGIN:VTIMEZONE
TZID:America/New_York
BEGIN:DAYLIGHT
TZOFFSETFROM:-0500
TZOFFSETTO:-0400
TZNAME:EDT
DTSTART:20220313T070000
END:DAYLIGHT
BEGIN:STANDARD
TZOFFSETFROM:-0400
TZOFFSETTO:-0500
TZNAME:EST
DTSTART:20221106T060000
END:STANDARD
BEGIN:DAYLIGHT
TZOFFSETFROM:-0500
TZOFFSETTO:-0400
TZNAME:EDT
DTSTART:20230312T070000
END:DAYLIGHT
BEGIN:STANDARD
TZOFFSETFROM:-0400
TZOFFSETTO:-0500
TZNAME:EST
DTSTART:20231105T060000
END:STANDARD
BEGIN:DAYLIGHT
TZOFFSETFROM:-0500
TZOFFSETTO:-0400
TZNAME:EDT
DTSTART:20240310T070000
END:DAYLIGHT
BEGIN:STANDARD
TZOFFSETFROM:-0400
TZOFFSETTO:-0500
TZNAME:EST
DTSTART:20241103T060000
END:STANDARD
END:VTIMEZONE
BEGIN:VEVENT
DTSTART;TZID=America/New_York:20230810T183000
DTEND;TZID=America/New_York:20230810T193000
DTSTAMP:20260422T174737
CREATED:20230131T004310Z
LAST-MODIFIED:20230131T004310Z
UID:10009220-1691692200-1691695800@olddutchchurch.org
SUMMARY:ACA Book Group
DESCRIPTION:Meeting every other week
URL:https://olddutchchurch.org/event/aca-book-group/2023-08-10/
END:VEVENT
BEGIN:VEVENT
DTSTART;TZID=America/New_York:20230810T190000
DTEND;TZID=America/New_York:20230810T200000
DTSTAMP:20260422T174737
CREATED:20230131T003704Z
LAST-MODIFIED:20230131T003704Z
UID:10007922-1691694000-1691697600@olddutchchurch.org
SUMMARY:AA
DESCRIPTION:
URL:https://olddutchchurch.org/event/aa/2023-08-10/
END:VEVENT
BEGIN:VEVENT
DTSTART;TZID=America/New_York:20230812T210000
DTEND;TZID=America/New_York:20230812T220000
DTSTAMP:20260422T174737
CREATED:20230131T003843Z
LAST-MODIFIED:20230131T003843Z
UID:10008458-1691874000-1691877600@olddutchchurch.org
SUMMARY:AA Book Group
DESCRIPTION:
URL:https://olddutchchurch.org/event/aa-book-group/2023-08-12/
END:VEVENT
BEGIN:VEVENT
DTSTART;TZID=America/New_York:20230813T103000
DTEND;TZID=America/New_York:20230813T113000
DTSTAMP:20260422T174737
CREATED:20220621T145509Z
LAST-MODIFIED:20230131T010033Z
UID:10005332-1691922600-1691926200@olddutchchurch.org
SUMMARY:Sunday Worship
DESCRIPTION:Sunday worship in the Sanctuary
URL:https://olddutchchurch.org/event/sunday-worship/2023-08-13/
LOCATION:Old Dutch Church\, Wall Street\, Kingston\, 272 Wall Street\, Kingston\, NY\, 12401\, United States
END:VEVENT
BEGIN:VEVENT
DTSTART;TZID=America/New_York:20230813T113000
DTEND;TZID=America/New_York:20230813T123000
DTSTAMP:20260422T174737
CREATED:20220621T151126Z
LAST-MODIFIED:20230131T004016Z
UID:10005632-1691926200-1691929800@olddutchchurch.org
SUMMARY:ACA
DESCRIPTION:ACA in OMG
URL:https://olddutchchurch.org/event/aca/2023-08-13/
LOCATION:Old Dutch Church\, Wall Street\, Kingston\, 272 Wall Street\, Kingston\, NY\, 12401\, United States
END:VEVENT
BEGIN:VEVENT
DTSTART;TZID=America/New_York:20230813T180000
DTEND;TZID=America/New_York:20230813T203000
DTSTAMP:20260422T174737
CREATED:20220621T151545Z
LAST-MODIFIED:20230131T001910Z
UID:10005971-1691949600-1691958600@olddutchchurch.org
SUMMARY:ARS Choralis
DESCRIPTION:ARS Choralis in Bethany Hall
URL:https://olddutchchurch.org/event/ars-choralis/2023-08-13/
END:VEVENT
BEGIN:VEVENT
DTSTART;TZID=America/New_York:20230813T190000
DTEND;TZID=America/New_York:20230813T213000
DTSTAMP:20260422T174737
CREATED:20220621T152603Z
LAST-MODIFIED:20230131T005403Z
UID:10008190-1691953200-1691962200@olddutchchurch.org
SUMMARY:SLAA Women’s Group
DESCRIPTION:SLAA in OMG
URL:https://olddutchchurch.org/event/slaa-3/2023-08-13/
END:VEVENT
BEGIN:VEVENT
DTSTART;TZID=America/New_York:20230814T170000
DTEND;TZID=America/New_York:20230814T180000
DTSTAMP:20260422T174737
CREATED:20230131T005556Z
LAST-MODIFIED:20230131T005556Z
UID:10009755-1692032400-1692036000@olddutchchurch.org
SUMMARY:SLAA Augustine Fellowship
DESCRIPTION:
URL:https://olddutchchurch.org/event/slaa-augustine-fellowship/2023-08-14/
END:VEVENT
BEGIN:VEVENT
DTSTART;TZID=America/New_York:20230814T190000
DTEND;TZID=America/New_York:20230814T200000
DTSTAMP:20260422T174737
CREATED:20230131T004717Z
LAST-MODIFIED:20230131T004717Z
UID:10009488-1692039600-1692043200@olddutchchurch.org
SUMMARY:Debtors’ Anonymous
DESCRIPTION:
URL:https://olddutchchurch.org/event/debtors-anonymous/2023-08-14/
END:VEVENT
BEGIN:VEVENT
DTSTART;TZID=America/New_York:20230816T130000
DTEND;TZID=America/New_York:20230816T140000
DTSTAMP:20260422T174737
CREATED:20220621T152107Z
LAST-MODIFIED:20250624T163908Z
UID:10007270-1692190800-1692194400@olddutchchurch.org
SUMMARY:Community Chorus (on hiatus until Fall)
DESCRIPTION:Community Chorus in Bethany Hall
URL:https://olddutchchurch.org/event/community-chorus/2023-08-16/
END:VEVENT
BEGIN:VEVENT
DTSTART;TZID=America/New_York:20230816T180000
DTEND;TZID=America/New_York:20230816T210000
DTSTAMP:20260422T174737
CREATED:20230131T003225Z
LAST-MODIFIED:20250624T171339Z
UID:10006970-1692208800-1692219600@olddutchchurch.org
SUMMARY:Ubaka Hill Drum Circle
DESCRIPTION:
URL:https://olddutchchurch.org/event/ubaka-hill-drum-circle/2023-08-16/
END:VEVENT
BEGIN:VEVENT
DTSTART;TZID=America/New_York:20230817T183000
DTEND;TZID=America/New_York:20230817T193000
DTSTAMP:20260422T174737
CREATED:20230131T004310Z
LAST-MODIFIED:20230131T004310Z
UID:10009221-1692297000-1692300600@olddutchchurch.org
SUMMARY:ACA Book Group
DESCRIPTION:Meeting every other week
URL:https://olddutchchurch.org/event/aca-book-group/2023-08-17/
END:VEVENT
BEGIN:VEVENT
DTSTART;TZID=America/New_York:20230817T190000
DTEND;TZID=America/New_York:20230817T200000
DTSTAMP:20260422T174737
CREATED:20230131T003704Z
LAST-MODIFIED:20230131T003704Z
UID:10007923-1692298800-1692302400@olddutchchurch.org
SUMMARY:AA
DESCRIPTION:
URL:https://olddutchchurch.org/event/aa/2023-08-17/
END:VEVENT
BEGIN:VEVENT
DTSTART;TZID=America/New_York:20230819T210000
DTEND;TZID=America/New_York:20230819T220000
DTSTAMP:20260422T174737
CREATED:20230131T003843Z
LAST-MODIFIED:20230131T003843Z
UID:10008459-1692478800-1692482400@olddutchchurch.org
SUMMARY:AA Book Group
DESCRIPTION:
URL:https://olddutchchurch.org/event/aa-book-group/2023-08-19/
END:VEVENT
BEGIN:VEVENT
DTSTART;TZID=America/New_York:20230820T103000
DTEND;TZID=America/New_York:20230820T113000
DTSTAMP:20260422T174737
CREATED:20220621T145509Z
LAST-MODIFIED:20230131T010033Z
UID:10005333-1692527400-1692531000@olddutchchurch.org
SUMMARY:Sunday Worship
DESCRIPTION:Sunday worship in the Sanctuary
URL:https://olddutchchurch.org/event/sunday-worship/2023-08-20/
LOCATION:Old Dutch Church\, Wall Street\, Kingston\, 272 Wall Street\, Kingston\, NY\, 12401\, United States
END:VEVENT
BEGIN:VEVENT
DTSTART;TZID=America/New_York:20230820T113000
DTEND;TZID=America/New_York:20230820T123000
DTSTAMP:20260422T174737
CREATED:20220621T151126Z
LAST-MODIFIED:20230131T004016Z
UID:10005633-1692531000-1692534600@olddutchchurch.org
SUMMARY:ACA
DESCRIPTION:ACA in OMG
URL:https://olddutchchurch.org/event/aca/2023-08-20/
LOCATION:Old Dutch Church\, Wall Street\, Kingston\, 272 Wall Street\, Kingston\, NY\, 12401\, United States
END:VEVENT
BEGIN:VEVENT
DTSTART;TZID=America/New_York:20230820T180000
DTEND;TZID=America/New_York:20230820T203000
DTSTAMP:20260422T174737
CREATED:20220621T151545Z
LAST-MODIFIED:20230131T001910Z
UID:10005972-1692554400-1692563400@olddutchchurch.org
SUMMARY:ARS Choralis
DESCRIPTION:ARS Choralis in Bethany Hall
URL:https://olddutchchurch.org/event/ars-choralis/2023-08-20/
END:VEVENT
BEGIN:VEVENT
DTSTART;TZID=America/New_York:20230820T190000
DTEND;TZID=America/New_York:20230820T213000
DTSTAMP:20260422T174737
CREATED:20220621T152603Z
LAST-MODIFIED:20230131T005403Z
UID:10008191-1692558000-1692567000@olddutchchurch.org
SUMMARY:SLAA Women’s Group
DESCRIPTION:SLAA in OMG
URL:https://olddutchchurch.org/event/slaa-3/2023-08-20/
END:VEVENT
BEGIN:VEVENT
DTSTART;TZID=America/New_York:20230821T170000
DTEND;TZID=America/New_York:20230821T180000
DTSTAMP:20260422T174737
CREATED:20230131T005556Z
LAST-MODIFIED:20230131T005556Z
UID:10009756-1692637200-1692640800@olddutchchurch.org
SUMMARY:SLAA Augustine Fellowship
DESCRIPTION:
URL:https://olddutchchurch.org/event/slaa-augustine-fellowship/2023-08-21/
END:VEVENT
BEGIN:VEVENT
DTSTART;TZID=America/New_York:20230821T190000
DTEND;TZID=America/New_York:20230821T200000
DTSTAMP:20260422T174737
CREATED:20230131T004717Z
LAST-MODIFIED:20230131T004717Z
UID:10009489-1692644400-1692648000@olddutchchurch.org
SUMMARY:Debtors’ Anonymous
DESCRIPTION:
URL:https://olddutchchurch.org/event/debtors-anonymous/2023-08-21/
END:VEVENT
BEGIN:VEVENT
DTSTART;TZID=America/New_York:20230823T130000
DTEND;TZID=America/New_York:20230823T140000
DTSTAMP:20260422T174737
CREATED:20220621T152107Z
LAST-MODIFIED:20250624T163908Z
UID:10007271-1692795600-1692799200@olddutchchurch.org
SUMMARY:Community Chorus (on hiatus until Fall)
DESCRIPTION:Community Chorus in Bethany Hall
URL:https://olddutchchurch.org/event/community-chorus/2023-08-23/
END:VEVENT
BEGIN:VEVENT
DTSTART;TZID=America/New_York:20230823T180000
DTEND;TZID=America/New_York:20230823T210000
DTSTAMP:20260422T174737
CREATED:20230131T003225Z
LAST-MODIFIED:20250624T171339Z
UID:10006971-1692813600-1692824400@olddutchchurch.org
SUMMARY:Ubaka Hill Drum Circle
DESCRIPTION:
URL:https://olddutchchurch.org/event/ubaka-hill-drum-circle/2023-08-23/
END:VEVENT
BEGIN:VEVENT
DTSTART;TZID=America/New_York:20230824T183000
DTEND;TZID=America/New_York:20230824T193000
DTSTAMP:20260422T174738
CREATED:20230131T004310Z
LAST-MODIFIED:20230131T004310Z
UID:10009222-1692901800-1692905400@olddutchchurch.org
SUMMARY:ACA Book Group
DESCRIPTION:Meeting every other week
URL:https://olddutchchurch.org/event/aca-book-group/2023-08-24/
END:VEVENT
BEGIN:VEVENT
DTSTART;TZID=America/New_York:20230824T190000
DTEND;TZID=America/New_York:20230824T200000
DTSTAMP:20260422T174738
CREATED:20230131T003704Z
LAST-MODIFIED:20230131T003704Z
UID:10007924-1692903600-1692907200@olddutchchurch.org
SUMMARY:AA
DESCRIPTION:
URL:https://olddutchchurch.org/event/aa/2023-08-24/
END:VEVENT
BEGIN:VEVENT
DTSTART;TZID=America/New_York:20230826T210000
DTEND;TZID=America/New_York:20230826T220000
DTSTAMP:20260422T174738
CREATED:20230131T003843Z
LAST-MODIFIED:20230131T003843Z
UID:10008460-1693083600-1693087200@olddutchchurch.org
SUMMARY:AA Book Group
DESCRIPTION:
URL:https://olddutchchurch.org/event/aa-book-group/2023-08-26/
END:VEVENT
BEGIN:VEVENT
DTSTART;TZID=America/New_York:20230827T103000
DTEND;TZID=America/New_York:20230827T113000
DTSTAMP:20260422T174738
CREATED:20220621T145509Z
LAST-MODIFIED:20230131T010033Z
UID:10005334-1693132200-1693135800@olddutchchurch.org
SUMMARY:Sunday Worship
DESCRIPTION:Sunday worship in the Sanctuary
URL:https://olddutchchurch.org/event/sunday-worship/2023-08-27/
LOCATION:Old Dutch Church\, Wall Street\, Kingston\, 272 Wall Street\, Kingston\, NY\, 12401\, United States
END:VEVENT
BEGIN:VEVENT
DTSTART;TZID=America/New_York:20230827T113000
DTEND;TZID=America/New_York:20230827T123000
DTSTAMP:20260422T174738
CREATED:20220621T151126Z
LAST-MODIFIED:20230131T004016Z
UID:10005634-1693135800-1693139400@olddutchchurch.org
SUMMARY:ACA
DESCRIPTION:ACA in OMG
URL:https://olddutchchurch.org/event/aca/2023-08-27/
LOCATION:Old Dutch Church\, Wall Street\, Kingston\, 272 Wall Street\, Kingston\, NY\, 12401\, United States
END:VEVENT
BEGIN:VEVENT
DTSTART;TZID=America/New_York:20230827T180000
DTEND;TZID=America/New_York:20230827T203000
DTSTAMP:20260422T174738
CREATED:20220621T151545Z
LAST-MODIFIED:20230131T001910Z
UID:10005973-1693159200-1693168200@olddutchchurch.org
SUMMARY:ARS Choralis
DESCRIPTION:ARS Choralis in Bethany Hall
URL:https://olddutchchurch.org/event/ars-choralis/2023-08-27/
END:VEVENT
BEGIN:VEVENT
DTSTART;TZID=America/New_York:20230827T190000
DTEND;TZID=America/New_York:20230827T213000
DTSTAMP:20260422T174738
CREATED:20220621T152603Z
LAST-MODIFIED:20230131T005403Z
UID:10008192-1693162800-1693171800@olddutchchurch.org
SUMMARY:SLAA Women’s Group
DESCRIPTION:SLAA in OMG
URL:https://olddutchchurch.org/event/slaa-3/2023-08-27/
END:VEVENT
BEGIN:VEVENT
DTSTART;TZID=America/New_York:20230828T170000
DTEND;TZID=America/New_York:20230828T180000
DTSTAMP:20260422T174738
CREATED:20230131T005556Z
LAST-MODIFIED:20230131T005556Z
UID:10009757-1693242000-1693245600@olddutchchurch.org
SUMMARY:SLAA Augustine Fellowship
DESCRIPTION:
URL:https://olddutchchurch.org/event/slaa-augustine-fellowship/2023-08-28/
END:VEVENT
END:VCALENDAR