BEGIN:VCALENDAR
VERSION:2.0
PRODID:-//Old Dutch Church - ECPv6.15.20//NONSGML v1.0//EN
CALSCALE:GREGORIAN
METHOD:PUBLISH
X-WR-CALNAME:Old Dutch Church
X-ORIGINAL-URL:https://olddutchchurch.org
X-WR-CALDESC:Events for Old Dutch Church
REFRESH-INTERVAL;VALUE=DURATION:PT1H
X-Robots-Tag:noindex
X-PUBLISHED-TTL:PT1H
BEGIN:VTIMEZONE
TZID:America/New_York
BEGIN:DAYLIGHT
TZOFFSETFROM:-0500
TZOFFSETTO:-0400
TZNAME:EDT
DTSTART:20240310T070000
END:DAYLIGHT
BEGIN:STANDARD
TZOFFSETFROM:-0400
TZOFFSETTO:-0500
TZNAME:EST
DTSTART:20241103T060000
END:STANDARD
BEGIN:DAYLIGHT
TZOFFSETFROM:-0500
TZOFFSETTO:-0400
TZNAME:EDT
DTSTART:20250309T070000
END:DAYLIGHT
BEGIN:STANDARD
TZOFFSETFROM:-0400
TZOFFSETTO:-0500
TZNAME:EST
DTSTART:20251102T060000
END:STANDARD
BEGIN:DAYLIGHT
TZOFFSETFROM:-0500
TZOFFSETTO:-0400
TZNAME:EDT
DTSTART:20260308T070000
END:DAYLIGHT
BEGIN:STANDARD
TZOFFSETFROM:-0400
TZOFFSETTO:-0500
TZNAME:EST
DTSTART:20261101T060000
END:STANDARD
END:VTIMEZONE
BEGIN:VEVENT
DTSTART;TZID=America/New_York:20250702T130000
DTEND;TZID=America/New_York:20250702T140000
DTSTAMP:20260422T181428
CREATED:20220621T152107Z
LAST-MODIFIED:20250624T163908Z
UID:10007368-1751461200-1751464800@olddutchchurch.org
SUMMARY:Community Chorus (on hiatus until Fall)
DESCRIPTION:Community Chorus in Bethany Hall
URL:https://olddutchchurch.org/event/community-chorus/2025-07-02/
END:VEVENT
BEGIN:VEVENT
DTSTART;TZID=America/New_York:20250702T160000
DTEND;TZID=America/New_York:20250702T180000
DTSTAMP:20260422T181428
CREATED:20250624T194037Z
LAST-MODIFIED:20250624T194037Z
UID:10011657-1751472000-1751479200@olddutchchurch.org
SUMMARY:Vegan Happy Cart
DESCRIPTION:Free Vegan Food
URL:https://olddutchchurch.org/event/vegan-happy-cart/2025-07-02/
END:VEVENT
BEGIN:VEVENT
DTSTART;TZID=America/New_York:20250702T180000
DTEND;TZID=America/New_York:20250702T210000
DTSTAMP:20260422T181428
CREATED:20230131T003225Z
LAST-MODIFIED:20250624T171339Z
UID:10007068-1751479200-1751490000@olddutchchurch.org
SUMMARY:Ubaka Hill Drum Circle
DESCRIPTION:
URL:https://olddutchchurch.org/event/ubaka-hill-drum-circle/2025-07-02/
END:VEVENT
BEGIN:VEVENT
DTSTART;TZID=America/New_York:20250703T183000
DTEND;TZID=America/New_York:20250703T193000
DTSTAMP:20260422T181428
CREATED:20230131T004310Z
LAST-MODIFIED:20230131T004310Z
UID:10009319-1751567400-1751571000@olddutchchurch.org
SUMMARY:ACA Book Group
DESCRIPTION:Meeting every other week
URL:https://olddutchchurch.org/event/aca-book-group/2025-07-03/
END:VEVENT
BEGIN:VEVENT
DTSTART;TZID=America/New_York:20250703T190000
DTEND;TZID=America/New_York:20250703T200000
DTSTAMP:20260422T181428
CREATED:20230131T003704Z
LAST-MODIFIED:20230131T003704Z
UID:10008021-1751569200-1751572800@olddutchchurch.org
SUMMARY:AA
DESCRIPTION:
URL:https://olddutchchurch.org/event/aa/2025-07-03/
END:VEVENT
BEGIN:VEVENT
DTSTART;TZID=America/New_York:20250705T163000
DTEND;TZID=America/New_York:20250705T183000
DTSTAMP:20260422T181428
CREATED:20250624T050009Z
LAST-MODIFIED:20250624T170108Z
UID:10011391-1751733000-1751740200@olddutchchurch.org
SUMMARY:Reiki Healing
DESCRIPTION:Reiki Healing (Every OTHER week – On hiatus until Fall) Gallery
URL:https://olddutchchurch.org/event/reiki-healing/
END:VEVENT
BEGIN:VEVENT
DTSTART;TZID=America/New_York:20250705T210000
DTEND;TZID=America/New_York:20250705T220000
DTSTAMP:20260422T181428
CREATED:20230131T003843Z
LAST-MODIFIED:20230131T003843Z
UID:10008557-1751749200-1751752800@olddutchchurch.org
SUMMARY:AA Book Group
DESCRIPTION:
URL:https://olddutchchurch.org/event/aa-book-group/2025-07-05/
END:VEVENT
BEGIN:VEVENT
DTSTART;TZID=America/New_York:20250706T103000
DTEND;TZID=America/New_York:20250706T113000
DTSTAMP:20260422T181428
CREATED:20220621T145509Z
LAST-MODIFIED:20230131T010033Z
UID:10005431-1751797800-1751801400@olddutchchurch.org
SUMMARY:Sunday Worship
DESCRIPTION:Sunday worship in the Sanctuary
URL:https://olddutchchurch.org/event/sunday-worship/2025-07-06/
LOCATION:Old Dutch Church\, Wall Street\, Kingston\, 272 Wall Street\, Kingston\, NY\, 12401\, United States
END:VEVENT
BEGIN:VEVENT
DTSTART;TZID=America/New_York:20250706T113000
DTEND;TZID=America/New_York:20250706T123000
DTSTAMP:20260422T181428
CREATED:20220621T151126Z
LAST-MODIFIED:20230131T004016Z
UID:10005731-1751801400-1751805000@olddutchchurch.org
SUMMARY:ACA
DESCRIPTION:ACA in OMG
URL:https://olddutchchurch.org/event/aca/2025-07-06/
LOCATION:Old Dutch Church\, Wall Street\, Kingston\, 272 Wall Street\, Kingston\, NY\, 12401\, United States
END:VEVENT
BEGIN:VEVENT
DTSTART;TZID=America/New_York:20250706T190000
DTEND;TZID=America/New_York:20250706T213000
DTSTAMP:20260422T181428
CREATED:20220621T152603Z
LAST-MODIFIED:20230131T005403Z
UID:10008289-1751828400-1751837400@olddutchchurch.org
SUMMARY:SLAA Women’s Group
DESCRIPTION:SLAA in OMG
URL:https://olddutchchurch.org/event/slaa-3/2025-07-06/
END:VEVENT
BEGIN:VEVENT
DTSTART;TZID=America/New_York:20250707T170000
DTEND;TZID=America/New_York:20250707T180000
DTSTAMP:20260422T181428
CREATED:20230131T005556Z
LAST-MODIFIED:20230131T005556Z
UID:10009854-1751907600-1751911200@olddutchchurch.org
SUMMARY:SLAA Augustine Fellowship
DESCRIPTION:
URL:https://olddutchchurch.org/event/slaa-augustine-fellowship/2025-07-07/
END:VEVENT
BEGIN:VEVENT
DTSTART;TZID=America/New_York:20250707T190000
DTEND;TZID=America/New_York:20250707T200000
DTSTAMP:20260422T181428
CREATED:20230131T004717Z
LAST-MODIFIED:20230131T004717Z
UID:10009587-1751914800-1751918400@olddutchchurch.org
SUMMARY:Debtors’ Anonymous
DESCRIPTION:
URL:https://olddutchchurch.org/event/debtors-anonymous/2025-07-07/
END:VEVENT
BEGIN:VEVENT
DTSTART;TZID=America/New_York:20250709T120000
DTEND;TZID=America/New_York:20250709T130000
DTSTAMP:20260422T181428
CREATED:20250625T194104Z
LAST-MODIFIED:20250625T194104Z
UID:10011680-1752062400-1752066000@olddutchchurch.org
SUMMARY:ACA
DESCRIPTION:
URL:https://olddutchchurch.org/event/aca-2/2025-07-09/
END:VEVENT
BEGIN:VEVENT
DTSTART;TZID=America/New_York:20250709T130000
DTEND;TZID=America/New_York:20250709T140000
DTSTAMP:20260422T181428
CREATED:20220621T152107Z
LAST-MODIFIED:20250624T163908Z
UID:10007369-1752066000-1752069600@olddutchchurch.org
SUMMARY:Community Chorus (on hiatus until Fall)
DESCRIPTION:Community Chorus in Bethany Hall
URL:https://olddutchchurch.org/event/community-chorus/2025-07-09/
END:VEVENT
BEGIN:VEVENT
DTSTART;TZID=America/New_York:20250709T160000
DTEND;TZID=America/New_York:20250709T180000
DTSTAMP:20260422T181428
CREATED:20250624T194037Z
LAST-MODIFIED:20250624T194037Z
UID:10011658-1752076800-1752084000@olddutchchurch.org
SUMMARY:Vegan Happy Cart
DESCRIPTION:Free Vegan Food
URL:https://olddutchchurch.org/event/vegan-happy-cart/2025-07-09/
END:VEVENT
BEGIN:VEVENT
DTSTART;TZID=America/New_York:20250709T180000
DTEND;TZID=America/New_York:20250709T210000
DTSTAMP:20260422T181428
CREATED:20230131T003225Z
LAST-MODIFIED:20250624T171339Z
UID:10007069-1752084000-1752094800@olddutchchurch.org
SUMMARY:Ubaka Hill Drum Circle
DESCRIPTION:
URL:https://olddutchchurch.org/event/ubaka-hill-drum-circle/2025-07-09/
END:VEVENT
BEGIN:VEVENT
DTSTART;TZID=America/New_York:20250710T183000
DTEND;TZID=America/New_York:20250710T193000
DTSTAMP:20260422T181428
CREATED:20230131T004310Z
LAST-MODIFIED:20230131T004310Z
UID:10009320-1752172200-1752175800@olddutchchurch.org
SUMMARY:ACA Book Group
DESCRIPTION:Meeting every other week
URL:https://olddutchchurch.org/event/aca-book-group/2025-07-10/
END:VEVENT
BEGIN:VEVENT
DTSTART;TZID=America/New_York:20250710T190000
DTEND;TZID=America/New_York:20250710T200000
DTSTAMP:20260422T181428
CREATED:20230131T003704Z
LAST-MODIFIED:20230131T003704Z
UID:10008022-1752174000-1752177600@olddutchchurch.org
SUMMARY:AA
DESCRIPTION:
URL:https://olddutchchurch.org/event/aa/2025-07-10/
END:VEVENT
BEGIN:VEVENT
DTSTART;TZID=America/New_York:20250710T190000
DTEND;TZID=America/New_York:20250710T210000
DTSTAMP:20260422T181428
CREATED:20250624T170932Z
LAST-MODIFIED:20250624T173235Z
UID:10011393-1752174000-1752181200@olddutchchurch.org
SUMMARY:Voice Theatre Noises Off
DESCRIPTION:Noises Off Performance
URL:https://olddutchchurch.org/event/voice-theatre-noises-off/2025-07-10/
END:VEVENT
BEGIN:VEVENT
DTSTART;TZID=America/New_York:20250711T190000
DTEND;TZID=America/New_York:20250711T210000
DTSTAMP:20260422T181428
CREATED:20250624T170932Z
LAST-MODIFIED:20250624T173235Z
UID:10011514-1752260400-1752267600@olddutchchurch.org
SUMMARY:Voice Theatre Noises Off
DESCRIPTION:Noises Off Performance
URL:https://olddutchchurch.org/event/voice-theatre-noises-off/2025-07-11/
END:VEVENT
BEGIN:VEVENT
DTSTART;TZID=America/New_York:20250712T140000
DTEND;TZID=America/New_York:20250712T170000
DTSTAMP:20260422T181428
CREATED:20250624T173437Z
LAST-MODIFIED:20250624T173700Z
UID:10011522-1752328800-1752339600@olddutchchurch.org
SUMMARY:Voice Theatre Noises Off Matinee
DESCRIPTION:
URL:https://olddutchchurch.org/event/voice-theatre-noises-off-matinee/2025-07-12/
END:VEVENT
BEGIN:VEVENT
DTSTART;TZID=America/New_York:20250712T190000
DTEND;TZID=America/New_York:20250712T210000
DTSTAMP:20260422T181428
CREATED:20250624T170932Z
LAST-MODIFIED:20250624T173235Z
UID:10011515-1752346800-1752354000@olddutchchurch.org
SUMMARY:Voice Theatre Noises Off
DESCRIPTION:Noises Off Performance
URL:https://olddutchchurch.org/event/voice-theatre-noises-off/2025-07-12/
END:VEVENT
BEGIN:VEVENT
DTSTART;TZID=America/New_York:20250712T210000
DTEND;TZID=America/New_York:20250712T220000
DTSTAMP:20260422T181428
CREATED:20230131T003843Z
LAST-MODIFIED:20230131T003843Z
UID:10008558-1752354000-1752357600@olddutchchurch.org
SUMMARY:AA Book Group
DESCRIPTION:
URL:https://olddutchchurch.org/event/aa-book-group/2025-07-12/
END:VEVENT
BEGIN:VEVENT
DTSTART;TZID=America/New_York:20250713T103000
DTEND;TZID=America/New_York:20250713T113000
DTSTAMP:20260422T181428
CREATED:20220621T145509Z
LAST-MODIFIED:20230131T010033Z
UID:10005432-1752402600-1752406200@olddutchchurch.org
SUMMARY:Sunday Worship
DESCRIPTION:Sunday worship in the Sanctuary
URL:https://olddutchchurch.org/event/sunday-worship/2025-07-13/
LOCATION:Old Dutch Church\, Wall Street\, Kingston\, 272 Wall Street\, Kingston\, NY\, 12401\, United States
END:VEVENT
BEGIN:VEVENT
DTSTART;TZID=America/New_York:20250713T113000
DTEND;TZID=America/New_York:20250713T123000
DTSTAMP:20260422T181428
CREATED:20220621T151126Z
LAST-MODIFIED:20230131T004016Z
UID:10005732-1752406200-1752409800@olddutchchurch.org
SUMMARY:ACA
DESCRIPTION:ACA in OMG
URL:https://olddutchchurch.org/event/aca/2025-07-13/
LOCATION:Old Dutch Church\, Wall Street\, Kingston\, 272 Wall Street\, Kingston\, NY\, 12401\, United States
END:VEVENT
BEGIN:VEVENT
DTSTART;TZID=America/New_York:20250713T140000
DTEND;TZID=America/New_York:20250713T170000
DTSTAMP:20260422T181428
CREATED:20250624T173437Z
LAST-MODIFIED:20250624T173700Z
UID:10011523-1752415200-1752426000@olddutchchurch.org
SUMMARY:Voice Theatre Noises Off Matinee
DESCRIPTION:
URL:https://olddutchchurch.org/event/voice-theatre-noises-off-matinee/2025-07-13/
END:VEVENT
BEGIN:VEVENT
DTSTART;TZID=America/New_York:20250713T190000
DTEND;TZID=America/New_York:20250713T213000
DTSTAMP:20260422T181428
CREATED:20220621T152603Z
LAST-MODIFIED:20230131T005403Z
UID:10008290-1752433200-1752442200@olddutchchurch.org
SUMMARY:SLAA Women’s Group
DESCRIPTION:SLAA in OMG
URL:https://olddutchchurch.org/event/slaa-3/2025-07-13/
END:VEVENT
BEGIN:VEVENT
DTSTART;TZID=America/New_York:20250714T170000
DTEND;TZID=America/New_York:20250714T180000
DTSTAMP:20260422T181428
CREATED:20230131T005556Z
LAST-MODIFIED:20230131T005556Z
UID:10009855-1752512400-1752516000@olddutchchurch.org
SUMMARY:SLAA Augustine Fellowship
DESCRIPTION:
URL:https://olddutchchurch.org/event/slaa-augustine-fellowship/2025-07-14/
END:VEVENT
BEGIN:VEVENT
DTSTART;TZID=America/New_York:20250714T190000
DTEND;TZID=America/New_York:20250714T200000
DTSTAMP:20260422T181428
CREATED:20230131T004717Z
LAST-MODIFIED:20230131T004717Z
UID:10009588-1752519600-1752523200@olddutchchurch.org
SUMMARY:Debtors’ Anonymous
DESCRIPTION:
URL:https://olddutchchurch.org/event/debtors-anonymous/2025-07-14/
END:VEVENT
BEGIN:VEVENT
DTSTART;TZID=America/New_York:20250716T120000
DTEND;TZID=America/New_York:20250716T130000
DTSTAMP:20260422T181428
CREATED:20250625T194104Z
LAST-MODIFIED:20250625T194104Z
UID:10011681-1752667200-1752670800@olddutchchurch.org
SUMMARY:ACA
DESCRIPTION:
URL:https://olddutchchurch.org/event/aca-2/2025-07-16/
END:VEVENT
END:VCALENDAR