BEGIN:VCALENDAR
VERSION:2.0
PRODID:-//Old Dutch Church - ECPv6.15.20//NONSGML v1.0//EN
CALSCALE:GREGORIAN
METHOD:PUBLISH
X-WR-CALNAME:Old Dutch Church
X-ORIGINAL-URL:https://olddutchchurch.org
X-WR-CALDESC:Events for Old Dutch Church
REFRESH-INTERVAL;VALUE=DURATION:PT1H
X-Robots-Tag:noindex
X-PUBLISHED-TTL:PT1H
BEGIN:VTIMEZONE
TZID:America/New_York
BEGIN:DAYLIGHT
TZOFFSETFROM:-0500
TZOFFSETTO:-0400
TZNAME:EDT
DTSTART:20240310T070000
END:DAYLIGHT
BEGIN:STANDARD
TZOFFSETFROM:-0400
TZOFFSETTO:-0500
TZNAME:EST
DTSTART:20241103T060000
END:STANDARD
BEGIN:DAYLIGHT
TZOFFSETFROM:-0500
TZOFFSETTO:-0400
TZNAME:EDT
DTSTART:20250309T070000
END:DAYLIGHT
BEGIN:STANDARD
TZOFFSETFROM:-0400
TZOFFSETTO:-0500
TZNAME:EST
DTSTART:20251102T060000
END:STANDARD
BEGIN:DAYLIGHT
TZOFFSETFROM:-0500
TZOFFSETTO:-0400
TZNAME:EDT
DTSTART:20260308T070000
END:DAYLIGHT
BEGIN:STANDARD
TZOFFSETFROM:-0400
TZOFFSETTO:-0500
TZNAME:EST
DTSTART:20261101T060000
END:STANDARD
END:VTIMEZONE
BEGIN:VEVENT
DTSTART;TZID=America/New_York:20250711T190000
DTEND;TZID=America/New_York:20250711T210000
DTSTAMP:20260422T224637
CREATED:20250624T170932Z
LAST-MODIFIED:20250624T173235Z
UID:10011514-1752260400-1752267600@olddutchchurch.org
SUMMARY:Voice Theatre Noises Off
DESCRIPTION:Noises Off Performance
URL:https://olddutchchurch.org/event/voice-theatre-noises-off/2025-07-11/
END:VEVENT
BEGIN:VEVENT
DTSTART;TZID=America/New_York:20250712T140000
DTEND;TZID=America/New_York:20250712T170000
DTSTAMP:20260422T224637
CREATED:20250624T173437Z
LAST-MODIFIED:20250624T173700Z
UID:10011522-1752328800-1752339600@olddutchchurch.org
SUMMARY:Voice Theatre Noises Off Matinee
DESCRIPTION:
URL:https://olddutchchurch.org/event/voice-theatre-noises-off-matinee/2025-07-12/
END:VEVENT
BEGIN:VEVENT
DTSTART;TZID=America/New_York:20250712T190000
DTEND;TZID=America/New_York:20250712T210000
DTSTAMP:20260422T224637
CREATED:20250624T170932Z
LAST-MODIFIED:20250624T173235Z
UID:10011515-1752346800-1752354000@olddutchchurch.org
SUMMARY:Voice Theatre Noises Off
DESCRIPTION:Noises Off Performance
URL:https://olddutchchurch.org/event/voice-theatre-noises-off/2025-07-12/
END:VEVENT
BEGIN:VEVENT
DTSTART;TZID=America/New_York:20250712T210000
DTEND;TZID=America/New_York:20250712T220000
DTSTAMP:20260422T224637
CREATED:20230131T003843Z
LAST-MODIFIED:20230131T003843Z
UID:10008558-1752354000-1752357600@olddutchchurch.org
SUMMARY:AA Book Group
DESCRIPTION:
URL:https://olddutchchurch.org/event/aa-book-group/2025-07-12/
END:VEVENT
BEGIN:VEVENT
DTSTART;TZID=America/New_York:20250713T103000
DTEND;TZID=America/New_York:20250713T113000
DTSTAMP:20260422T224637
CREATED:20220621T145509Z
LAST-MODIFIED:20230131T010033Z
UID:10005432-1752402600-1752406200@olddutchchurch.org
SUMMARY:Sunday Worship
DESCRIPTION:Sunday worship in the Sanctuary
URL:https://olddutchchurch.org/event/sunday-worship/2025-07-13/
LOCATION:Old Dutch Church\, Wall Street\, Kingston\, 272 Wall Street\, Kingston\, NY\, 12401\, United States
END:VEVENT
BEGIN:VEVENT
DTSTART;TZID=America/New_York:20250713T113000
DTEND;TZID=America/New_York:20250713T123000
DTSTAMP:20260422T224637
CREATED:20220621T151126Z
LAST-MODIFIED:20230131T004016Z
UID:10005732-1752406200-1752409800@olddutchchurch.org
SUMMARY:ACA
DESCRIPTION:ACA in OMG
URL:https://olddutchchurch.org/event/aca/2025-07-13/
LOCATION:Old Dutch Church\, Wall Street\, Kingston\, 272 Wall Street\, Kingston\, NY\, 12401\, United States
END:VEVENT
BEGIN:VEVENT
DTSTART;TZID=America/New_York:20250713T140000
DTEND;TZID=America/New_York:20250713T170000
DTSTAMP:20260422T224637
CREATED:20250624T173437Z
LAST-MODIFIED:20250624T173700Z
UID:10011523-1752415200-1752426000@olddutchchurch.org
SUMMARY:Voice Theatre Noises Off Matinee
DESCRIPTION:
URL:https://olddutchchurch.org/event/voice-theatre-noises-off-matinee/2025-07-13/
END:VEVENT
BEGIN:VEVENT
DTSTART;TZID=America/New_York:20250713T190000
DTEND;TZID=America/New_York:20250713T213000
DTSTAMP:20260422T224637
CREATED:20220621T152603Z
LAST-MODIFIED:20230131T005403Z
UID:10008290-1752433200-1752442200@olddutchchurch.org
SUMMARY:SLAA Women’s Group
DESCRIPTION:SLAA in OMG
URL:https://olddutchchurch.org/event/slaa-3/2025-07-13/
END:VEVENT
BEGIN:VEVENT
DTSTART;TZID=America/New_York:20250714T170000
DTEND;TZID=America/New_York:20250714T180000
DTSTAMP:20260422T224637
CREATED:20230131T005556Z
LAST-MODIFIED:20230131T005556Z
UID:10009855-1752512400-1752516000@olddutchchurch.org
SUMMARY:SLAA Augustine Fellowship
DESCRIPTION:
URL:https://olddutchchurch.org/event/slaa-augustine-fellowship/2025-07-14/
END:VEVENT
BEGIN:VEVENT
DTSTART;TZID=America/New_York:20250714T190000
DTEND;TZID=America/New_York:20250714T200000
DTSTAMP:20260422T224637
CREATED:20230131T004717Z
LAST-MODIFIED:20230131T004717Z
UID:10009588-1752519600-1752523200@olddutchchurch.org
SUMMARY:Debtors’ Anonymous
DESCRIPTION:
URL:https://olddutchchurch.org/event/debtors-anonymous/2025-07-14/
END:VEVENT
BEGIN:VEVENT
DTSTART;TZID=America/New_York:20250716T120000
DTEND;TZID=America/New_York:20250716T130000
DTSTAMP:20260422T224637
CREATED:20250625T194104Z
LAST-MODIFIED:20250625T194104Z
UID:10011681-1752667200-1752670800@olddutchchurch.org
SUMMARY:ACA
DESCRIPTION:
URL:https://olddutchchurch.org/event/aca-2/2025-07-16/
END:VEVENT
BEGIN:VEVENT
DTSTART;TZID=America/New_York:20250716T130000
DTEND;TZID=America/New_York:20250716T140000
DTSTAMP:20260422T224637
CREATED:20220621T152107Z
LAST-MODIFIED:20250624T163908Z
UID:10007370-1752670800-1752674400@olddutchchurch.org
SUMMARY:Community Chorus (on hiatus until Fall)
DESCRIPTION:Community Chorus in Bethany Hall
URL:https://olddutchchurch.org/event/community-chorus/2025-07-16/
END:VEVENT
BEGIN:VEVENT
DTSTART;TZID=America/New_York:20250716T160000
DTEND;TZID=America/New_York:20250716T180000
DTSTAMP:20260422T224637
CREATED:20250624T194037Z
LAST-MODIFIED:20250624T194037Z
UID:10011659-1752681600-1752688800@olddutchchurch.org
SUMMARY:Vegan Happy Cart
DESCRIPTION:Free Vegan Food
URL:https://olddutchchurch.org/event/vegan-happy-cart/2025-07-16/
END:VEVENT
BEGIN:VEVENT
DTSTART;TZID=America/New_York:20250716T180000
DTEND;TZID=America/New_York:20250716T210000
DTSTAMP:20260422T224637
CREATED:20230131T003225Z
LAST-MODIFIED:20250624T171339Z
UID:10007070-1752688800-1752699600@olddutchchurch.org
SUMMARY:Ubaka Hill Drum Circle
DESCRIPTION:
URL:https://olddutchchurch.org/event/ubaka-hill-drum-circle/2025-07-16/
END:VEVENT
BEGIN:VEVENT
DTSTART;TZID=America/New_York:20250717T183000
DTEND;TZID=America/New_York:20250717T193000
DTSTAMP:20260422T224637
CREATED:20230131T004310Z
LAST-MODIFIED:20230131T004310Z
UID:10009321-1752777000-1752780600@olddutchchurch.org
SUMMARY:ACA Book Group
DESCRIPTION:Meeting every other week
URL:https://olddutchchurch.org/event/aca-book-group/2025-07-17/
END:VEVENT
BEGIN:VEVENT
DTSTART;TZID=America/New_York:20250717T190000
DTEND;TZID=America/New_York:20250717T200000
DTSTAMP:20260422T224637
CREATED:20230131T003704Z
LAST-MODIFIED:20230131T003704Z
UID:10008023-1752778800-1752782400@olddutchchurch.org
SUMMARY:AA
DESCRIPTION:
URL:https://olddutchchurch.org/event/aa/2025-07-17/
END:VEVENT
BEGIN:VEVENT
DTSTART;TZID=America/New_York:20250717T190000
DTEND;TZID=America/New_York:20250717T210000
DTSTAMP:20260422T224637
CREATED:20250624T170932Z
LAST-MODIFIED:20250624T173235Z
UID:10011516-1752778800-1752786000@olddutchchurch.org
SUMMARY:Voice Theatre Noises Off
DESCRIPTION:Noises Off Performance
URL:https://olddutchchurch.org/event/voice-theatre-noises-off/2025-07-17/
END:VEVENT
BEGIN:VEVENT
DTSTART;TZID=America/New_York:20250718T190000
DTEND;TZID=America/New_York:20250718T210000
DTSTAMP:20260422T224637
CREATED:20250624T170932Z
LAST-MODIFIED:20250624T173235Z
UID:10011517-1752865200-1752872400@olddutchchurch.org
SUMMARY:Voice Theatre Noises Off
DESCRIPTION:Noises Off Performance
URL:https://olddutchchurch.org/event/voice-theatre-noises-off/2025-07-18/
END:VEVENT
BEGIN:VEVENT
DTSTART;TZID=America/New_York:20250719T140000
DTEND;TZID=America/New_York:20250719T170000
DTSTAMP:20260422T224637
CREATED:20250624T173437Z
LAST-MODIFIED:20250624T173700Z
UID:10011524-1752933600-1752944400@olddutchchurch.org
SUMMARY:Voice Theatre Noises Off Matinee
DESCRIPTION:
URL:https://olddutchchurch.org/event/voice-theatre-noises-off-matinee/2025-07-19/
END:VEVENT
BEGIN:VEVENT
DTSTART;TZID=America/New_York:20250719T190000
DTEND;TZID=America/New_York:20250719T210000
DTSTAMP:20260422T224637
CREATED:20250624T170932Z
LAST-MODIFIED:20250624T173235Z
UID:10011518-1752951600-1752958800@olddutchchurch.org
SUMMARY:Voice Theatre Noises Off
DESCRIPTION:Noises Off Performance
URL:https://olddutchchurch.org/event/voice-theatre-noises-off/2025-07-19/
END:VEVENT
BEGIN:VEVENT
DTSTART;TZID=America/New_York:20250719T210000
DTEND;TZID=America/New_York:20250719T220000
DTSTAMP:20260422T224637
CREATED:20230131T003843Z
LAST-MODIFIED:20230131T003843Z
UID:10008559-1752958800-1752962400@olddutchchurch.org
SUMMARY:AA Book Group
DESCRIPTION:
URL:https://olddutchchurch.org/event/aa-book-group/2025-07-19/
END:VEVENT
BEGIN:VEVENT
DTSTART;TZID=America/New_York:20250720T103000
DTEND;TZID=America/New_York:20250720T113000
DTSTAMP:20260422T224637
CREATED:20220621T145509Z
LAST-MODIFIED:20230131T010033Z
UID:10005433-1753007400-1753011000@olddutchchurch.org
SUMMARY:Sunday Worship
DESCRIPTION:Sunday worship in the Sanctuary
URL:https://olddutchchurch.org/event/sunday-worship/2025-07-20/
LOCATION:Old Dutch Church\, Wall Street\, Kingston\, 272 Wall Street\, Kingston\, NY\, 12401\, United States
END:VEVENT
BEGIN:VEVENT
DTSTART;TZID=America/New_York:20250720T113000
DTEND;TZID=America/New_York:20250720T123000
DTSTAMP:20260422T224637
CREATED:20220621T151126Z
LAST-MODIFIED:20230131T004016Z
UID:10005733-1753011000-1753014600@olddutchchurch.org
SUMMARY:ACA
DESCRIPTION:ACA in OMG
URL:https://olddutchchurch.org/event/aca/2025-07-20/
LOCATION:Old Dutch Church\, Wall Street\, Kingston\, 272 Wall Street\, Kingston\, NY\, 12401\, United States
END:VEVENT
BEGIN:VEVENT
DTSTART;TZID=America/New_York:20250720T140000
DTEND;TZID=America/New_York:20250720T170000
DTSTAMP:20260422T224637
CREATED:20250624T173437Z
LAST-MODIFIED:20250624T173700Z
UID:10011525-1753020000-1753030800@olddutchchurch.org
SUMMARY:Voice Theatre Noises Off Matinee
DESCRIPTION:
URL:https://olddutchchurch.org/event/voice-theatre-noises-off-matinee/2025-07-20/
END:VEVENT
BEGIN:VEVENT
DTSTART;TZID=America/New_York:20250720T190000
DTEND;TZID=America/New_York:20250720T213000
DTSTAMP:20260422T224637
CREATED:20220621T152603Z
LAST-MODIFIED:20230131T005403Z
UID:10008291-1753038000-1753047000@olddutchchurch.org
SUMMARY:SLAA Women’s Group
DESCRIPTION:SLAA in OMG
URL:https://olddutchchurch.org/event/slaa-3/2025-07-20/
END:VEVENT
BEGIN:VEVENT
DTSTART;TZID=America/New_York:20250721T100000
DTEND;TZID=America/New_York:20250721T150000
DTSTAMP:20260422T224637
CREATED:20250624T191330Z
LAST-MODIFIED:20250624T191330Z
UID:10011648-1753092000-1753110000@olddutchchurch.org
SUMMARY:Voice Theatre Summer Camp
DESCRIPTION:
URL:https://olddutchchurch.org/event/voice-theatre-summer-camp/2025-07-21/
END:VEVENT
BEGIN:VEVENT
DTSTART;TZID=America/New_York:20250721T160000
DTEND;TZID=America/New_York:20250721T190000
DTSTAMP:20260422T224637
CREATED:20250624T192001Z
LAST-MODIFIED:20250624T192001Z
UID:10011655-1753113600-1753124400@olddutchchurch.org
SUMMARY:Hey Neighbor
DESCRIPTION:A variety of neighbors preparing and selling global cuisine for take home meals.
URL:https://olddutchchurch.org/event/hey-neighbor/
END:VEVENT
BEGIN:VEVENT
DTSTART;TZID=America/New_York:20250721T170000
DTEND;TZID=America/New_York:20250721T180000
DTSTAMP:20260422T224637
CREATED:20230131T005556Z
LAST-MODIFIED:20230131T005556Z
UID:10009856-1753117200-1753120800@olddutchchurch.org
SUMMARY:SLAA Augustine Fellowship
DESCRIPTION:
URL:https://olddutchchurch.org/event/slaa-augustine-fellowship/2025-07-21/
END:VEVENT
BEGIN:VEVENT
DTSTART;TZID=America/New_York:20250721T190000
DTEND;TZID=America/New_York:20250721T200000
DTSTAMP:20260422T224637
CREATED:20230131T004717Z
LAST-MODIFIED:20230131T004717Z
UID:10009589-1753124400-1753128000@olddutchchurch.org
SUMMARY:Debtors’ Anonymous
DESCRIPTION:
URL:https://olddutchchurch.org/event/debtors-anonymous/2025-07-21/
END:VEVENT
BEGIN:VEVENT
DTSTART;TZID=America/New_York:20250722T100000
DTEND;TZID=America/New_York:20250722T150000
DTSTAMP:20260422T224637
CREATED:20250624T191330Z
LAST-MODIFIED:20250624T191330Z
UID:10011649-1753178400-1753196400@olddutchchurch.org
SUMMARY:Voice Theatre Summer Camp
DESCRIPTION:
URL:https://olddutchchurch.org/event/voice-theatre-summer-camp/2025-07-22/
END:VEVENT
END:VCALENDAR