BEGIN:VCALENDAR
VERSION:2.0
PRODID:-//Old Dutch Church - ECPv6.15.20//NONSGML v1.0//EN
CALSCALE:GREGORIAN
METHOD:PUBLISH
X-WR-CALNAME:Old Dutch Church
X-ORIGINAL-URL:https://olddutchchurch.org
X-WR-CALDESC:Events for Old Dutch Church
REFRESH-INTERVAL;VALUE=DURATION:PT1H
X-Robots-Tag:noindex
X-PUBLISHED-TTL:PT1H
BEGIN:VTIMEZONE
TZID:America/New_York
BEGIN:DAYLIGHT
TZOFFSETFROM:-0500
TZOFFSETTO:-0400
TZNAME:EDT
DTSTART:20220313T070000
END:DAYLIGHT
BEGIN:STANDARD
TZOFFSETFROM:-0400
TZOFFSETTO:-0500
TZNAME:EST
DTSTART:20221106T060000
END:STANDARD
BEGIN:DAYLIGHT
TZOFFSETFROM:-0500
TZOFFSETTO:-0400
TZNAME:EDT
DTSTART:20230312T070000
END:DAYLIGHT
BEGIN:STANDARD
TZOFFSETFROM:-0400
TZOFFSETTO:-0500
TZNAME:EST
DTSTART:20231105T060000
END:STANDARD
BEGIN:DAYLIGHT
TZOFFSETFROM:-0500
TZOFFSETTO:-0400
TZNAME:EDT
DTSTART:20240310T070000
END:DAYLIGHT
BEGIN:STANDARD
TZOFFSETFROM:-0400
TZOFFSETTO:-0500
TZNAME:EST
DTSTART:20241103T060000
END:STANDARD
END:VTIMEZONE
BEGIN:VEVENT
DTSTART;TZID=America/New_York:20230420T190000
DTEND;TZID=America/New_York:20230420T200000
DTSTAMP:20260421T171348
CREATED:20230131T003704Z
LAST-MODIFIED:20230131T003704Z
UID:10007906-1682017200-1682020800@olddutchchurch.org
SUMMARY:AA
DESCRIPTION:
URL:https://olddutchchurch.org/event/aa/2023-04-20/
END:VEVENT
BEGIN:VEVENT
DTSTART;TZID=America/New_York:20230420T183000
DTEND;TZID=America/New_York:20230420T193000
DTSTAMP:20260421T171348
CREATED:20230131T004310Z
LAST-MODIFIED:20230131T004310Z
UID:10009204-1682015400-1682019000@olddutchchurch.org
SUMMARY:ACA Book Group
DESCRIPTION:Meeting every other week
URL:https://olddutchchurch.org/event/aca-book-group/2023-04-20/
END:VEVENT
BEGIN:VEVENT
DTSTART;TZID=America/New_York:20230419T180000
DTEND;TZID=America/New_York:20230419T210000
DTSTAMP:20260421T171348
CREATED:20230131T003225Z
LAST-MODIFIED:20250624T171339Z
UID:10006953-1681927200-1681938000@olddutchchurch.org
SUMMARY:Ubaka Hill Drum Circle
DESCRIPTION:
URL:https://olddutchchurch.org/event/ubaka-hill-drum-circle/2023-04-19/
END:VEVENT
BEGIN:VEVENT
DTSTART;TZID=America/New_York:20230419T130000
DTEND;TZID=America/New_York:20230419T140000
DTSTAMP:20260421T171348
CREATED:20220621T152107Z
LAST-MODIFIED:20250624T163908Z
UID:10007253-1681909200-1681912800@olddutchchurch.org
SUMMARY:Community Chorus (on hiatus until Fall)
DESCRIPTION:Community Chorus in Bethany Hall
URL:https://olddutchchurch.org/event/community-chorus/2023-04-19/
END:VEVENT
BEGIN:VEVENT
DTSTART;TZID=America/New_York:20230417T190000
DTEND;TZID=America/New_York:20230417T200000
DTSTAMP:20260421T171348
CREATED:20230131T004717Z
LAST-MODIFIED:20230131T004717Z
UID:10009471-1681758000-1681761600@olddutchchurch.org
SUMMARY:Debtors’ Anonymous
DESCRIPTION:
URL:https://olddutchchurch.org/event/debtors-anonymous/2023-04-17/
END:VEVENT
BEGIN:VEVENT
DTSTART;TZID=America/New_York:20230417T170000
DTEND;TZID=America/New_York:20230417T180000
DTSTAMP:20260421T171348
CREATED:20230131T005556Z
LAST-MODIFIED:20230131T005556Z
UID:10009738-1681750800-1681754400@olddutchchurch.org
SUMMARY:SLAA Augustine Fellowship
DESCRIPTION:
URL:https://olddutchchurch.org/event/slaa-augustine-fellowship/2023-04-17/
END:VEVENT
BEGIN:VEVENT
DTSTART;TZID=America/New_York:20230416T190000
DTEND;TZID=America/New_York:20230416T213000
DTSTAMP:20260421T171348
CREATED:20220621T152603Z
LAST-MODIFIED:20230131T005403Z
UID:10008173-1681671600-1681680600@olddutchchurch.org
SUMMARY:SLAA Women’s Group
DESCRIPTION:SLAA in OMG
URL:https://olddutchchurch.org/event/slaa-3/2023-04-16/
END:VEVENT
BEGIN:VEVENT
DTSTART;TZID=America/New_York:20230416T180000
DTEND;TZID=America/New_York:20230416T203000
DTSTAMP:20260421T171348
CREATED:20220621T151545Z
LAST-MODIFIED:20230131T001910Z
UID:10005954-1681668000-1681677000@olddutchchurch.org
SUMMARY:ARS Choralis
DESCRIPTION:ARS Choralis in Bethany Hall
URL:https://olddutchchurch.org/event/ars-choralis/2023-04-16/
END:VEVENT
BEGIN:VEVENT
DTSTART;TZID=America/New_York:20230416T113000
DTEND;TZID=America/New_York:20230416T123000
DTSTAMP:20260421T171348
CREATED:20220621T151126Z
LAST-MODIFIED:20230131T004016Z
UID:10005615-1681644600-1681648200@olddutchchurch.org
SUMMARY:ACA
DESCRIPTION:ACA in OMG
URL:https://olddutchchurch.org/event/aca/2023-04-16/
LOCATION:Old Dutch Church\, Wall Street\, Kingston\, 272 Wall Street\, Kingston\, NY\, 12401\, United States
END:VEVENT
BEGIN:VEVENT
DTSTART;TZID=America/New_York:20230416T103000
DTEND;TZID=America/New_York:20230416T113000
DTSTAMP:20260421T171348
CREATED:20220621T145509Z
LAST-MODIFIED:20230131T010033Z
UID:10005315-1681641000-1681644600@olddutchchurch.org
SUMMARY:Sunday Worship
DESCRIPTION:Sunday worship in the Sanctuary
URL:https://olddutchchurch.org/event/sunday-worship/2023-04-16/
LOCATION:Old Dutch Church\, Wall Street\, Kingston\, 272 Wall Street\, Kingston\, NY\, 12401\, United States
END:VEVENT
BEGIN:VEVENT
DTSTART;TZID=America/New_York:20230415T210000
DTEND;TZID=America/New_York:20230415T220000
DTSTAMP:20260421T171348
CREATED:20230131T003843Z
LAST-MODIFIED:20230131T003843Z
UID:10008441-1681592400-1681596000@olddutchchurch.org
SUMMARY:AA Book Group
DESCRIPTION:
URL:https://olddutchchurch.org/event/aa-book-group/2023-04-15/
END:VEVENT
BEGIN:VEVENT
DTSTART;TZID=America/New_York:20230413T190000
DTEND;TZID=America/New_York:20230413T200000
DTSTAMP:20260421T171348
CREATED:20230131T003704Z
LAST-MODIFIED:20230131T003704Z
UID:10007905-1681412400-1681416000@olddutchchurch.org
SUMMARY:AA
DESCRIPTION:
URL:https://olddutchchurch.org/event/aa/2023-04-13/
END:VEVENT
BEGIN:VEVENT
DTSTART;TZID=America/New_York:20230413T183000
DTEND;TZID=America/New_York:20230413T193000
DTSTAMP:20260421T171348
CREATED:20230131T004310Z
LAST-MODIFIED:20230131T004310Z
UID:10009203-1681410600-1681414200@olddutchchurch.org
SUMMARY:ACA Book Group
DESCRIPTION:Meeting every other week
URL:https://olddutchchurch.org/event/aca-book-group/2023-04-13/
END:VEVENT
BEGIN:VEVENT
DTSTART;TZID=America/New_York:20230412T180000
DTEND;TZID=America/New_York:20230412T210000
DTSTAMP:20260421T171348
CREATED:20230131T003225Z
LAST-MODIFIED:20250624T171339Z
UID:10006952-1681322400-1681333200@olddutchchurch.org
SUMMARY:Ubaka Hill Drum Circle
DESCRIPTION:
URL:https://olddutchchurch.org/event/ubaka-hill-drum-circle/2023-04-12/
END:VEVENT
BEGIN:VEVENT
DTSTART;TZID=America/New_York:20230412T130000
DTEND;TZID=America/New_York:20230412T140000
DTSTAMP:20260421T171348
CREATED:20220621T152107Z
LAST-MODIFIED:20250624T163908Z
UID:10007252-1681304400-1681308000@olddutchchurch.org
SUMMARY:Community Chorus (on hiatus until Fall)
DESCRIPTION:Community Chorus in Bethany Hall
URL:https://olddutchchurch.org/event/community-chorus/2023-04-12/
END:VEVENT
BEGIN:VEVENT
DTSTART;TZID=America/New_York:20230410T190000
DTEND;TZID=America/New_York:20230410T200000
DTSTAMP:20260421T171348
CREATED:20230131T004717Z
LAST-MODIFIED:20230131T004717Z
UID:10009470-1681153200-1681156800@olddutchchurch.org
SUMMARY:Debtors’ Anonymous
DESCRIPTION:
URL:https://olddutchchurch.org/event/debtors-anonymous/2023-04-10/
END:VEVENT
BEGIN:VEVENT
DTSTART;TZID=America/New_York:20230410T170000
DTEND;TZID=America/New_York:20230410T180000
DTSTAMP:20260421T171348
CREATED:20230131T005556Z
LAST-MODIFIED:20230131T005556Z
UID:10009737-1681146000-1681149600@olddutchchurch.org
SUMMARY:SLAA Augustine Fellowship
DESCRIPTION:
URL:https://olddutchchurch.org/event/slaa-augustine-fellowship/2023-04-10/
END:VEVENT
BEGIN:VEVENT
DTSTART;TZID=America/New_York:20230409T190000
DTEND;TZID=America/New_York:20230409T213000
DTSTAMP:20260421T171348
CREATED:20220621T152603Z
LAST-MODIFIED:20230131T005403Z
UID:10008172-1681066800-1681075800@olddutchchurch.org
SUMMARY:SLAA Women’s Group
DESCRIPTION:SLAA in OMG
URL:https://olddutchchurch.org/event/slaa-3/2023-04-09/
END:VEVENT
BEGIN:VEVENT
DTSTART;TZID=America/New_York:20230409T180000
DTEND;TZID=America/New_York:20230409T203000
DTSTAMP:20260421T171348
CREATED:20220621T151545Z
LAST-MODIFIED:20230131T001910Z
UID:10005953-1681063200-1681072200@olddutchchurch.org
SUMMARY:ARS Choralis
DESCRIPTION:ARS Choralis in Bethany Hall
URL:https://olddutchchurch.org/event/ars-choralis/2023-04-09/
END:VEVENT
BEGIN:VEVENT
DTSTART;TZID=America/New_York:20230409T113000
DTEND;TZID=America/New_York:20230409T123000
DTSTAMP:20260421T171348
CREATED:20220621T151126Z
LAST-MODIFIED:20230131T004016Z
UID:10005614-1681039800-1681043400@olddutchchurch.org
SUMMARY:ACA
DESCRIPTION:ACA in OMG
URL:https://olddutchchurch.org/event/aca/2023-04-09/
LOCATION:Old Dutch Church\, Wall Street\, Kingston\, 272 Wall Street\, Kingston\, NY\, 12401\, United States
END:VEVENT
BEGIN:VEVENT
DTSTART;TZID=America/New_York:20230409T103000
DTEND;TZID=America/New_York:20230409T113000
DTSTAMP:20260421T171348
CREATED:20220621T145509Z
LAST-MODIFIED:20230131T010033Z
UID:10005314-1681036200-1681039800@olddutchchurch.org
SUMMARY:Sunday Worship
DESCRIPTION:Sunday worship in the Sanctuary
URL:https://olddutchchurch.org/event/sunday-worship/2023-04-09/
LOCATION:Old Dutch Church\, Wall Street\, Kingston\, 272 Wall Street\, Kingston\, NY\, 12401\, United States
END:VEVENT
BEGIN:VEVENT
DTSTART;TZID=America/New_York:20230408T210000
DTEND;TZID=America/New_York:20230408T220000
DTSTAMP:20260421T171348
CREATED:20230131T003843Z
LAST-MODIFIED:20230131T003843Z
UID:10008440-1680987600-1680991200@olddutchchurch.org
SUMMARY:AA Book Group
DESCRIPTION:
URL:https://olddutchchurch.org/event/aa-book-group/2023-04-08/
END:VEVENT
BEGIN:VEVENT
DTSTART;TZID=America/New_York:20230408T150000
DTEND;TZID=America/New_York:20230408T170000
DTSTAMP:20260421T171348
CREATED:20230405T145319Z
LAST-MODIFIED:20230405T145319Z
UID:10010541-1680966000-1680973200@olddutchchurch.org
SUMMARY:The Carnival of the Animals & Peter & The Wolf Musical Concert and Storytelling
DESCRIPTION:Saint-Saens’ beloved suite The Carnival of the Animals and Prokofiev’s Peter and the Wolf will be presented by Frederic Chiu and David Gonzalez at the Old Dutch Church April 8th at 3pm.  Storytelling and Music with a Pre-concert talk by Leslie Gerbe. \nFREE and open to the public. \nPresented by the City of Kingston \nFor info:  845-331-0800 ext. 3929
URL:https://olddutchchurch.org/event/the-carnival-of-the-animals-peter-the-wolf-musical-concert-and-storytelling/
END:VEVENT
BEGIN:VEVENT
DTSTART;TZID=America/New_York:20230408T100000
DTEND;TZID=America/New_York:20230408T140000
DTSTAMP:20260421T171348
CREATED:20230112T191144Z
LAST-MODIFIED:20230112T192454Z
UID:10009190-1680948000-1680962400@olddutchchurch.org
SUMMARY:Kingston Farmer's Market
DESCRIPTION:The Kingston Farmer’s Market is held in Bethany Hall every other Saturday from 10am to 2pm throughout the winter. Market dates are January 14th and 28th\, February 11th and 25th\, March 11th and 25th\, and April 8th and 22nd.\n\n\n\n\n\n\nOur resident vegan chef\, Gabby\, of Gab’s Veg Table will be selling her delicious vegan grab and go sandwiches and sides on Saturdays during the Kingston Farmers Market
URL:https://olddutchchurch.org/event/kingston-farmers-market-6/
LOCATION:Old Dutch Church\, Wall Street\, Kingston\, 272 Wall Street\, Kingston\, NY\, 12401\, United States
END:VEVENT
BEGIN:VEVENT
DTSTART;TZID=America/New_York:20230406T190000
DTEND;TZID=America/New_York:20230406T200000
DTSTAMP:20260421T171348
CREATED:20230131T003704Z
LAST-MODIFIED:20230131T003704Z
UID:10007904-1680807600-1680811200@olddutchchurch.org
SUMMARY:AA
DESCRIPTION:
URL:https://olddutchchurch.org/event/aa/2023-04-06/
END:VEVENT
BEGIN:VEVENT
DTSTART;TZID=America/New_York:20230406T183000
DTEND;TZID=America/New_York:20230406T193000
DTSTAMP:20260421T171348
CREATED:20230131T004310Z
LAST-MODIFIED:20230131T004310Z
UID:10009202-1680805800-1680809400@olddutchchurch.org
SUMMARY:ACA Book Group
DESCRIPTION:Meeting every other week
URL:https://olddutchchurch.org/event/aca-book-group/2023-04-06/
END:VEVENT
BEGIN:VEVENT
DTSTART;TZID=America/New_York:20230405T180000
DTEND;TZID=America/New_York:20230405T210000
DTSTAMP:20260421T171348
CREATED:20230131T003225Z
LAST-MODIFIED:20250624T171339Z
UID:10006951-1680717600-1680728400@olddutchchurch.org
SUMMARY:Ubaka Hill Drum Circle
DESCRIPTION:
URL:https://olddutchchurch.org/event/ubaka-hill-drum-circle/2023-04-05/
END:VEVENT
BEGIN:VEVENT
DTSTART;TZID=America/New_York:20230405T130000
DTEND;TZID=America/New_York:20230405T140000
DTSTAMP:20260421T171348
CREATED:20220621T152107Z
LAST-MODIFIED:20250624T163908Z
UID:10007251-1680699600-1680703200@olddutchchurch.org
SUMMARY:Community Chorus (on hiatus until Fall)
DESCRIPTION:Community Chorus in Bethany Hall
URL:https://olddutchchurch.org/event/community-chorus/2023-04-05/
END:VEVENT
BEGIN:VEVENT
DTSTART;TZID=America/New_York:20230403T190000
DTEND;TZID=America/New_York:20230403T200000
DTSTAMP:20260421T171348
CREATED:20230131T004717Z
LAST-MODIFIED:20230131T004717Z
UID:10009469-1680548400-1680552000@olddutchchurch.org
SUMMARY:Debtors’ Anonymous
DESCRIPTION:
URL:https://olddutchchurch.org/event/debtors-anonymous/2023-04-03/
END:VEVENT
BEGIN:VEVENT
DTSTART;TZID=America/New_York:20230403T170000
DTEND;TZID=America/New_York:20230403T180000
DTSTAMP:20260421T171348
CREATED:20230131T005556Z
LAST-MODIFIED:20230131T005556Z
UID:10009736-1680541200-1680544800@olddutchchurch.org
SUMMARY:SLAA Augustine Fellowship
DESCRIPTION:
URL:https://olddutchchurch.org/event/slaa-augustine-fellowship/2023-04-03/
END:VEVENT
END:VCALENDAR