BEGIN:VCALENDAR
VERSION:2.0
PRODID:-//Old Dutch Church - ECPv6.15.20//NONSGML v1.0//EN
CALSCALE:GREGORIAN
METHOD:PUBLISH
X-WR-CALNAME:Old Dutch Church
X-ORIGINAL-URL:https://olddutchchurch.org
X-WR-CALDESC:Events for Old Dutch Church
REFRESH-INTERVAL;VALUE=DURATION:PT1H
X-Robots-Tag:noindex
X-PUBLISHED-TTL:PT1H
BEGIN:VTIMEZONE
TZID:America/New_York
BEGIN:DAYLIGHT
TZOFFSETFROM:-0500
TZOFFSETTO:-0400
TZNAME:EDT
DTSTART:20220313T070000
END:DAYLIGHT
BEGIN:STANDARD
TZOFFSETFROM:-0400
TZOFFSETTO:-0500
TZNAME:EST
DTSTART:20221106T060000
END:STANDARD
BEGIN:DAYLIGHT
TZOFFSETFROM:-0500
TZOFFSETTO:-0400
TZNAME:EDT
DTSTART:20230312T070000
END:DAYLIGHT
BEGIN:STANDARD
TZOFFSETFROM:-0400
TZOFFSETTO:-0500
TZNAME:EST
DTSTART:20231105T060000
END:STANDARD
BEGIN:DAYLIGHT
TZOFFSETFROM:-0500
TZOFFSETTO:-0400
TZNAME:EDT
DTSTART:20240310T070000
END:DAYLIGHT
BEGIN:STANDARD
TZOFFSETFROM:-0400
TZOFFSETTO:-0500
TZNAME:EST
DTSTART:20241103T060000
END:STANDARD
END:VTIMEZONE
BEGIN:VEVENT
DTSTART;TZID=America/New_York:20231012T183000
DTEND;TZID=America/New_York:20231012T193000
DTSTAMP:20260421T144152
CREATED:20230131T004310Z
LAST-MODIFIED:20230131T004310Z
UID:10009229-1697135400-1697139000@olddutchchurch.org
SUMMARY:ACA Book Group
DESCRIPTION:Meeting every other week
URL:https://olddutchchurch.org/event/aca-book-group/2023-10-12/
END:VEVENT
BEGIN:VEVENT
DTSTART;TZID=America/New_York:20231011T180000
DTEND;TZID=America/New_York:20231011T210000
DTSTAMP:20260421T144152
CREATED:20230131T003225Z
LAST-MODIFIED:20250624T171339Z
UID:10006978-1697047200-1697058000@olddutchchurch.org
SUMMARY:Ubaka Hill Drum Circle
DESCRIPTION:
URL:https://olddutchchurch.org/event/ubaka-hill-drum-circle/2023-10-11/
END:VEVENT
BEGIN:VEVENT
DTSTART;TZID=America/New_York:20231011T130000
DTEND;TZID=America/New_York:20231011T140000
DTSTAMP:20260421T144152
CREATED:20220621T152107Z
LAST-MODIFIED:20250624T163908Z
UID:10007278-1697029200-1697032800@olddutchchurch.org
SUMMARY:Community Chorus (on hiatus until Fall)
DESCRIPTION:Community Chorus in Bethany Hall
URL:https://olddutchchurch.org/event/community-chorus/2023-10-11/
END:VEVENT
BEGIN:VEVENT
DTSTART;TZID=America/New_York:20231009T190000
DTEND;TZID=America/New_York:20231009T200000
DTSTAMP:20260421T144152
CREATED:20230131T004717Z
LAST-MODIFIED:20230131T004717Z
UID:10009496-1696878000-1696881600@olddutchchurch.org
SUMMARY:Debtors’ Anonymous
DESCRIPTION:
URL:https://olddutchchurch.org/event/debtors-anonymous/2023-10-09/
END:VEVENT
BEGIN:VEVENT
DTSTART;TZID=America/New_York:20231009T170000
DTEND;TZID=America/New_York:20231009T180000
DTSTAMP:20260421T144152
CREATED:20230131T005556Z
LAST-MODIFIED:20230131T005556Z
UID:10009763-1696870800-1696874400@olddutchchurch.org
SUMMARY:SLAA Augustine Fellowship
DESCRIPTION:
URL:https://olddutchchurch.org/event/slaa-augustine-fellowship/2023-10-09/
END:VEVENT
BEGIN:VEVENT
DTSTART;TZID=America/New_York:20231008T190000
DTEND;TZID=America/New_York:20231008T213000
DTSTAMP:20260421T144152
CREATED:20220621T152603Z
LAST-MODIFIED:20230131T005403Z
UID:10008198-1696791600-1696800600@olddutchchurch.org
SUMMARY:SLAA Women’s Group
DESCRIPTION:SLAA in OMG
URL:https://olddutchchurch.org/event/slaa-3/2023-10-08/
END:VEVENT
BEGIN:VEVENT
DTSTART;TZID=America/New_York:20231008T180000
DTEND;TZID=America/New_York:20231008T203000
DTSTAMP:20260421T144152
CREATED:20220621T151545Z
LAST-MODIFIED:20230131T001910Z
UID:10005979-1696788000-1696797000@olddutchchurch.org
SUMMARY:ARS Choralis
DESCRIPTION:ARS Choralis in Bethany Hall
URL:https://olddutchchurch.org/event/ars-choralis/2023-10-08/
END:VEVENT
BEGIN:VEVENT
DTSTART;TZID=America/New_York:20231008T113000
DTEND;TZID=America/New_York:20231008T123000
DTSTAMP:20260421T144152
CREATED:20220621T151126Z
LAST-MODIFIED:20230131T004016Z
UID:10005640-1696764600-1696768200@olddutchchurch.org
SUMMARY:ACA
DESCRIPTION:ACA in OMG
URL:https://olddutchchurch.org/event/aca/2023-10-08/
LOCATION:Old Dutch Church\, Wall Street\, Kingston\, 272 Wall Street\, Kingston\, NY\, 12401\, United States
END:VEVENT
BEGIN:VEVENT
DTSTART;TZID=America/New_York:20231008T103000
DTEND;TZID=America/New_York:20231008T113000
DTSTAMP:20260421T144152
CREATED:20220621T145509Z
LAST-MODIFIED:20230131T010033Z
UID:10005340-1696761000-1696764600@olddutchchurch.org
SUMMARY:Sunday Worship
DESCRIPTION:Sunday worship in the Sanctuary
URL:https://olddutchchurch.org/event/sunday-worship/2023-10-08/
LOCATION:Old Dutch Church\, Wall Street\, Kingston\, 272 Wall Street\, Kingston\, NY\, 12401\, United States
END:VEVENT
BEGIN:VEVENT
DTSTART;TZID=America/New_York:20231007T210000
DTEND;TZID=America/New_York:20231007T220000
DTSTAMP:20260421T144152
CREATED:20230131T003843Z
LAST-MODIFIED:20230131T003843Z
UID:10008466-1696712400-1696716000@olddutchchurch.org
SUMMARY:AA Book Group
DESCRIPTION:
URL:https://olddutchchurch.org/event/aa-book-group/2023-10-07/
END:VEVENT
BEGIN:VEVENT
DTSTART;TZID=America/New_York:20231005T190000
DTEND;TZID=America/New_York:20231005T200000
DTSTAMP:20260421T144152
CREATED:20230131T003704Z
LAST-MODIFIED:20230131T003704Z
UID:10007930-1696532400-1696536000@olddutchchurch.org
SUMMARY:AA
DESCRIPTION:
URL:https://olddutchchurch.org/event/aa/2023-10-05/
END:VEVENT
BEGIN:VEVENT
DTSTART;TZID=America/New_York:20231005T183000
DTEND;TZID=America/New_York:20231005T193000
DTSTAMP:20260421T144152
CREATED:20230131T004310Z
LAST-MODIFIED:20230131T004310Z
UID:10009228-1696530600-1696534200@olddutchchurch.org
SUMMARY:ACA Book Group
DESCRIPTION:Meeting every other week
URL:https://olddutchchurch.org/event/aca-book-group/2023-10-05/
END:VEVENT
BEGIN:VEVENT
DTSTART;TZID=America/New_York:20231004T180000
DTEND;TZID=America/New_York:20231004T210000
DTSTAMP:20260421T144152
CREATED:20230131T003225Z
LAST-MODIFIED:20250624T171339Z
UID:10006977-1696442400-1696453200@olddutchchurch.org
SUMMARY:Ubaka Hill Drum Circle
DESCRIPTION:
URL:https://olddutchchurch.org/event/ubaka-hill-drum-circle/2023-10-04/
END:VEVENT
BEGIN:VEVENT
DTSTART;TZID=America/New_York:20231004T130000
DTEND;TZID=America/New_York:20231004T140000
DTSTAMP:20260421T144152
CREATED:20220621T152107Z
LAST-MODIFIED:20250624T163908Z
UID:10007277-1696424400-1696428000@olddutchchurch.org
SUMMARY:Community Chorus (on hiatus until Fall)
DESCRIPTION:Community Chorus in Bethany Hall
URL:https://olddutchchurch.org/event/community-chorus/2023-10-04/
END:VEVENT
BEGIN:VEVENT
DTSTART;TZID=America/New_York:20231002T190000
DTEND;TZID=America/New_York:20231002T200000
DTSTAMP:20260421T144152
CREATED:20230131T004717Z
LAST-MODIFIED:20230131T004717Z
UID:10009495-1696273200-1696276800@olddutchchurch.org
SUMMARY:Debtors’ Anonymous
DESCRIPTION:
URL:https://olddutchchurch.org/event/debtors-anonymous/2023-10-02/
END:VEVENT
BEGIN:VEVENT
DTSTART;TZID=America/New_York:20231002T170000
DTEND;TZID=America/New_York:20231002T180000
DTSTAMP:20260421T144152
CREATED:20230131T005556Z
LAST-MODIFIED:20230131T005556Z
UID:10009762-1696266000-1696269600@olddutchchurch.org
SUMMARY:SLAA Augustine Fellowship
DESCRIPTION:
URL:https://olddutchchurch.org/event/slaa-augustine-fellowship/2023-10-02/
END:VEVENT
BEGIN:VEVENT
DTSTART;TZID=America/New_York:20231001T190000
DTEND;TZID=America/New_York:20231001T213000
DTSTAMP:20260421T144152
CREATED:20220621T152603Z
LAST-MODIFIED:20230131T005403Z
UID:10008197-1696186800-1696195800@olddutchchurch.org
SUMMARY:SLAA Women’s Group
DESCRIPTION:SLAA in OMG
URL:https://olddutchchurch.org/event/slaa-3/2023-10-01/
END:VEVENT
BEGIN:VEVENT
DTSTART;TZID=America/New_York:20231001T180000
DTEND;TZID=America/New_York:20231001T203000
DTSTAMP:20260421T144152
CREATED:20220621T151545Z
LAST-MODIFIED:20230131T001910Z
UID:10005978-1696183200-1696192200@olddutchchurch.org
SUMMARY:ARS Choralis
DESCRIPTION:ARS Choralis in Bethany Hall
URL:https://olddutchchurch.org/event/ars-choralis/2023-10-01/
END:VEVENT
BEGIN:VEVENT
DTSTART;TZID=America/New_York:20231001T113000
DTEND;TZID=America/New_York:20231001T123000
DTSTAMP:20260421T144152
CREATED:20220621T151126Z
LAST-MODIFIED:20230131T004016Z
UID:10005639-1696159800-1696163400@olddutchchurch.org
SUMMARY:ACA
DESCRIPTION:ACA in OMG
URL:https://olddutchchurch.org/event/aca/2023-10-01/
LOCATION:Old Dutch Church\, Wall Street\, Kingston\, 272 Wall Street\, Kingston\, NY\, 12401\, United States
END:VEVENT
BEGIN:VEVENT
DTSTART;TZID=America/New_York:20231001T103000
DTEND;TZID=America/New_York:20231001T113000
DTSTAMP:20260421T144152
CREATED:20220621T145509Z
LAST-MODIFIED:20230131T010033Z
UID:10005339-1696156200-1696159800@olddutchchurch.org
SUMMARY:Sunday Worship
DESCRIPTION:Sunday worship in the Sanctuary
URL:https://olddutchchurch.org/event/sunday-worship/2023-10-01/
LOCATION:Old Dutch Church\, Wall Street\, Kingston\, 272 Wall Street\, Kingston\, NY\, 12401\, United States
END:VEVENT
BEGIN:VEVENT
DTSTART;TZID=America/New_York:20230930T210000
DTEND;TZID=America/New_York:20230930T220000
DTSTAMP:20260421T144152
CREATED:20230131T003843Z
LAST-MODIFIED:20230131T003843Z
UID:10008465-1696107600-1696111200@olddutchchurch.org
SUMMARY:AA Book Group
DESCRIPTION:
URL:https://olddutchchurch.org/event/aa-book-group/2023-09-30/
END:VEVENT
BEGIN:VEVENT
DTSTART;TZID=America/New_York:20230928T190000
DTEND;TZID=America/New_York:20230928T200000
DTSTAMP:20260421T144152
CREATED:20230131T003704Z
LAST-MODIFIED:20230131T003704Z
UID:10007929-1695927600-1695931200@olddutchchurch.org
SUMMARY:AA
DESCRIPTION:
URL:https://olddutchchurch.org/event/aa/2023-09-28/
END:VEVENT
BEGIN:VEVENT
DTSTART;TZID=America/New_York:20230928T183000
DTEND;TZID=America/New_York:20230928T193000
DTSTAMP:20260421T144152
CREATED:20230131T004310Z
LAST-MODIFIED:20230131T004310Z
UID:10009227-1695925800-1695929400@olddutchchurch.org
SUMMARY:ACA Book Group
DESCRIPTION:Meeting every other week
URL:https://olddutchchurch.org/event/aca-book-group/2023-09-28/
END:VEVENT
BEGIN:VEVENT
DTSTART;TZID=America/New_York:20230927T180000
DTEND;TZID=America/New_York:20230927T210000
DTSTAMP:20260421T144152
CREATED:20230131T003225Z
LAST-MODIFIED:20250624T171339Z
UID:10006976-1695837600-1695848400@olddutchchurch.org
SUMMARY:Ubaka Hill Drum Circle
DESCRIPTION:
URL:https://olddutchchurch.org/event/ubaka-hill-drum-circle/2023-09-27/
END:VEVENT
BEGIN:VEVENT
DTSTART;TZID=America/New_York:20230927T130000
DTEND;TZID=America/New_York:20230927T140000
DTSTAMP:20260421T144152
CREATED:20220621T152107Z
LAST-MODIFIED:20250624T163908Z
UID:10007276-1695819600-1695823200@olddutchchurch.org
SUMMARY:Community Chorus (on hiatus until Fall)
DESCRIPTION:Community Chorus in Bethany Hall
URL:https://olddutchchurch.org/event/community-chorus/2023-09-27/
END:VEVENT
BEGIN:VEVENT
DTSTART;TZID=America/New_York:20230925T190000
DTEND;TZID=America/New_York:20230925T200000
DTSTAMP:20260421T144152
CREATED:20230131T004717Z
LAST-MODIFIED:20230131T004717Z
UID:10009494-1695668400-1695672000@olddutchchurch.org
SUMMARY:Debtors’ Anonymous
DESCRIPTION:
URL:https://olddutchchurch.org/event/debtors-anonymous/2023-09-25/
END:VEVENT
BEGIN:VEVENT
DTSTART;TZID=America/New_York:20230925T170000
DTEND;TZID=America/New_York:20230925T180000
DTSTAMP:20260421T144152
CREATED:20230131T005556Z
LAST-MODIFIED:20230131T005556Z
UID:10009761-1695661200-1695664800@olddutchchurch.org
SUMMARY:SLAA Augustine Fellowship
DESCRIPTION:
URL:https://olddutchchurch.org/event/slaa-augustine-fellowship/2023-09-25/
END:VEVENT
BEGIN:VEVENT
DTSTART;TZID=America/New_York:20230924T190000
DTEND;TZID=America/New_York:20230924T213000
DTSTAMP:20260421T144152
CREATED:20220621T152603Z
LAST-MODIFIED:20230131T005403Z
UID:10008196-1695582000-1695591000@olddutchchurch.org
SUMMARY:SLAA Women’s Group
DESCRIPTION:SLAA in OMG
URL:https://olddutchchurch.org/event/slaa-3/2023-09-24/
END:VEVENT
BEGIN:VEVENT
DTSTART;TZID=America/New_York:20230924T180000
DTEND;TZID=America/New_York:20230924T203000
DTSTAMP:20260421T144152
CREATED:20220621T151545Z
LAST-MODIFIED:20230131T001910Z
UID:10005977-1695578400-1695587400@olddutchchurch.org
SUMMARY:ARS Choralis
DESCRIPTION:ARS Choralis in Bethany Hall
URL:https://olddutchchurch.org/event/ars-choralis/2023-09-24/
END:VEVENT
BEGIN:VEVENT
DTSTART;TZID=America/New_York:20230924T113000
DTEND;TZID=America/New_York:20230924T123000
DTSTAMP:20260421T144152
CREATED:20220621T151126Z
LAST-MODIFIED:20230131T004016Z
UID:10005638-1695555000-1695558600@olddutchchurch.org
SUMMARY:ACA
DESCRIPTION:ACA in OMG
URL:https://olddutchchurch.org/event/aca/2023-09-24/
LOCATION:Old Dutch Church\, Wall Street\, Kingston\, 272 Wall Street\, Kingston\, NY\, 12401\, United States
END:VEVENT
END:VCALENDAR