BEGIN:VCALENDAR
VERSION:2.0
PRODID:-//Old Dutch Church - ECPv6.15.20//NONSGML v1.0//EN
CALSCALE:GREGORIAN
METHOD:PUBLISH
X-WR-CALNAME:Old Dutch Church
X-ORIGINAL-URL:https://olddutchchurch.org
X-WR-CALDESC:Events for Old Dutch Church
REFRESH-INTERVAL;VALUE=DURATION:PT1H
X-Robots-Tag:noindex
X-PUBLISHED-TTL:PT1H
BEGIN:VTIMEZONE
TZID:America/New_York
BEGIN:DAYLIGHT
TZOFFSETFROM:-0500
TZOFFSETTO:-0400
TZNAME:EDT
DTSTART:20230312T070000
END:DAYLIGHT
BEGIN:STANDARD
TZOFFSETFROM:-0400
TZOFFSETTO:-0500
TZNAME:EST
DTSTART:20231105T060000
END:STANDARD
BEGIN:DAYLIGHT
TZOFFSETFROM:-0500
TZOFFSETTO:-0400
TZNAME:EDT
DTSTART:20240310T070000
END:DAYLIGHT
BEGIN:STANDARD
TZOFFSETFROM:-0400
TZOFFSETTO:-0500
TZNAME:EST
DTSTART:20241103T060000
END:STANDARD
BEGIN:DAYLIGHT
TZOFFSETFROM:-0500
TZOFFSETTO:-0400
TZNAME:EDT
DTSTART:20250309T070000
END:DAYLIGHT
BEGIN:STANDARD
TZOFFSETFROM:-0400
TZOFFSETTO:-0500
TZNAME:EST
DTSTART:20251102T060000
END:STANDARD
END:VTIMEZONE
BEGIN:VEVENT
DTSTART;TZID=America/New_York:20240922T113000
DTEND;TZID=America/New_York:20240922T123000
DTSTAMP:20260421T125417
CREATED:20220621T151126Z
LAST-MODIFIED:20230131T004016Z
UID:10005690-1727004600-1727008200@olddutchchurch.org
SUMMARY:ACA
DESCRIPTION:ACA in OMG
URL:https://olddutchchurch.org/event/aca/2024-09-22/
LOCATION:Old Dutch Church\, Wall Street\, Kingston\, 272 Wall Street\, Kingston\, NY\, 12401\, United States
END:VEVENT
BEGIN:VEVENT
DTSTART;TZID=America/New_York:20240922T190000
DTEND;TZID=America/New_York:20240922T213000
DTSTAMP:20260421T125417
CREATED:20220621T152603Z
LAST-MODIFIED:20230131T005403Z
UID:10008248-1727031600-1727040600@olddutchchurch.org
SUMMARY:SLAA Women’s Group
DESCRIPTION:SLAA in OMG
URL:https://olddutchchurch.org/event/slaa-3/2024-09-22/
END:VEVENT
BEGIN:VEVENT
DTSTART;TZID=America/New_York:20240923T170000
DTEND;TZID=America/New_York:20240923T180000
DTSTAMP:20260421T125417
CREATED:20230131T005556Z
LAST-MODIFIED:20230131T005556Z
UID:10009813-1727110800-1727114400@olddutchchurch.org
SUMMARY:SLAA Augustine Fellowship
DESCRIPTION:
URL:https://olddutchchurch.org/event/slaa-augustine-fellowship/2024-09-23/
END:VEVENT
BEGIN:VEVENT
DTSTART;TZID=America/New_York:20240923T190000
DTEND;TZID=America/New_York:20240923T200000
DTSTAMP:20260421T125417
CREATED:20230131T004717Z
LAST-MODIFIED:20230131T004717Z
UID:10009546-1727118000-1727121600@olddutchchurch.org
SUMMARY:Debtors’ Anonymous
DESCRIPTION:
URL:https://olddutchchurch.org/event/debtors-anonymous/2024-09-23/
END:VEVENT
BEGIN:VEVENT
DTSTART;TZID=America/New_York:20240925T130000
DTEND;TZID=America/New_York:20240925T140000
DTSTAMP:20260421T125417
CREATED:20220621T152107Z
LAST-MODIFIED:20250624T163908Z
UID:10007328-1727269200-1727272800@olddutchchurch.org
SUMMARY:Community Chorus (on hiatus until Fall)
DESCRIPTION:Community Chorus in Bethany Hall
URL:https://olddutchchurch.org/event/community-chorus/2024-09-25/
END:VEVENT
BEGIN:VEVENT
DTSTART;TZID=America/New_York:20240925T180000
DTEND;TZID=America/New_York:20240925T210000
DTSTAMP:20260421T125417
CREATED:20230131T003225Z
LAST-MODIFIED:20250624T171339Z
UID:10007028-1727287200-1727298000@olddutchchurch.org
SUMMARY:Ubaka Hill Drum Circle
DESCRIPTION:
URL:https://olddutchchurch.org/event/ubaka-hill-drum-circle/2024-09-25/
END:VEVENT
BEGIN:VEVENT
DTSTART;TZID=America/New_York:20240926T183000
DTEND;TZID=America/New_York:20240926T193000
DTSTAMP:20260421T125417
CREATED:20230131T004310Z
LAST-MODIFIED:20230131T004310Z
UID:10009279-1727375400-1727379000@olddutchchurch.org
SUMMARY:ACA Book Group
DESCRIPTION:Meeting every other week
URL:https://olddutchchurch.org/event/aca-book-group/2024-09-26/
END:VEVENT
BEGIN:VEVENT
DTSTART;TZID=America/New_York:20240926T190000
DTEND;TZID=America/New_York:20240926T200000
DTSTAMP:20260421T125417
CREATED:20230131T003704Z
LAST-MODIFIED:20230131T003704Z
UID:10007981-1727377200-1727380800@olddutchchurch.org
SUMMARY:AA
DESCRIPTION:
URL:https://olddutchchurch.org/event/aa/2024-09-26/
END:VEVENT
BEGIN:VEVENT
DTSTART;TZID=America/New_York:20240928T210000
DTEND;TZID=America/New_York:20240928T220000
DTSTAMP:20260421T125417
CREATED:20230131T003843Z
LAST-MODIFIED:20230131T003843Z
UID:10008517-1727557200-1727560800@olddutchchurch.org
SUMMARY:AA Book Group
DESCRIPTION:
URL:https://olddutchchurch.org/event/aa-book-group/2024-09-28/
END:VEVENT
BEGIN:VEVENT
DTSTART;TZID=America/New_York:20240929T103000
DTEND;TZID=America/New_York:20240929T113000
DTSTAMP:20260421T125417
CREATED:20220621T145509Z
LAST-MODIFIED:20230131T010033Z
UID:10005391-1727605800-1727609400@olddutchchurch.org
SUMMARY:Sunday Worship
DESCRIPTION:Sunday worship in the Sanctuary
URL:https://olddutchchurch.org/event/sunday-worship/2024-09-29/
LOCATION:Old Dutch Church\, Wall Street\, Kingston\, 272 Wall Street\, Kingston\, NY\, 12401\, United States
END:VEVENT
BEGIN:VEVENT
DTSTART;TZID=America/New_York:20240929T113000
DTEND;TZID=America/New_York:20240929T123000
DTSTAMP:20260421T125417
CREATED:20220621T151126Z
LAST-MODIFIED:20230131T004016Z
UID:10005691-1727609400-1727613000@olddutchchurch.org
SUMMARY:ACA
DESCRIPTION:ACA in OMG
URL:https://olddutchchurch.org/event/aca/2024-09-29/
LOCATION:Old Dutch Church\, Wall Street\, Kingston\, 272 Wall Street\, Kingston\, NY\, 12401\, United States
END:VEVENT
BEGIN:VEVENT
DTSTART;TZID=America/New_York:20240929T190000
DTEND;TZID=America/New_York:20240929T213000
DTSTAMP:20260421T125417
CREATED:20220621T152603Z
LAST-MODIFIED:20230131T005403Z
UID:10008249-1727636400-1727645400@olddutchchurch.org
SUMMARY:SLAA Women’s Group
DESCRIPTION:SLAA in OMG
URL:https://olddutchchurch.org/event/slaa-3/2024-09-29/
END:VEVENT
BEGIN:VEVENT
DTSTART;TZID=America/New_York:20240930T170000
DTEND;TZID=America/New_York:20240930T180000
DTSTAMP:20260421T125417
CREATED:20230131T005556Z
LAST-MODIFIED:20230131T005556Z
UID:10009814-1727715600-1727719200@olddutchchurch.org
SUMMARY:SLAA Augustine Fellowship
DESCRIPTION:
URL:https://olddutchchurch.org/event/slaa-augustine-fellowship/2024-09-30/
END:VEVENT
BEGIN:VEVENT
DTSTART;TZID=America/New_York:20240930T190000
DTEND;TZID=America/New_York:20240930T200000
DTSTAMP:20260421T125417
CREATED:20230131T004717Z
LAST-MODIFIED:20230131T004717Z
UID:10009547-1727722800-1727726400@olddutchchurch.org
SUMMARY:Debtors’ Anonymous
DESCRIPTION:
URL:https://olddutchchurch.org/event/debtors-anonymous/2024-09-30/
END:VEVENT
BEGIN:VEVENT
DTSTART;TZID=America/New_York:20241002T130000
DTEND;TZID=America/New_York:20241002T140000
DTSTAMP:20260421T125417
CREATED:20220621T152107Z
LAST-MODIFIED:20250624T163908Z
UID:10007329-1727874000-1727877600@olddutchchurch.org
SUMMARY:Community Chorus (on hiatus until Fall)
DESCRIPTION:Community Chorus in Bethany Hall
URL:https://olddutchchurch.org/event/community-chorus/2024-10-02/
END:VEVENT
BEGIN:VEVENT
DTSTART;TZID=America/New_York:20241002T180000
DTEND;TZID=America/New_York:20241002T210000
DTSTAMP:20260421T125417
CREATED:20230131T003225Z
LAST-MODIFIED:20250624T171339Z
UID:10007029-1727892000-1727902800@olddutchchurch.org
SUMMARY:Ubaka Hill Drum Circle
DESCRIPTION:
URL:https://olddutchchurch.org/event/ubaka-hill-drum-circle/2024-10-02/
END:VEVENT
BEGIN:VEVENT
DTSTART;TZID=America/New_York:20241003T183000
DTEND;TZID=America/New_York:20241003T193000
DTSTAMP:20260421T125417
CREATED:20230131T004310Z
LAST-MODIFIED:20230131T004310Z
UID:10009280-1727980200-1727983800@olddutchchurch.org
SUMMARY:ACA Book Group
DESCRIPTION:Meeting every other week
URL:https://olddutchchurch.org/event/aca-book-group/2024-10-03/
END:VEVENT
BEGIN:VEVENT
DTSTART;TZID=America/New_York:20241003T190000
DTEND;TZID=America/New_York:20241003T200000
DTSTAMP:20260421T125417
CREATED:20230131T003704Z
LAST-MODIFIED:20230131T003704Z
UID:10007982-1727982000-1727985600@olddutchchurch.org
SUMMARY:AA
DESCRIPTION:
URL:https://olddutchchurch.org/event/aa/2024-10-03/
END:VEVENT
BEGIN:VEVENT
DTSTART;TZID=America/New_York:20241005T210000
DTEND;TZID=America/New_York:20241005T220000
DTSTAMP:20260421T125417
CREATED:20230131T003843Z
LAST-MODIFIED:20230131T003843Z
UID:10008518-1728162000-1728165600@olddutchchurch.org
SUMMARY:AA Book Group
DESCRIPTION:
URL:https://olddutchchurch.org/event/aa-book-group/2024-10-05/
END:VEVENT
BEGIN:VEVENT
DTSTART;TZID=America/New_York:20241006T103000
DTEND;TZID=America/New_York:20241006T113000
DTSTAMP:20260421T125417
CREATED:20220621T145509Z
LAST-MODIFIED:20230131T010033Z
UID:10005392-1728210600-1728214200@olddutchchurch.org
SUMMARY:Sunday Worship
DESCRIPTION:Sunday worship in the Sanctuary
URL:https://olddutchchurch.org/event/sunday-worship/2024-10-06/
LOCATION:Old Dutch Church\, Wall Street\, Kingston\, 272 Wall Street\, Kingston\, NY\, 12401\, United States
END:VEVENT
BEGIN:VEVENT
DTSTART;TZID=America/New_York:20241006T113000
DTEND;TZID=America/New_York:20241006T123000
DTSTAMP:20260421T125417
CREATED:20220621T151126Z
LAST-MODIFIED:20230131T004016Z
UID:10005692-1728214200-1728217800@olddutchchurch.org
SUMMARY:ACA
DESCRIPTION:ACA in OMG
URL:https://olddutchchurch.org/event/aca/2024-10-06/
LOCATION:Old Dutch Church\, Wall Street\, Kingston\, 272 Wall Street\, Kingston\, NY\, 12401\, United States
END:VEVENT
BEGIN:VEVENT
DTSTART;TZID=America/New_York:20241006T190000
DTEND;TZID=America/New_York:20241006T213000
DTSTAMP:20260421T125417
CREATED:20220621T152603Z
LAST-MODIFIED:20230131T005403Z
UID:10008250-1728241200-1728250200@olddutchchurch.org
SUMMARY:SLAA Women’s Group
DESCRIPTION:SLAA in OMG
URL:https://olddutchchurch.org/event/slaa-3/2024-10-06/
END:VEVENT
BEGIN:VEVENT
DTSTART;TZID=America/New_York:20241007T170000
DTEND;TZID=America/New_York:20241007T180000
DTSTAMP:20260421T125417
CREATED:20230131T005556Z
LAST-MODIFIED:20230131T005556Z
UID:10009815-1728320400-1728324000@olddutchchurch.org
SUMMARY:SLAA Augustine Fellowship
DESCRIPTION:
URL:https://olddutchchurch.org/event/slaa-augustine-fellowship/2024-10-07/
END:VEVENT
BEGIN:VEVENT
DTSTART;TZID=America/New_York:20241007T190000
DTEND;TZID=America/New_York:20241007T200000
DTSTAMP:20260421T125417
CREATED:20230131T004717Z
LAST-MODIFIED:20230131T004717Z
UID:10009548-1728327600-1728331200@olddutchchurch.org
SUMMARY:Debtors’ Anonymous
DESCRIPTION:
URL:https://olddutchchurch.org/event/debtors-anonymous/2024-10-07/
END:VEVENT
BEGIN:VEVENT
DTSTART;TZID=America/New_York:20241009T130000
DTEND;TZID=America/New_York:20241009T140000
DTSTAMP:20260421T125417
CREATED:20220621T152107Z
LAST-MODIFIED:20250624T163908Z
UID:10007330-1728478800-1728482400@olddutchchurch.org
SUMMARY:Community Chorus (on hiatus until Fall)
DESCRIPTION:Community Chorus in Bethany Hall
URL:https://olddutchchurch.org/event/community-chorus/2024-10-09/
END:VEVENT
BEGIN:VEVENT
DTSTART;TZID=America/New_York:20241009T180000
DTEND;TZID=America/New_York:20241009T210000
DTSTAMP:20260421T125417
CREATED:20230131T003225Z
LAST-MODIFIED:20250624T171339Z
UID:10007030-1728496800-1728507600@olddutchchurch.org
SUMMARY:Ubaka Hill Drum Circle
DESCRIPTION:
URL:https://olddutchchurch.org/event/ubaka-hill-drum-circle/2024-10-09/
END:VEVENT
BEGIN:VEVENT
DTSTART;TZID=America/New_York:20241010T183000
DTEND;TZID=America/New_York:20241010T193000
DTSTAMP:20260421T125417
CREATED:20230131T004310Z
LAST-MODIFIED:20230131T004310Z
UID:10009281-1728585000-1728588600@olddutchchurch.org
SUMMARY:ACA Book Group
DESCRIPTION:Meeting every other week
URL:https://olddutchchurch.org/event/aca-book-group/2024-10-10/
END:VEVENT
BEGIN:VEVENT
DTSTART;TZID=America/New_York:20241010T190000
DTEND;TZID=America/New_York:20241010T200000
DTSTAMP:20260421T125417
CREATED:20230131T003704Z
LAST-MODIFIED:20230131T003704Z
UID:10007983-1728586800-1728590400@olddutchchurch.org
SUMMARY:AA
DESCRIPTION:
URL:https://olddutchchurch.org/event/aa/2024-10-10/
END:VEVENT
BEGIN:VEVENT
DTSTART;TZID=America/New_York:20241012T210000
DTEND;TZID=America/New_York:20241012T220000
DTSTAMP:20260421T125417
CREATED:20230131T003843Z
LAST-MODIFIED:20230131T003843Z
UID:10008519-1728766800-1728770400@olddutchchurch.org
SUMMARY:AA Book Group
DESCRIPTION:
URL:https://olddutchchurch.org/event/aa-book-group/2024-10-12/
END:VEVENT
BEGIN:VEVENT
DTSTART;TZID=America/New_York:20241013T103000
DTEND;TZID=America/New_York:20241013T113000
DTSTAMP:20260421T125417
CREATED:20220621T145509Z
LAST-MODIFIED:20230131T010033Z
UID:10005393-1728815400-1728819000@olddutchchurch.org
SUMMARY:Sunday Worship
DESCRIPTION:Sunday worship in the Sanctuary
URL:https://olddutchchurch.org/event/sunday-worship/2024-10-13/
LOCATION:Old Dutch Church\, Wall Street\, Kingston\, 272 Wall Street\, Kingston\, NY\, 12401\, United States
END:VEVENT
END:VCALENDAR