BEGIN:VCALENDAR
VERSION:2.0
PRODID:-//Old Dutch Church - ECPv6.15.20//NONSGML v1.0//EN
CALSCALE:GREGORIAN
METHOD:PUBLISH
X-ORIGINAL-URL:https://olddutchchurch.org
X-WR-CALDESC:Events for Old Dutch Church
REFRESH-INTERVAL;VALUE=DURATION:PT1H
X-Robots-Tag:noindex
X-PUBLISHED-TTL:PT1H
BEGIN:VTIMEZONE
TZID:America/New_York
BEGIN:DAYLIGHT
TZOFFSETFROM:-0500
TZOFFSETTO:-0400
TZNAME:EDT
DTSTART:20220313T070000
END:DAYLIGHT
BEGIN:STANDARD
TZOFFSETFROM:-0400
TZOFFSETTO:-0500
TZNAME:EST
DTSTART:20221106T060000
END:STANDARD
BEGIN:DAYLIGHT
TZOFFSETFROM:-0500
TZOFFSETTO:-0400
TZNAME:EDT
DTSTART:20230312T070000
END:DAYLIGHT
BEGIN:STANDARD
TZOFFSETFROM:-0400
TZOFFSETTO:-0500
TZNAME:EST
DTSTART:20231105T060000
END:STANDARD
BEGIN:DAYLIGHT
TZOFFSETFROM:-0500
TZOFFSETTO:-0400
TZNAME:EDT
DTSTART:20240310T070000
END:DAYLIGHT
BEGIN:STANDARD
TZOFFSETFROM:-0400
TZOFFSETTO:-0500
TZNAME:EST
DTSTART:20241103T060000
END:STANDARD
END:VTIMEZONE
BEGIN:VEVENT
DTSTART;TZID=America/New_York:20230412T180000
DTEND;TZID=America/New_York:20230412T210000
DTSTAMP:20260421T105615
CREATED:20230131T003225Z
LAST-MODIFIED:20250624T171339Z
UID:10006952-1681322400-1681333200@olddutchchurch.org
SUMMARY:Ubaka Hill Drum Circle
DESCRIPTION:
URL:https://olddutchchurch.org/event/ubaka-hill-drum-circle/2023-04-12/
END:VEVENT
BEGIN:VEVENT
DTSTART;TZID=America/New_York:20230413T183000
DTEND;TZID=America/New_York:20230413T193000
DTSTAMP:20260421T105615
CREATED:20230131T004310Z
LAST-MODIFIED:20230131T004310Z
UID:10009203-1681410600-1681414200@olddutchchurch.org
SUMMARY:ACA Book Group
DESCRIPTION:Meeting every other week
URL:https://olddutchchurch.org/event/aca-book-group/2023-04-13/
END:VEVENT
BEGIN:VEVENT
DTSTART;TZID=America/New_York:20230413T190000
DTEND;TZID=America/New_York:20230413T200000
DTSTAMP:20260421T105615
CREATED:20230131T003704Z
LAST-MODIFIED:20230131T003704Z
UID:10007905-1681412400-1681416000@olddutchchurch.org
SUMMARY:AA
DESCRIPTION:
URL:https://olddutchchurch.org/event/aa/2023-04-13/
END:VEVENT
BEGIN:VEVENT
DTSTART;TZID=America/New_York:20230415T210000
DTEND;TZID=America/New_York:20230415T220000
DTSTAMP:20260421T105615
CREATED:20230131T003843Z
LAST-MODIFIED:20230131T003843Z
UID:10008441-1681592400-1681596000@olddutchchurch.org
SUMMARY:AA Book Group
DESCRIPTION:
URL:https://olddutchchurch.org/event/aa-book-group/2023-04-15/
END:VEVENT
BEGIN:VEVENT
DTSTART;TZID=America/New_York:20230416T103000
DTEND;TZID=America/New_York:20230416T113000
DTSTAMP:20260421T105615
CREATED:20220621T145509Z
LAST-MODIFIED:20230131T010033Z
UID:10005315-1681641000-1681644600@olddutchchurch.org
SUMMARY:Sunday Worship
DESCRIPTION:Sunday worship in the Sanctuary
URL:https://olddutchchurch.org/event/sunday-worship/2023-04-16/
LOCATION:Old Dutch Church\, Wall Street\, Kingston\, 272 Wall Street\, Kingston\, NY\, 12401\, United States
END:VEVENT
BEGIN:VEVENT
DTSTART;TZID=America/New_York:20230416T113000
DTEND;TZID=America/New_York:20230416T123000
DTSTAMP:20260421T105615
CREATED:20220621T151126Z
LAST-MODIFIED:20230131T004016Z
UID:10005615-1681644600-1681648200@olddutchchurch.org
SUMMARY:ACA
DESCRIPTION:ACA in OMG
URL:https://olddutchchurch.org/event/aca/2023-04-16/
LOCATION:Old Dutch Church\, Wall Street\, Kingston\, 272 Wall Street\, Kingston\, NY\, 12401\, United States
END:VEVENT
BEGIN:VEVENT
DTSTART;TZID=America/New_York:20230416T180000
DTEND;TZID=America/New_York:20230416T203000
DTSTAMP:20260421T105615
CREATED:20220621T151545Z
LAST-MODIFIED:20230131T001910Z
UID:10005954-1681668000-1681677000@olddutchchurch.org
SUMMARY:ARS Choralis
DESCRIPTION:ARS Choralis in Bethany Hall
URL:https://olddutchchurch.org/event/ars-choralis/2023-04-16/
END:VEVENT
BEGIN:VEVENT
DTSTART;TZID=America/New_York:20230416T190000
DTEND;TZID=America/New_York:20230416T213000
DTSTAMP:20260421T105615
CREATED:20220621T152603Z
LAST-MODIFIED:20230131T005403Z
UID:10008173-1681671600-1681680600@olddutchchurch.org
SUMMARY:SLAA Women’s Group
DESCRIPTION:SLAA in OMG
URL:https://olddutchchurch.org/event/slaa-3/2023-04-16/
END:VEVENT
BEGIN:VEVENT
DTSTART;TZID=America/New_York:20230417T170000
DTEND;TZID=America/New_York:20230417T180000
DTSTAMP:20260421T105615
CREATED:20230131T005556Z
LAST-MODIFIED:20230131T005556Z
UID:10009738-1681750800-1681754400@olddutchchurch.org
SUMMARY:SLAA Augustine Fellowship
DESCRIPTION:
URL:https://olddutchchurch.org/event/slaa-augustine-fellowship/2023-04-17/
END:VEVENT
BEGIN:VEVENT
DTSTART;TZID=America/New_York:20230417T190000
DTEND;TZID=America/New_York:20230417T200000
DTSTAMP:20260421T105615
CREATED:20230131T004717Z
LAST-MODIFIED:20230131T004717Z
UID:10009471-1681758000-1681761600@olddutchchurch.org
SUMMARY:Debtors’ Anonymous
DESCRIPTION:
URL:https://olddutchchurch.org/event/debtors-anonymous/2023-04-17/
END:VEVENT
BEGIN:VEVENT
DTSTART;TZID=America/New_York:20230419T130000
DTEND;TZID=America/New_York:20230419T140000
DTSTAMP:20260421T105615
CREATED:20220621T152107Z
LAST-MODIFIED:20250624T163908Z
UID:10007253-1681909200-1681912800@olddutchchurch.org
SUMMARY:Community Chorus (on hiatus until Fall)
DESCRIPTION:Community Chorus in Bethany Hall
URL:https://olddutchchurch.org/event/community-chorus/2023-04-19/
END:VEVENT
BEGIN:VEVENT
DTSTART;TZID=America/New_York:20230419T180000
DTEND;TZID=America/New_York:20230419T210000
DTSTAMP:20260421T105615
CREATED:20230131T003225Z
LAST-MODIFIED:20250624T171339Z
UID:10006953-1681927200-1681938000@olddutchchurch.org
SUMMARY:Ubaka Hill Drum Circle
DESCRIPTION:
URL:https://olddutchchurch.org/event/ubaka-hill-drum-circle/2023-04-19/
END:VEVENT
BEGIN:VEVENT
DTSTART;TZID=America/New_York:20230420T183000
DTEND;TZID=America/New_York:20230420T193000
DTSTAMP:20260421T105615
CREATED:20230131T004310Z
LAST-MODIFIED:20230131T004310Z
UID:10009204-1682015400-1682019000@olddutchchurch.org
SUMMARY:ACA Book Group
DESCRIPTION:Meeting every other week
URL:https://olddutchchurch.org/event/aca-book-group/2023-04-20/
END:VEVENT
BEGIN:VEVENT
DTSTART;TZID=America/New_York:20230420T190000
DTEND;TZID=America/New_York:20230420T200000
DTSTAMP:20260421T105615
CREATED:20230131T003704Z
LAST-MODIFIED:20230131T003704Z
UID:10007906-1682017200-1682020800@olddutchchurch.org
SUMMARY:AA
DESCRIPTION:
URL:https://olddutchchurch.org/event/aa/2023-04-20/
END:VEVENT
BEGIN:VEVENT
DTSTART;TZID=America/New_York:20230422T210000
DTEND;TZID=America/New_York:20230422T220000
DTSTAMP:20260421T105615
CREATED:20230131T003843Z
LAST-MODIFIED:20230131T003843Z
UID:10008442-1682197200-1682200800@olddutchchurch.org
SUMMARY:AA Book Group
DESCRIPTION:
URL:https://olddutchchurch.org/event/aa-book-group/2023-04-22/
END:VEVENT
BEGIN:VEVENT
DTSTART;TZID=America/New_York:20230423T103000
DTEND;TZID=America/New_York:20230423T113000
DTSTAMP:20260421T105615
CREATED:20220621T145509Z
LAST-MODIFIED:20230131T010033Z
UID:10005316-1682245800-1682249400@olddutchchurch.org
SUMMARY:Sunday Worship
DESCRIPTION:Sunday worship in the Sanctuary
URL:https://olddutchchurch.org/event/sunday-worship/2023-04-23/
LOCATION:Old Dutch Church\, Wall Street\, Kingston\, 272 Wall Street\, Kingston\, NY\, 12401\, United States
END:VEVENT
BEGIN:VEVENT
DTSTART;TZID=America/New_York:20230423T113000
DTEND;TZID=America/New_York:20230423T123000
DTSTAMP:20260421T105615
CREATED:20220621T151126Z
LAST-MODIFIED:20230131T004016Z
UID:10005616-1682249400-1682253000@olddutchchurch.org
SUMMARY:ACA
DESCRIPTION:ACA in OMG
URL:https://olddutchchurch.org/event/aca/2023-04-23/
LOCATION:Old Dutch Church\, Wall Street\, Kingston\, 272 Wall Street\, Kingston\, NY\, 12401\, United States
END:VEVENT
BEGIN:VEVENT
DTSTART;TZID=America/New_York:20230423T180000
DTEND;TZID=America/New_York:20230423T203000
DTSTAMP:20260421T105615
CREATED:20220621T151545Z
LAST-MODIFIED:20230131T001910Z
UID:10005955-1682272800-1682281800@olddutchchurch.org
SUMMARY:ARS Choralis
DESCRIPTION:ARS Choralis in Bethany Hall
URL:https://olddutchchurch.org/event/ars-choralis/2023-04-23/
END:VEVENT
BEGIN:VEVENT
DTSTART;TZID=America/New_York:20230423T190000
DTEND;TZID=America/New_York:20230423T213000
DTSTAMP:20260421T105615
CREATED:20220621T152603Z
LAST-MODIFIED:20230131T005403Z
UID:10008174-1682276400-1682285400@olddutchchurch.org
SUMMARY:SLAA Women’s Group
DESCRIPTION:SLAA in OMG
URL:https://olddutchchurch.org/event/slaa-3/2023-04-23/
END:VEVENT
BEGIN:VEVENT
DTSTART;TZID=America/New_York:20230424T170000
DTEND;TZID=America/New_York:20230424T180000
DTSTAMP:20260421T105615
CREATED:20230131T005556Z
LAST-MODIFIED:20230131T005556Z
UID:10009739-1682355600-1682359200@olddutchchurch.org
SUMMARY:SLAA Augustine Fellowship
DESCRIPTION:
URL:https://olddutchchurch.org/event/slaa-augustine-fellowship/2023-04-24/
END:VEVENT
BEGIN:VEVENT
DTSTART;TZID=America/New_York:20230424T190000
DTEND;TZID=America/New_York:20230424T200000
DTSTAMP:20260421T105615
CREATED:20230131T004717Z
LAST-MODIFIED:20230131T004717Z
UID:10009472-1682362800-1682366400@olddutchchurch.org
SUMMARY:Debtors’ Anonymous
DESCRIPTION:
URL:https://olddutchchurch.org/event/debtors-anonymous/2023-04-24/
END:VEVENT
BEGIN:VEVENT
DTSTART;TZID=America/New_York:20230426T130000
DTEND;TZID=America/New_York:20230426T140000
DTSTAMP:20260421T105615
CREATED:20220621T152107Z
LAST-MODIFIED:20250624T163908Z
UID:10007254-1682514000-1682517600@olddutchchurch.org
SUMMARY:Community Chorus (on hiatus until Fall)
DESCRIPTION:Community Chorus in Bethany Hall
URL:https://olddutchchurch.org/event/community-chorus/2023-04-26/
END:VEVENT
BEGIN:VEVENT
DTSTART;TZID=America/New_York:20230426T180000
DTEND;TZID=America/New_York:20230426T210000
DTSTAMP:20260421T105615
CREATED:20230131T003225Z
LAST-MODIFIED:20250624T171339Z
UID:10006954-1682532000-1682542800@olddutchchurch.org
SUMMARY:Ubaka Hill Drum Circle
DESCRIPTION:
URL:https://olddutchchurch.org/event/ubaka-hill-drum-circle/2023-04-26/
END:VEVENT
BEGIN:VEVENT
DTSTART;TZID=America/New_York:20230427T183000
DTEND;TZID=America/New_York:20230427T193000
DTSTAMP:20260421T105615
CREATED:20230131T004310Z
LAST-MODIFIED:20230131T004310Z
UID:10009205-1682620200-1682623800@olddutchchurch.org
SUMMARY:ACA Book Group
DESCRIPTION:Meeting every other week
URL:https://olddutchchurch.org/event/aca-book-group/2023-04-27/
END:VEVENT
BEGIN:VEVENT
DTSTART;TZID=America/New_York:20230427T190000
DTEND;TZID=America/New_York:20230427T200000
DTSTAMP:20260421T105615
CREATED:20230131T003704Z
LAST-MODIFIED:20230131T003704Z
UID:10007907-1682622000-1682625600@olddutchchurch.org
SUMMARY:AA
DESCRIPTION:
URL:https://olddutchchurch.org/event/aa/2023-04-27/
END:VEVENT
BEGIN:VEVENT
DTSTART;TZID=America/New_York:20230429T210000
DTEND;TZID=America/New_York:20230429T220000
DTSTAMP:20260421T105615
CREATED:20230131T003843Z
LAST-MODIFIED:20230131T003843Z
UID:10008443-1682802000-1682805600@olddutchchurch.org
SUMMARY:AA Book Group
DESCRIPTION:
URL:https://olddutchchurch.org/event/aa-book-group/2023-04-29/
END:VEVENT
BEGIN:VEVENT
DTSTART;TZID=America/New_York:20230430T103000
DTEND;TZID=America/New_York:20230430T113000
DTSTAMP:20260421T105615
CREATED:20220621T145509Z
LAST-MODIFIED:20230131T010033Z
UID:10005317-1682850600-1682854200@olddutchchurch.org
SUMMARY:Sunday Worship
DESCRIPTION:Sunday worship in the Sanctuary
URL:https://olddutchchurch.org/event/sunday-worship/2023-04-30/
LOCATION:Old Dutch Church\, Wall Street\, Kingston\, 272 Wall Street\, Kingston\, NY\, 12401\, United States
END:VEVENT
BEGIN:VEVENT
DTSTART;TZID=America/New_York:20230430T113000
DTEND;TZID=America/New_York:20230430T123000
DTSTAMP:20260421T105615
CREATED:20220621T151126Z
LAST-MODIFIED:20230131T004016Z
UID:10005617-1682854200-1682857800@olddutchchurch.org
SUMMARY:ACA
DESCRIPTION:ACA in OMG
URL:https://olddutchchurch.org/event/aca/2023-04-30/
LOCATION:Old Dutch Church\, Wall Street\, Kingston\, 272 Wall Street\, Kingston\, NY\, 12401\, United States
END:VEVENT
BEGIN:VEVENT
DTSTART;TZID=America/New_York:20230430T180000
DTEND;TZID=America/New_York:20230430T203000
DTSTAMP:20260421T105615
CREATED:20220621T151545Z
LAST-MODIFIED:20230131T001910Z
UID:10005956-1682877600-1682886600@olddutchchurch.org
SUMMARY:ARS Choralis
DESCRIPTION:ARS Choralis in Bethany Hall
URL:https://olddutchchurch.org/event/ars-choralis/2023-04-30/
END:VEVENT
BEGIN:VEVENT
DTSTART;TZID=America/New_York:20230430T190000
DTEND;TZID=America/New_York:20230430T213000
DTSTAMP:20260421T105615
CREATED:20220621T152603Z
LAST-MODIFIED:20230131T005403Z
UID:10008175-1682881200-1682890200@olddutchchurch.org
SUMMARY:SLAA Women’s Group
DESCRIPTION:SLAA in OMG
URL:https://olddutchchurch.org/event/slaa-3/2023-04-30/
END:VEVENT
END:VCALENDAR