BEGIN:VCALENDAR
VERSION:2.0
PRODID:-//Old Dutch Church - ECPv6.15.20//NONSGML v1.0//EN
CALSCALE:GREGORIAN
METHOD:PUBLISH
X-ORIGINAL-URL:https://olddutchchurch.org
X-WR-CALDESC:Events for Old Dutch Church
REFRESH-INTERVAL;VALUE=DURATION:PT1H
X-Robots-Tag:noindex
X-PUBLISHED-TTL:PT1H
BEGIN:VTIMEZONE
TZID:America/New_York
BEGIN:DAYLIGHT
TZOFFSETFROM:-0500
TZOFFSETTO:-0400
TZNAME:EDT
DTSTART:20260308T070000
END:DAYLIGHT
BEGIN:STANDARD
TZOFFSETFROM:-0400
TZOFFSETTO:-0500
TZNAME:EST
DTSTART:20261101T060000
END:STANDARD
BEGIN:DAYLIGHT
TZOFFSETFROM:-0500
TZOFFSETTO:-0400
TZNAME:EDT
DTSTART:20270314T070000
END:DAYLIGHT
BEGIN:STANDARD
TZOFFSETFROM:-0400
TZOFFSETTO:-0500
TZNAME:EST
DTSTART:20271107T060000
END:STANDARD
BEGIN:DAYLIGHT
TZOFFSETFROM:-0500
TZOFFSETTO:-0400
TZNAME:EDT
DTSTART:20280312T070000
END:DAYLIGHT
BEGIN:STANDARD
TZOFFSETFROM:-0400
TZOFFSETTO:-0500
TZNAME:EST
DTSTART:20281105T060000
END:STANDARD
END:VTIMEZONE
BEGIN:VEVENT
DTSTART;TZID=America/New_York:20270901T120000
DTEND;TZID=America/New_York:20270901T130000
DTSTAMP:20260419T191704
CREATED:20250625T194104Z
LAST-MODIFIED:20250625T194104Z
UID:10011792-1819800000-1819803600@olddutchchurch.org
SUMMARY:ACA
DESCRIPTION:
URL:https://olddutchchurch.org/event/aca-2/2027-09-01/
END:VEVENT
BEGIN:VEVENT
DTSTART;TZID=America/New_York:20270901T130000
DTEND;TZID=America/New_York:20270901T140000
DTSTAMP:20260419T191704
CREATED:20220621T152107Z
LAST-MODIFIED:20250624T163908Z
UID:10007481-1819803600-1819807200@olddutchchurch.org
SUMMARY:Community Chorus (on hiatus until Fall)
DESCRIPTION:Community Chorus in Bethany Hall
URL:https://olddutchchurch.org/event/community-chorus/2027-09-01/
END:VEVENT
BEGIN:VEVENT
DTSTART;TZID=America/New_York:20270901T180000
DTEND;TZID=America/New_York:20270901T210000
DTSTAMP:20260419T191704
CREATED:20230131T003225Z
LAST-MODIFIED:20250624T171339Z
UID:10007181-1819821600-1819832400@olddutchchurch.org
SUMMARY:Ubaka Hill Drum Circle
DESCRIPTION:
URL:https://olddutchchurch.org/event/ubaka-hill-drum-circle/2027-09-01/
END:VEVENT
BEGIN:VEVENT
DTSTART;TZID=America/New_York:20270902T183000
DTEND;TZID=America/New_York:20270902T193000
DTSTAMP:20260419T191704
CREATED:20230131T004310Z
LAST-MODIFIED:20230131T004310Z
UID:10009432-1819909800-1819913400@olddutchchurch.org
SUMMARY:ACA Book Group
DESCRIPTION:Meeting every other week
URL:https://olddutchchurch.org/event/aca-book-group/2027-09-02/
END:VEVENT
BEGIN:VEVENT
DTSTART;TZID=America/New_York:20270902T190000
DTEND;TZID=America/New_York:20270902T200000
DTSTAMP:20260419T191704
CREATED:20230131T003704Z
LAST-MODIFIED:20230131T003704Z
UID:10008134-1819911600-1819915200@olddutchchurch.org
SUMMARY:AA
DESCRIPTION:
URL:https://olddutchchurch.org/event/aa/2027-09-02/
END:VEVENT
BEGIN:VEVENT
DTSTART;TZID=America/New_York:20270904T210000
DTEND;TZID=America/New_York:20270904T220000
DTSTAMP:20260419T191704
CREATED:20230131T003843Z
LAST-MODIFIED:20230131T003843Z
UID:10008670-1820091600-1820095200@olddutchchurch.org
SUMMARY:AA Book Group
DESCRIPTION:
URL:https://olddutchchurch.org/event/aa-book-group/2027-09-04/
END:VEVENT
BEGIN:VEVENT
DTSTART;TZID=America/New_York:20270905T103000
DTEND;TZID=America/New_York:20270905T113000
DTSTAMP:20260419T191704
CREATED:20220621T145509Z
LAST-MODIFIED:20230131T010033Z
UID:10005544-1820140200-1820143800@olddutchchurch.org
SUMMARY:Sunday Worship
DESCRIPTION:Sunday worship in the Sanctuary
URL:https://olddutchchurch.org/event/sunday-worship/2027-09-05/
LOCATION:Old Dutch Church\, Wall Street\, Kingston\, 272 Wall Street\, Kingston\, NY\, 12401\, United States
END:VEVENT
BEGIN:VEVENT
DTSTART;TZID=America/New_York:20270905T113000
DTEND;TZID=America/New_York:20270905T123000
DTSTAMP:20260419T191704
CREATED:20220621T151126Z
LAST-MODIFIED:20230131T004016Z
UID:10005844-1820143800-1820147400@olddutchchurch.org
SUMMARY:ACA
DESCRIPTION:ACA in OMG
URL:https://olddutchchurch.org/event/aca/2027-09-05/
LOCATION:Old Dutch Church\, Wall Street\, Kingston\, 272 Wall Street\, Kingston\, NY\, 12401\, United States
END:VEVENT
BEGIN:VEVENT
DTSTART;TZID=America/New_York:20270905T190000
DTEND;TZID=America/New_York:20270905T213000
DTSTAMP:20260419T191704
CREATED:20220621T152603Z
LAST-MODIFIED:20230131T005403Z
UID:10008402-1820170800-1820179800@olddutchchurch.org
SUMMARY:SLAA Women’s Group
DESCRIPTION:SLAA in OMG
URL:https://olddutchchurch.org/event/slaa-3/2027-09-05/
END:VEVENT
BEGIN:VEVENT
DTSTART;TZID=America/New_York:20270906T170000
DTEND;TZID=America/New_York:20270906T180000
DTSTAMP:20260419T191704
CREATED:20230131T005556Z
LAST-MODIFIED:20230131T005556Z
UID:10009967-1820250000-1820253600@olddutchchurch.org
SUMMARY:SLAA Augustine Fellowship
DESCRIPTION:
URL:https://olddutchchurch.org/event/slaa-augustine-fellowship/2027-09-06/
END:VEVENT
BEGIN:VEVENT
DTSTART;TZID=America/New_York:20270906T183000
DTEND;TZID=America/New_York:20270906T210000
DTSTAMP:20260419T191704
CREATED:20250624T172435Z
LAST-MODIFIED:20250624T172436Z
UID:10006347-1820255400-1820264400@olddutchchurch.org
SUMMARY:Mendelssohn Club
DESCRIPTION:
URL:https://olddutchchurch.org/event/mendelssohn-club-2-2/2027-09-06/
END:VEVENT
BEGIN:VEVENT
DTSTART;TZID=America/New_York:20270906T190000
DTEND;TZID=America/New_York:20270906T200000
DTSTAMP:20260419T191705
CREATED:20230131T004717Z
LAST-MODIFIED:20230131T004717Z
UID:10009700-1820257200-1820260800@olddutchchurch.org
SUMMARY:Debtors’ Anonymous
DESCRIPTION:
URL:https://olddutchchurch.org/event/debtors-anonymous/2027-09-06/
END:VEVENT
BEGIN:VEVENT
DTSTART;TZID=America/New_York:20270908T120000
DTEND;TZID=America/New_York:20270908T130000
DTSTAMP:20260419T191705
CREATED:20250625T194104Z
LAST-MODIFIED:20250625T194104Z
UID:10011793-1820404800-1820408400@olddutchchurch.org
SUMMARY:ACA
DESCRIPTION:
URL:https://olddutchchurch.org/event/aca-2/2027-09-08/
END:VEVENT
BEGIN:VEVENT
DTSTART;TZID=America/New_York:20270908T130000
DTEND;TZID=America/New_York:20270908T140000
DTSTAMP:20260419T191705
CREATED:20220621T152107Z
LAST-MODIFIED:20250624T163908Z
UID:10007482-1820408400-1820412000@olddutchchurch.org
SUMMARY:Community Chorus (on hiatus until Fall)
DESCRIPTION:Community Chorus in Bethany Hall
URL:https://olddutchchurch.org/event/community-chorus/2027-09-08/
END:VEVENT
BEGIN:VEVENT
DTSTART;TZID=America/New_York:20270908T180000
DTEND;TZID=America/New_York:20270908T210000
DTSTAMP:20260419T191705
CREATED:20230131T003225Z
LAST-MODIFIED:20250624T171339Z
UID:10007182-1820426400-1820437200@olddutchchurch.org
SUMMARY:Ubaka Hill Drum Circle
DESCRIPTION:
URL:https://olddutchchurch.org/event/ubaka-hill-drum-circle/2027-09-08/
END:VEVENT
BEGIN:VEVENT
DTSTART;TZID=America/New_York:20270909T183000
DTEND;TZID=America/New_York:20270909T193000
DTSTAMP:20260419T191705
CREATED:20230131T004310Z
LAST-MODIFIED:20230131T004310Z
UID:10009433-1820514600-1820518200@olddutchchurch.org
SUMMARY:ACA Book Group
DESCRIPTION:Meeting every other week
URL:https://olddutchchurch.org/event/aca-book-group/2027-09-09/
END:VEVENT
BEGIN:VEVENT
DTSTART;TZID=America/New_York:20270909T190000
DTEND;TZID=America/New_York:20270909T200000
DTSTAMP:20260419T191705
CREATED:20230131T003704Z
LAST-MODIFIED:20230131T003704Z
UID:10008135-1820516400-1820520000@olddutchchurch.org
SUMMARY:AA
DESCRIPTION:
URL:https://olddutchchurch.org/event/aa/2027-09-09/
END:VEVENT
BEGIN:VEVENT
DTSTART;TZID=America/New_York:20270911T210000
DTEND;TZID=America/New_York:20270911T220000
DTSTAMP:20260419T191705
CREATED:20230131T003843Z
LAST-MODIFIED:20230131T003843Z
UID:10008671-1820696400-1820700000@olddutchchurch.org
SUMMARY:AA Book Group
DESCRIPTION:
URL:https://olddutchchurch.org/event/aa-book-group/2027-09-11/
END:VEVENT
BEGIN:VEVENT
DTSTART;TZID=America/New_York:20270912T103000
DTEND;TZID=America/New_York:20270912T113000
DTSTAMP:20260419T191705
CREATED:20220621T145509Z
LAST-MODIFIED:20230131T010033Z
UID:10005545-1820745000-1820748600@olddutchchurch.org
SUMMARY:Sunday Worship
DESCRIPTION:Sunday worship in the Sanctuary
URL:https://olddutchchurch.org/event/sunday-worship/2027-09-12/
LOCATION:Old Dutch Church\, Wall Street\, Kingston\, 272 Wall Street\, Kingston\, NY\, 12401\, United States
END:VEVENT
BEGIN:VEVENT
DTSTART;TZID=America/New_York:20270912T113000
DTEND;TZID=America/New_York:20270912T123000
DTSTAMP:20260419T191705
CREATED:20220621T151126Z
LAST-MODIFIED:20230131T004016Z
UID:10005845-1820748600-1820752200@olddutchchurch.org
SUMMARY:ACA
DESCRIPTION:ACA in OMG
URL:https://olddutchchurch.org/event/aca/2027-09-12/
LOCATION:Old Dutch Church\, Wall Street\, Kingston\, 272 Wall Street\, Kingston\, NY\, 12401\, United States
END:VEVENT
BEGIN:VEVENT
DTSTART;TZID=America/New_York:20270912T190000
DTEND;TZID=America/New_York:20270912T213000
DTSTAMP:20260419T191705
CREATED:20220621T152603Z
LAST-MODIFIED:20230131T005403Z
UID:10008403-1820775600-1820784600@olddutchchurch.org
SUMMARY:SLAA Women’s Group
DESCRIPTION:SLAA in OMG
URL:https://olddutchchurch.org/event/slaa-3/2027-09-12/
END:VEVENT
BEGIN:VEVENT
DTSTART;TZID=America/New_York:20270913T170000
DTEND;TZID=America/New_York:20270913T180000
DTSTAMP:20260419T191705
CREATED:20230131T005556Z
LAST-MODIFIED:20230131T005556Z
UID:10009968-1820854800-1820858400@olddutchchurch.org
SUMMARY:SLAA Augustine Fellowship
DESCRIPTION:
URL:https://olddutchchurch.org/event/slaa-augustine-fellowship/2027-09-13/
END:VEVENT
BEGIN:VEVENT
DTSTART;TZID=America/New_York:20270913T183000
DTEND;TZID=America/New_York:20270913T210000
DTSTAMP:20260419T191705
CREATED:20250624T172435Z
LAST-MODIFIED:20250624T172436Z
UID:10006348-1820860200-1820869200@olddutchchurch.org
SUMMARY:Mendelssohn Club
DESCRIPTION:
URL:https://olddutchchurch.org/event/mendelssohn-club-2-2/2027-09-13/
END:VEVENT
BEGIN:VEVENT
DTSTART;TZID=America/New_York:20270913T190000
DTEND;TZID=America/New_York:20270913T200000
DTSTAMP:20260419T191705
CREATED:20230131T004717Z
LAST-MODIFIED:20230131T004717Z
UID:10009701-1820862000-1820865600@olddutchchurch.org
SUMMARY:Debtors’ Anonymous
DESCRIPTION:
URL:https://olddutchchurch.org/event/debtors-anonymous/2027-09-13/
END:VEVENT
BEGIN:VEVENT
DTSTART;TZID=America/New_York:20270915T120000
DTEND;TZID=America/New_York:20270915T130000
DTSTAMP:20260419T191705
CREATED:20250625T194104Z
LAST-MODIFIED:20250625T194104Z
UID:10011794-1821009600-1821013200@olddutchchurch.org
SUMMARY:ACA
DESCRIPTION:
URL:https://olddutchchurch.org/event/aca-2/2027-09-15/
END:VEVENT
BEGIN:VEVENT
DTSTART;TZID=America/New_York:20270915T130000
DTEND;TZID=America/New_York:20270915T140000
DTSTAMP:20260419T191705
CREATED:20220621T152107Z
LAST-MODIFIED:20250624T163908Z
UID:10007483-1821013200-1821016800@olddutchchurch.org
SUMMARY:Community Chorus (on hiatus until Fall)
DESCRIPTION:Community Chorus in Bethany Hall
URL:https://olddutchchurch.org/event/community-chorus/2027-09-15/
END:VEVENT
BEGIN:VEVENT
DTSTART;TZID=America/New_York:20270915T180000
DTEND;TZID=America/New_York:20270915T210000
DTSTAMP:20260419T191705
CREATED:20230131T003225Z
LAST-MODIFIED:20250624T171339Z
UID:10007183-1821031200-1821042000@olddutchchurch.org
SUMMARY:Ubaka Hill Drum Circle
DESCRIPTION:
URL:https://olddutchchurch.org/event/ubaka-hill-drum-circle/2027-09-15/
END:VEVENT
BEGIN:VEVENT
DTSTART;TZID=America/New_York:20270916T183000
DTEND;TZID=America/New_York:20270916T193000
DTSTAMP:20260419T191705
CREATED:20230131T004310Z
LAST-MODIFIED:20230131T004310Z
UID:10009434-1821119400-1821123000@olddutchchurch.org
SUMMARY:ACA Book Group
DESCRIPTION:Meeting every other week
URL:https://olddutchchurch.org/event/aca-book-group/2027-09-16/
END:VEVENT
BEGIN:VEVENT
DTSTART;TZID=America/New_York:20270916T190000
DTEND;TZID=America/New_York:20270916T200000
DTSTAMP:20260419T191705
CREATED:20230131T003704Z
LAST-MODIFIED:20230131T003704Z
UID:10008136-1821121200-1821124800@olddutchchurch.org
SUMMARY:AA
DESCRIPTION:
URL:https://olddutchchurch.org/event/aa/2027-09-16/
END:VEVENT
BEGIN:VEVENT
DTSTART;TZID=America/New_York:20270918T210000
DTEND;TZID=America/New_York:20270918T220000
DTSTAMP:20260419T191705
CREATED:20230131T003843Z
LAST-MODIFIED:20230131T003843Z
UID:10008672-1821301200-1821304800@olddutchchurch.org
SUMMARY:AA Book Group
DESCRIPTION:
URL:https://olddutchchurch.org/event/aa-book-group/2027-09-18/
END:VEVENT
END:VCALENDAR