BEGIN:VCALENDAR
VERSION:2.0
PRODID:-//Old Dutch Church - ECPv6.15.20//NONSGML v1.0//EN
CALSCALE:GREGORIAN
METHOD:PUBLISH
X-ORIGINAL-URL:https://olddutchchurch.org
X-WR-CALDESC:Events for Old Dutch Church
REFRESH-INTERVAL;VALUE=DURATION:PT1H
X-Robots-Tag:noindex
X-PUBLISHED-TTL:PT1H
BEGIN:VTIMEZONE
TZID:America/New_York
BEGIN:DAYLIGHT
TZOFFSETFROM:-0500
TZOFFSETTO:-0400
TZNAME:EDT
DTSTART:20260308T070000
END:DAYLIGHT
BEGIN:STANDARD
TZOFFSETFROM:-0400
TZOFFSETTO:-0500
TZNAME:EST
DTSTART:20261101T060000
END:STANDARD
BEGIN:DAYLIGHT
TZOFFSETFROM:-0500
TZOFFSETTO:-0400
TZNAME:EDT
DTSTART:20270314T070000
END:DAYLIGHT
BEGIN:STANDARD
TZOFFSETFROM:-0400
TZOFFSETTO:-0500
TZNAME:EST
DTSTART:20271107T060000
END:STANDARD
BEGIN:DAYLIGHT
TZOFFSETFROM:-0500
TZOFFSETTO:-0400
TZNAME:EDT
DTSTART:20280312T070000
END:DAYLIGHT
BEGIN:STANDARD
TZOFFSETFROM:-0400
TZOFFSETTO:-0500
TZNAME:EST
DTSTART:20281105T060000
END:STANDARD
END:VTIMEZONE
BEGIN:VEVENT
DTSTART;TZID=America/New_York:20271009T210000
DTEND;TZID=America/New_York:20271009T220000
DTSTAMP:20260419T210635
CREATED:20230131T003843Z
LAST-MODIFIED:20230131T003843Z
UID:10008675-1823115600-1823119200@olddutchchurch.org
SUMMARY:AA Book Group
DESCRIPTION:
URL:https://olddutchchurch.org/event/aa-book-group/2027-10-09/
END:VEVENT
BEGIN:VEVENT
DTSTART;TZID=America/New_York:20271010T103000
DTEND;TZID=America/New_York:20271010T113000
DTSTAMP:20260419T210635
CREATED:20220621T145509Z
LAST-MODIFIED:20230131T010033Z
UID:10005549-1823164200-1823167800@olddutchchurch.org
SUMMARY:Sunday Worship
DESCRIPTION:Sunday worship in the Sanctuary
URL:https://olddutchchurch.org/event/sunday-worship/2027-10-10/
LOCATION:Old Dutch Church\, Wall Street\, Kingston\, 272 Wall Street\, Kingston\, NY\, 12401\, United States
END:VEVENT
BEGIN:VEVENT
DTSTART;TZID=America/New_York:20271010T113000
DTEND;TZID=America/New_York:20271010T123000
DTSTAMP:20260419T210635
CREATED:20220621T151126Z
LAST-MODIFIED:20230131T004016Z
UID:10005849-1823167800-1823171400@olddutchchurch.org
SUMMARY:ACA
DESCRIPTION:ACA in OMG
URL:https://olddutchchurch.org/event/aca/2027-10-10/
LOCATION:Old Dutch Church\, Wall Street\, Kingston\, 272 Wall Street\, Kingston\, NY\, 12401\, United States
END:VEVENT
BEGIN:VEVENT
DTSTART;TZID=America/New_York:20271010T190000
DTEND;TZID=America/New_York:20271010T213000
DTSTAMP:20260419T210635
CREATED:20220621T152603Z
LAST-MODIFIED:20230131T005403Z
UID:10008407-1823194800-1823203800@olddutchchurch.org
SUMMARY:SLAA Women’s Group
DESCRIPTION:SLAA in OMG
URL:https://olddutchchurch.org/event/slaa-3/2027-10-10/
END:VEVENT
BEGIN:VEVENT
DTSTART;TZID=America/New_York:20271011T170000
DTEND;TZID=America/New_York:20271011T180000
DTSTAMP:20260419T210635
CREATED:20230131T005556Z
LAST-MODIFIED:20230131T005556Z
UID:10009972-1823274000-1823277600@olddutchchurch.org
SUMMARY:SLAA Augustine Fellowship
DESCRIPTION:
URL:https://olddutchchurch.org/event/slaa-augustine-fellowship/2027-10-11/
END:VEVENT
BEGIN:VEVENT
DTSTART;TZID=America/New_York:20271011T183000
DTEND;TZID=America/New_York:20271011T210000
DTSTAMP:20260419T210635
CREATED:20250624T172435Z
LAST-MODIFIED:20250624T172436Z
UID:10006352-1823279400-1823288400@olddutchchurch.org
SUMMARY:Mendelssohn Club
DESCRIPTION:
URL:https://olddutchchurch.org/event/mendelssohn-club-2-2/2027-10-11/
END:VEVENT
BEGIN:VEVENT
DTSTART;TZID=America/New_York:20271011T190000
DTEND;TZID=America/New_York:20271011T200000
DTSTAMP:20260419T210635
CREATED:20230131T004717Z
LAST-MODIFIED:20230131T004717Z
UID:10009705-1823281200-1823284800@olddutchchurch.org
SUMMARY:Debtors’ Anonymous
DESCRIPTION:
URL:https://olddutchchurch.org/event/debtors-anonymous/2027-10-11/
END:VEVENT
BEGIN:VEVENT
DTSTART;TZID=America/New_York:20271013T120000
DTEND;TZID=America/New_York:20271013T130000
DTSTAMP:20260419T210635
CREATED:20250625T194104Z
LAST-MODIFIED:20250625T194104Z
UID:10011798-1823428800-1823432400@olddutchchurch.org
SUMMARY:ACA
DESCRIPTION:
URL:https://olddutchchurch.org/event/aca-2/2027-10-13/
END:VEVENT
BEGIN:VEVENT
DTSTART;TZID=America/New_York:20271013T130000
DTEND;TZID=America/New_York:20271013T140000
DTSTAMP:20260419T210635
CREATED:20220621T152107Z
LAST-MODIFIED:20250624T163908Z
UID:10007487-1823432400-1823436000@olddutchchurch.org
SUMMARY:Community Chorus (on hiatus until Fall)
DESCRIPTION:Community Chorus in Bethany Hall
URL:https://olddutchchurch.org/event/community-chorus/2027-10-13/
END:VEVENT
BEGIN:VEVENT
DTSTART;TZID=America/New_York:20271013T180000
DTEND;TZID=America/New_York:20271013T210000
DTSTAMP:20260419T210635
CREATED:20230131T003225Z
LAST-MODIFIED:20250624T171339Z
UID:10007187-1823450400-1823461200@olddutchchurch.org
SUMMARY:Ubaka Hill Drum Circle
DESCRIPTION:
URL:https://olddutchchurch.org/event/ubaka-hill-drum-circle/2027-10-13/
END:VEVENT
BEGIN:VEVENT
DTSTART;TZID=America/New_York:20271014T183000
DTEND;TZID=America/New_York:20271014T193000
DTSTAMP:20260419T210635
CREATED:20230131T004310Z
LAST-MODIFIED:20230131T004310Z
UID:10009438-1823538600-1823542200@olddutchchurch.org
SUMMARY:ACA Book Group
DESCRIPTION:Meeting every other week
URL:https://olddutchchurch.org/event/aca-book-group/2027-10-14/
END:VEVENT
BEGIN:VEVENT
DTSTART;TZID=America/New_York:20271014T190000
DTEND;TZID=America/New_York:20271014T200000
DTSTAMP:20260419T210635
CREATED:20230131T003704Z
LAST-MODIFIED:20230131T003704Z
UID:10008140-1823540400-1823544000@olddutchchurch.org
SUMMARY:AA
DESCRIPTION:
URL:https://olddutchchurch.org/event/aa/2027-10-14/
END:VEVENT
BEGIN:VEVENT
DTSTART;TZID=America/New_York:20271016T210000
DTEND;TZID=America/New_York:20271016T220000
DTSTAMP:20260419T210635
CREATED:20230131T003843Z
LAST-MODIFIED:20230131T003843Z
UID:10008676-1823720400-1823724000@olddutchchurch.org
SUMMARY:AA Book Group
DESCRIPTION:
URL:https://olddutchchurch.org/event/aa-book-group/2027-10-16/
END:VEVENT
BEGIN:VEVENT
DTSTART;TZID=America/New_York:20271017T103000
DTEND;TZID=America/New_York:20271017T113000
DTSTAMP:20260419T210635
CREATED:20220621T145509Z
LAST-MODIFIED:20230131T010033Z
UID:10005550-1823769000-1823772600@olddutchchurch.org
SUMMARY:Sunday Worship
DESCRIPTION:Sunday worship in the Sanctuary
URL:https://olddutchchurch.org/event/sunday-worship/2027-10-17/
LOCATION:Old Dutch Church\, Wall Street\, Kingston\, 272 Wall Street\, Kingston\, NY\, 12401\, United States
END:VEVENT
BEGIN:VEVENT
DTSTART;TZID=America/New_York:20271017T113000
DTEND;TZID=America/New_York:20271017T123000
DTSTAMP:20260419T210635
CREATED:20220621T151126Z
LAST-MODIFIED:20230131T004016Z
UID:10005850-1823772600-1823776200@olddutchchurch.org
SUMMARY:ACA
DESCRIPTION:ACA in OMG
URL:https://olddutchchurch.org/event/aca/2027-10-17/
LOCATION:Old Dutch Church\, Wall Street\, Kingston\, 272 Wall Street\, Kingston\, NY\, 12401\, United States
END:VEVENT
BEGIN:VEVENT
DTSTART;TZID=America/New_York:20271017T190000
DTEND;TZID=America/New_York:20271017T213000
DTSTAMP:20260419T210635
CREATED:20220621T152603Z
LAST-MODIFIED:20230131T005403Z
UID:10008408-1823799600-1823808600@olddutchchurch.org
SUMMARY:SLAA Women’s Group
DESCRIPTION:SLAA in OMG
URL:https://olddutchchurch.org/event/slaa-3/2027-10-17/
END:VEVENT
BEGIN:VEVENT
DTSTART;TZID=America/New_York:20271018T170000
DTEND;TZID=America/New_York:20271018T180000
DTSTAMP:20260419T210635
CREATED:20230131T005556Z
LAST-MODIFIED:20230131T005556Z
UID:10009973-1823878800-1823882400@olddutchchurch.org
SUMMARY:SLAA Augustine Fellowship
DESCRIPTION:
URL:https://olddutchchurch.org/event/slaa-augustine-fellowship/2027-10-18/
END:VEVENT
BEGIN:VEVENT
DTSTART;TZID=America/New_York:20271018T183000
DTEND;TZID=America/New_York:20271018T210000
DTSTAMP:20260419T210635
CREATED:20250624T172435Z
LAST-MODIFIED:20250624T172436Z
UID:10006353-1823884200-1823893200@olddutchchurch.org
SUMMARY:Mendelssohn Club
DESCRIPTION:
URL:https://olddutchchurch.org/event/mendelssohn-club-2-2/2027-10-18/
END:VEVENT
BEGIN:VEVENT
DTSTART;TZID=America/New_York:20271018T190000
DTEND;TZID=America/New_York:20271018T200000
DTSTAMP:20260419T210635
CREATED:20230131T004717Z
LAST-MODIFIED:20230131T004717Z
UID:10009706-1823886000-1823889600@olddutchchurch.org
SUMMARY:Debtors’ Anonymous
DESCRIPTION:
URL:https://olddutchchurch.org/event/debtors-anonymous/2027-10-18/
END:VEVENT
BEGIN:VEVENT
DTSTART;TZID=America/New_York:20271020T120000
DTEND;TZID=America/New_York:20271020T130000
DTSTAMP:20260419T210635
CREATED:20250625T194104Z
LAST-MODIFIED:20250625T194104Z
UID:10011799-1824033600-1824037200@olddutchchurch.org
SUMMARY:ACA
DESCRIPTION:
URL:https://olddutchchurch.org/event/aca-2/2027-10-20/
END:VEVENT
BEGIN:VEVENT
DTSTART;TZID=America/New_York:20271020T130000
DTEND;TZID=America/New_York:20271020T140000
DTSTAMP:20260419T210635
CREATED:20220621T152107Z
LAST-MODIFIED:20250624T163908Z
UID:10007488-1824037200-1824040800@olddutchchurch.org
SUMMARY:Community Chorus (on hiatus until Fall)
DESCRIPTION:Community Chorus in Bethany Hall
URL:https://olddutchchurch.org/event/community-chorus/2027-10-20/
END:VEVENT
BEGIN:VEVENT
DTSTART;TZID=America/New_York:20271020T180000
DTEND;TZID=America/New_York:20271020T210000
DTSTAMP:20260419T210635
CREATED:20230131T003225Z
LAST-MODIFIED:20250624T171339Z
UID:10007188-1824055200-1824066000@olddutchchurch.org
SUMMARY:Ubaka Hill Drum Circle
DESCRIPTION:
URL:https://olddutchchurch.org/event/ubaka-hill-drum-circle/2027-10-20/
END:VEVENT
BEGIN:VEVENT
DTSTART;TZID=America/New_York:20271021T183000
DTEND;TZID=America/New_York:20271021T193000
DTSTAMP:20260419T210635
CREATED:20230131T004310Z
LAST-MODIFIED:20230131T004310Z
UID:10009439-1824143400-1824147000@olddutchchurch.org
SUMMARY:ACA Book Group
DESCRIPTION:Meeting every other week
URL:https://olddutchchurch.org/event/aca-book-group/2027-10-21/
END:VEVENT
BEGIN:VEVENT
DTSTART;TZID=America/New_York:20271021T190000
DTEND;TZID=America/New_York:20271021T200000
DTSTAMP:20260419T210635
CREATED:20230131T003704Z
LAST-MODIFIED:20230131T003704Z
UID:10008141-1824145200-1824148800@olddutchchurch.org
SUMMARY:AA
DESCRIPTION:
URL:https://olddutchchurch.org/event/aa/2027-10-21/
END:VEVENT
BEGIN:VEVENT
DTSTART;TZID=America/New_York:20271023T210000
DTEND;TZID=America/New_York:20271023T220000
DTSTAMP:20260419T210635
CREATED:20230131T003843Z
LAST-MODIFIED:20230131T003843Z
UID:10008677-1824325200-1824328800@olddutchchurch.org
SUMMARY:AA Book Group
DESCRIPTION:
URL:https://olddutchchurch.org/event/aa-book-group/2027-10-23/
END:VEVENT
BEGIN:VEVENT
DTSTART;TZID=America/New_York:20271024T103000
DTEND;TZID=America/New_York:20271024T113000
DTSTAMP:20260419T210635
CREATED:20220621T145509Z
LAST-MODIFIED:20230131T010033Z
UID:10005551-1824373800-1824377400@olddutchchurch.org
SUMMARY:Sunday Worship
DESCRIPTION:Sunday worship in the Sanctuary
URL:https://olddutchchurch.org/event/sunday-worship/2027-10-24/
LOCATION:Old Dutch Church\, Wall Street\, Kingston\, 272 Wall Street\, Kingston\, NY\, 12401\, United States
END:VEVENT
BEGIN:VEVENT
DTSTART;TZID=America/New_York:20271024T113000
DTEND;TZID=America/New_York:20271024T123000
DTSTAMP:20260419T210635
CREATED:20220621T151126Z
LAST-MODIFIED:20230131T004016Z
UID:10005851-1824377400-1824381000@olddutchchurch.org
SUMMARY:ACA
DESCRIPTION:ACA in OMG
URL:https://olddutchchurch.org/event/aca/2027-10-24/
LOCATION:Old Dutch Church\, Wall Street\, Kingston\, 272 Wall Street\, Kingston\, NY\, 12401\, United States
END:VEVENT
BEGIN:VEVENT
DTSTART;TZID=America/New_York:20271024T190000
DTEND;TZID=America/New_York:20271024T213000
DTSTAMP:20260419T210635
CREATED:20220621T152603Z
LAST-MODIFIED:20230131T005403Z
UID:10008409-1824404400-1824413400@olddutchchurch.org
SUMMARY:SLAA Women’s Group
DESCRIPTION:SLAA in OMG
URL:https://olddutchchurch.org/event/slaa-3/2027-10-24/
END:VEVENT
BEGIN:VEVENT
DTSTART;TZID=America/New_York:20271025T170000
DTEND;TZID=America/New_York:20271025T180000
DTSTAMP:20260419T210635
CREATED:20230131T005556Z
LAST-MODIFIED:20230131T005556Z
UID:10009974-1824483600-1824487200@olddutchchurch.org
SUMMARY:SLAA Augustine Fellowship
DESCRIPTION:
URL:https://olddutchchurch.org/event/slaa-augustine-fellowship/2027-10-25/
END:VEVENT
BEGIN:VEVENT
DTSTART;TZID=America/New_York:20271025T183000
DTEND;TZID=America/New_York:20271025T210000
DTSTAMP:20260419T210635
CREATED:20250624T172435Z
LAST-MODIFIED:20250624T172436Z
UID:10006354-1824489000-1824498000@olddutchchurch.org
SUMMARY:Mendelssohn Club
DESCRIPTION:
URL:https://olddutchchurch.org/event/mendelssohn-club-2-2/2027-10-25/
END:VEVENT
END:VCALENDAR