BEGIN:VCALENDAR
VERSION:2.0
PRODID:-//Old Dutch Church - ECPv6.15.20//NONSGML v1.0//EN
CALSCALE:GREGORIAN
METHOD:PUBLISH
X-WR-CALNAME:Old Dutch Church
X-ORIGINAL-URL:https://olddutchchurch.org
X-WR-CALDESC:Events for Old Dutch Church
REFRESH-INTERVAL;VALUE=DURATION:PT1H
X-Robots-Tag:noindex
X-PUBLISHED-TTL:PT1H
BEGIN:VTIMEZONE
TZID:America/New_York
BEGIN:DAYLIGHT
TZOFFSETFROM:-0500
TZOFFSETTO:-0400
TZNAME:EDT
DTSTART:20220313T070000
END:DAYLIGHT
BEGIN:STANDARD
TZOFFSETFROM:-0400
TZOFFSETTO:-0500
TZNAME:EST
DTSTART:20221106T060000
END:STANDARD
BEGIN:DAYLIGHT
TZOFFSETFROM:-0500
TZOFFSETTO:-0400
TZNAME:EDT
DTSTART:20230312T070000
END:DAYLIGHT
BEGIN:STANDARD
TZOFFSETFROM:-0400
TZOFFSETTO:-0500
TZNAME:EST
DTSTART:20231105T060000
END:STANDARD
BEGIN:DAYLIGHT
TZOFFSETFROM:-0500
TZOFFSETTO:-0400
TZNAME:EDT
DTSTART:20240310T070000
END:DAYLIGHT
BEGIN:STANDARD
TZOFFSETFROM:-0400
TZOFFSETTO:-0500
TZNAME:EST
DTSTART:20241103T060000
END:STANDARD
END:VTIMEZONE
BEGIN:VEVENT
DTSTART;TZID=America/New_York:20230313T190000
DTEND;TZID=America/New_York:20230313T200000
DTSTAMP:20260421T212125
CREATED:20230131T004717Z
LAST-MODIFIED:20230131T004717Z
UID:10009466-1678734000-1678737600@olddutchchurch.org
SUMMARY:Debtors’ Anonymous
DESCRIPTION:
URL:https://olddutchchurch.org/event/debtors-anonymous/2023-03-13/
END:VEVENT
BEGIN:VEVENT
DTSTART;TZID=America/New_York:20230313T190000
DTEND;TZID=America/New_York:20230313T200000
DTSTAMP:20260421T212125
CREATED:20220621T151857Z
LAST-MODIFIED:20220621T151857Z
UID:10006107-1678734000-1678737600@olddutchchurch.org
SUMMARY:BDA
DESCRIPTION:BDA in OMG
URL:https://olddutchchurch.org/event/bda/2023-03-13/
END:VEVENT
BEGIN:VEVENT
DTSTART;TZID=America/New_York:20230313T170000
DTEND;TZID=America/New_York:20230313T180000
DTSTAMP:20260421T212125
CREATED:20230131T005556Z
LAST-MODIFIED:20230131T005556Z
UID:10009733-1678726800-1678730400@olddutchchurch.org
SUMMARY:SLAA Augustine Fellowship
DESCRIPTION:
URL:https://olddutchchurch.org/event/slaa-augustine-fellowship/2023-03-13/
END:VEVENT
BEGIN:VEVENT
DTSTART;TZID=America/New_York:20230313T170000
DTEND;TZID=America/New_York:20230313T180000
DTSTAMP:20260421T212125
CREATED:20220621T151804Z
LAST-MODIFIED:20220621T151804Z
UID:10006069-1678726800-1678730400@olddutchchurch.org
SUMMARY:SLAA
DESCRIPTION:SLAA in OMG
URL:https://olddutchchurch.org/event/slaa-2/2023-03-13/
END:VEVENT
BEGIN:VEVENT
DTSTART;TZID=America/New_York:20230312T190000
DTEND;TZID=America/New_York:20230312T213000
DTSTAMP:20260421T212125
CREATED:20220621T152603Z
LAST-MODIFIED:20230131T005403Z
UID:10008168-1678647600-1678656600@olddutchchurch.org
SUMMARY:SLAA Women’s Group
DESCRIPTION:SLAA in OMG
URL:https://olddutchchurch.org/event/slaa-3/2023-03-12/
END:VEVENT
BEGIN:VEVENT
DTSTART;TZID=America/New_York:20230312T190000
DTEND;TZID=America/New_York:20230312T213000
DTSTAMP:20260421T212125
CREATED:20220621T151654Z
LAST-MODIFIED:20220621T151654Z
UID:10006031-1678647600-1678656600@olddutchchurch.org
SUMMARY:SLAA
DESCRIPTION:SLAA in OMG
URL:https://olddutchchurch.org/event/slaa/2023-03-12/
END:VEVENT
BEGIN:VEVENT
DTSTART;TZID=America/New_York:20230312T180000
DTEND;TZID=America/New_York:20230312T203000
DTSTAMP:20260421T212125
CREATED:20220621T151545Z
LAST-MODIFIED:20230131T001910Z
UID:10005949-1678644000-1678653000@olddutchchurch.org
SUMMARY:ARS Choralis
DESCRIPTION:ARS Choralis in Bethany Hall
URL:https://olddutchchurch.org/event/ars-choralis/2023-03-12/
END:VEVENT
BEGIN:VEVENT
DTSTART;TZID=America/New_York:20230312T170000
DTEND;TZID=America/New_York:20230312T183000
DTSTAMP:20260421T212125
CREATED:20220621T151346Z
LAST-MODIFIED:20220621T151346Z
UID:10005909-1678640400-1678645800@olddutchchurch.org
SUMMARY:Healing Hearts
DESCRIPTION:Healing Hearts in OMG
URL:https://olddutchchurch.org/event/healing-hearts/2023-03-12/
END:VEVENT
BEGIN:VEVENT
DTSTART;TZID=America/New_York:20230312T113000
DTEND;TZID=America/New_York:20230312T123000
DTSTAMP:20260421T212125
CREATED:20220621T151126Z
LAST-MODIFIED:20230131T004016Z
UID:10005610-1678620600-1678624200@olddutchchurch.org
SUMMARY:ACA
DESCRIPTION:ACA in OMG
URL:https://olddutchchurch.org/event/aca/2023-03-12/
LOCATION:Old Dutch Church\, Wall Street\, Kingston\, 272 Wall Street\, Kingston\, NY\, 12401\, United States
END:VEVENT
BEGIN:VEVENT
DTSTART;TZID=America/New_York:20230312T103000
DTEND;TZID=America/New_York:20230312T113000
DTSTAMP:20260421T212125
CREATED:20220621T145509Z
LAST-MODIFIED:20230131T010033Z
UID:10005310-1678617000-1678620600@olddutchchurch.org
SUMMARY:Sunday Worship
DESCRIPTION:Sunday worship in the Sanctuary
URL:https://olddutchchurch.org/event/sunday-worship/2023-03-12/
LOCATION:Old Dutch Church\, Wall Street\, Kingston\, 272 Wall Street\, Kingston\, NY\, 12401\, United States
END:VEVENT
BEGIN:VEVENT
DTSTART;TZID=America/New_York:20230311T210000
DTEND;TZID=America/New_York:20230311T220000
DTSTAMP:20260421T212125
CREATED:20230131T003843Z
LAST-MODIFIED:20230131T003843Z
UID:10008436-1678568400-1678572000@olddutchchurch.org
SUMMARY:AA Book Group
DESCRIPTION:
URL:https://olddutchchurch.org/event/aa-book-group/2023-03-11/
END:VEVENT
BEGIN:VEVENT
DTSTART;TZID=America/New_York:20230311T100000
DTEND;TZID=America/New_York:20230311T140000
DTSTAMP:20260421T212125
CREATED:20230112T190933Z
LAST-MODIFIED:20230112T192410Z
UID:10009188-1678528800-1678543200@olddutchchurch.org
SUMMARY:Kingston Farmer's Market
DESCRIPTION:The Kingston Farmer’s Market is held in Bethany Hall every other Saturday from 10am to 2pm throughout the winter. Market dates are January 14th and 28th\, February 11th and 25th\, March 11th and 25th\, and April 8th and 22nd.\n\n\n\n\n\n\nOur resident vegan chef\, Gabby\, of Gab’s Veg Table will be selling her delicious vegan grab and go sandwiches and sides on Saturdays during the Kingston Farmers Market
URL:https://olddutchchurch.org/event/kingston-farmers-market-4/
LOCATION:Old Dutch Church\, Wall Street\, Kingston\, 272 Wall Street\, Kingston\, NY\, 12401\, United States
END:VEVENT
BEGIN:VEVENT
DTSTART;TZID=America/New_York:20230311T090000
DTEND;TZID=America/New_York:20230311T100000
DTSTAMP:20260421T212125
CREATED:20220621T153115Z
LAST-MODIFIED:20220621T153115Z
UID:10008885-1678525200-1678528800@olddutchchurch.org
SUMMARY:HVKYPAA Book Club
DESCRIPTION:HVKYPAA Book Club – Bethany Hall
URL:https://olddutchchurch.org/event/hvkypaa-book-club/2023-03-11/
END:VEVENT
BEGIN:VEVENT
DTSTART;TZID=America/New_York:20230310T113000
DTEND;TZID=America/New_York:20230310T130000
DTSTAMP:20260421T212125
CREATED:20220621T152514Z
LAST-MODIFIED:20220621T152514Z
UID:10007893-1678447800-1678453200@olddutchchurch.org
SUMMARY:Chair Yoga
DESCRIPTION:Chair Yoga – Bethany Hall \nStart time:  11:45am to 1:15pm
URL:https://olddutchchurch.org/event/chair-yoga/2023-03-10/
END:VEVENT
BEGIN:VEVENT
DTSTART;TZID=America/New_York:20230309T190000
DTEND;TZID=America/New_York:20230309T210000
DTSTAMP:20260421T212125
CREATED:20220621T152326Z
LAST-MODIFIED:20220621T152326Z
UID:10007586-1678388400-1678395600@olddutchchurch.org
SUMMARY:HVYPAA
DESCRIPTION:HVYPAA in Bethany Hall
URL:https://olddutchchurch.org/event/hvypaa/2023-03-09/
END:VEVENT
BEGIN:VEVENT
DTSTART;TZID=America/New_York:20230309T190000
DTEND;TZID=America/New_York:20230309T200000
DTSTAMP:20260421T212125
CREATED:20230131T003704Z
LAST-MODIFIED:20230131T003704Z
UID:10007900-1678388400-1678392000@olddutchchurch.org
SUMMARY:AA
DESCRIPTION:
URL:https://olddutchchurch.org/event/aa/2023-03-09/
END:VEVENT
BEGIN:VEVENT
DTSTART;TZID=America/New_York:20230309T183000
DTEND;TZID=America/New_York:20230309T193000
DTSTAMP:20260421T212125
CREATED:20230131T004310Z
LAST-MODIFIED:20230131T004310Z
UID:10009198-1678386600-1678390200@olddutchchurch.org
SUMMARY:ACA Book Group
DESCRIPTION:Meeting every other week
URL:https://olddutchchurch.org/event/aca-book-group/2023-03-09/
END:VEVENT
BEGIN:VEVENT
DTSTART;TZID=America/New_York:20230309T180000
DTEND;TZID=America/New_York:20230309T190000
DTSTAMP:20260421T212125
CREATED:20230131T010304Z
LAST-MODIFIED:20230131T010304Z
UID:10009996-1678384800-1678388400@olddutchchurch.org
SUMMARY:Lenten Bible Study
DESCRIPTION:
URL:https://olddutchchurch.org/event/lenten-bible-study/2023-03-09/
END:VEVENT
BEGIN:VEVENT
DTSTART;TZID=America/New_York:20230308T180000
DTEND;TZID=America/New_York:20230308T210000
DTSTAMP:20260421T212125
CREATED:20230131T003225Z
LAST-MODIFIED:20250624T171339Z
UID:10006947-1678298400-1678309200@olddutchchurch.org
SUMMARY:Ubaka Hill Drum Circle
DESCRIPTION:
URL:https://olddutchchurch.org/event/ubaka-hill-drum-circle/2023-03-08/
END:VEVENT
BEGIN:VEVENT
DTSTART;TZID=America/New_York:20230308T130000
DTEND;TZID=America/New_York:20230308T140000
DTSTAMP:20260421T212125
CREATED:20220621T152107Z
LAST-MODIFIED:20250624T163908Z
UID:10007247-1678280400-1678284000@olddutchchurch.org
SUMMARY:Community Chorus (on hiatus until Fall)
DESCRIPTION:Community Chorus in Bethany Hall
URL:https://olddutchchurch.org/event/community-chorus/2023-03-08/
END:VEVENT
BEGIN:VEVENT
DTSTART;TZID=America/New_York:20230307T180000
DTEND;TZID=America/New_York:20230307T210000
DTSTAMP:20260421T212125
CREATED:20220621T152213Z
LAST-MODIFIED:20220621T152213Z
UID:10007547-1678212000-1678222800@olddutchchurch.org
SUMMARY:Women’s Drum Circle
DESCRIPTION:Women’s Drum Circle – Bethany Hall
URL:https://olddutchchurch.org/event/womens-drum-circle/2023-03-07/
END:VEVENT
BEGIN:VEVENT
DTSTART;TZID=America/New_York:20230307T180000
DTEND;TZID=America/New_York:20230307T190000
DTSTAMP:20260421T212125
CREATED:20230201T153124Z
LAST-MODIFIED:20230201T153124Z
UID:10010268-1678212000-1678215600@olddutchchurch.org
SUMMARY:Pipe Dreams
DESCRIPTION:A meditative experience at Old Dutch Church in partnership with O+ \nJoin us for a healing sensory journey through light and sound featuring pipe organ compositions by Anton Faynberg and immersive visual projections by B.A. Miale. \nFREE EVENT ALL WELCOME
URL:https://olddutchchurch.org/event/pipe-dreams/2023-03-07/
END:VEVENT
BEGIN:VEVENT
DTSTART;TZID=America/New_York:20230306T190000
DTEND;TZID=America/New_York:20230306T200000
DTSTAMP:20260421T212125
CREATED:20230131T004717Z
LAST-MODIFIED:20230131T004717Z
UID:10009465-1678129200-1678132800@olddutchchurch.org
SUMMARY:Debtors’ Anonymous
DESCRIPTION:
URL:https://olddutchchurch.org/event/debtors-anonymous/2023-03-06/
END:VEVENT
BEGIN:VEVENT
DTSTART;TZID=America/New_York:20230306T190000
DTEND;TZID=America/New_York:20230306T200000
DTSTAMP:20260421T212125
CREATED:20220621T151857Z
LAST-MODIFIED:20220621T151857Z
UID:10006106-1678129200-1678132800@olddutchchurch.org
SUMMARY:BDA
DESCRIPTION:BDA in OMG
URL:https://olddutchchurch.org/event/bda/2023-03-06/
END:VEVENT
BEGIN:VEVENT
DTSTART;TZID=America/New_York:20230306T170000
DTEND;TZID=America/New_York:20230306T180000
DTSTAMP:20260421T212125
CREATED:20230131T005556Z
LAST-MODIFIED:20230131T005556Z
UID:10009732-1678122000-1678125600@olddutchchurch.org
SUMMARY:SLAA Augustine Fellowship
DESCRIPTION:
URL:https://olddutchchurch.org/event/slaa-augustine-fellowship/2023-03-06/
END:VEVENT
BEGIN:VEVENT
DTSTART;TZID=America/New_York:20230306T170000
DTEND;TZID=America/New_York:20230306T180000
DTSTAMP:20260421T212125
CREATED:20220621T151804Z
LAST-MODIFIED:20220621T151804Z
UID:10006068-1678122000-1678125600@olddutchchurch.org
SUMMARY:SLAA
DESCRIPTION:SLAA in OMG
URL:https://olddutchchurch.org/event/slaa-2/2023-03-06/
END:VEVENT
BEGIN:VEVENT
DTSTART;TZID=America/New_York:20230305T190000
DTEND;TZID=America/New_York:20230305T213000
DTSTAMP:20260421T212125
CREATED:20220621T152603Z
LAST-MODIFIED:20230131T005403Z
UID:10008167-1678042800-1678051800@olddutchchurch.org
SUMMARY:SLAA Women’s Group
DESCRIPTION:SLAA in OMG
URL:https://olddutchchurch.org/event/slaa-3/2023-03-05/
END:VEVENT
BEGIN:VEVENT
DTSTART;TZID=America/New_York:20230305T190000
DTEND;TZID=America/New_York:20230305T213000
DTSTAMP:20260421T212125
CREATED:20220621T151654Z
LAST-MODIFIED:20220621T151654Z
UID:10006030-1678042800-1678051800@olddutchchurch.org
SUMMARY:SLAA
DESCRIPTION:SLAA in OMG
URL:https://olddutchchurch.org/event/slaa/2023-03-05/
END:VEVENT
BEGIN:VEVENT
DTSTART;TZID=America/New_York:20230305T180000
DTEND;TZID=America/New_York:20230305T203000
DTSTAMP:20260421T212125
CREATED:20220621T151545Z
LAST-MODIFIED:20230131T001910Z
UID:10005948-1678039200-1678048200@olddutchchurch.org
SUMMARY:ARS Choralis
DESCRIPTION:ARS Choralis in Bethany Hall
URL:https://olddutchchurch.org/event/ars-choralis/2023-03-05/
END:VEVENT
BEGIN:VEVENT
DTSTART;TZID=America/New_York:20230305T170000
DTEND;TZID=America/New_York:20230305T183000
DTSTAMP:20260421T212125
CREATED:20220621T151346Z
LAST-MODIFIED:20220621T151346Z
UID:10005908-1678035600-1678041000@olddutchchurch.org
SUMMARY:Healing Hearts
DESCRIPTION:Healing Hearts in OMG
URL:https://olddutchchurch.org/event/healing-hearts/2023-03-05/
END:VEVENT
END:VCALENDAR