BEGIN:VCALENDAR
VERSION:2.0
PRODID:-//Old Dutch Church - ECPv6.15.20//NONSGML v1.0//EN
CALSCALE:GREGORIAN
METHOD:PUBLISH
X-WR-CALNAME:Old Dutch Church
X-ORIGINAL-URL:https://olddutchchurch.org
X-WR-CALDESC:Events for Old Dutch Church
REFRESH-INTERVAL;VALUE=DURATION:PT1H
X-Robots-Tag:noindex
X-PUBLISHED-TTL:PT1H
BEGIN:VTIMEZONE
TZID:America/New_York
BEGIN:DAYLIGHT
TZOFFSETFROM:-0500
TZOFFSETTO:-0400
TZNAME:EDT
DTSTART:20230312T070000
END:DAYLIGHT
BEGIN:STANDARD
TZOFFSETFROM:-0400
TZOFFSETTO:-0500
TZNAME:EST
DTSTART:20231105T060000
END:STANDARD
BEGIN:DAYLIGHT
TZOFFSETFROM:-0500
TZOFFSETTO:-0400
TZNAME:EDT
DTSTART:20240310T070000
END:DAYLIGHT
BEGIN:STANDARD
TZOFFSETFROM:-0400
TZOFFSETTO:-0500
TZNAME:EST
DTSTART:20241103T060000
END:STANDARD
BEGIN:DAYLIGHT
TZOFFSETFROM:-0500
TZOFFSETTO:-0400
TZNAME:EDT
DTSTART:20250309T070000
END:DAYLIGHT
BEGIN:STANDARD
TZOFFSETFROM:-0400
TZOFFSETTO:-0500
TZNAME:EST
DTSTART:20251102T060000
END:STANDARD
END:VTIMEZONE
BEGIN:VEVENT
DTSTART;TZID=America/New_York:20240422T190000
DTEND;TZID=America/New_York:20240422T200000
DTSTAMP:20260419T184207
CREATED:20230131T004717Z
LAST-MODIFIED:20230131T004717Z
UID:10009524-1713812400-1713816000@olddutchchurch.org
SUMMARY:Debtors’ Anonymous
DESCRIPTION:
URL:https://olddutchchurch.org/event/debtors-anonymous/2024-04-22/
END:VEVENT
BEGIN:VEVENT
DTSTART;TZID=America/New_York:20240422T170000
DTEND;TZID=America/New_York:20240422T180000
DTSTAMP:20260419T184207
CREATED:20230131T005556Z
LAST-MODIFIED:20230131T005556Z
UID:10009791-1713805200-1713808800@olddutchchurch.org
SUMMARY:SLAA Augustine Fellowship
DESCRIPTION:
URL:https://olddutchchurch.org/event/slaa-augustine-fellowship/2024-04-22/
END:VEVENT
BEGIN:VEVENT
DTSTART;TZID=America/New_York:20240421T190000
DTEND;TZID=America/New_York:20240421T213000
DTSTAMP:20260419T184207
CREATED:20220621T152603Z
LAST-MODIFIED:20230131T005403Z
UID:10008226-1713726000-1713735000@olddutchchurch.org
SUMMARY:SLAA Women’s Group
DESCRIPTION:SLAA in OMG
URL:https://olddutchchurch.org/event/slaa-3/2024-04-21/
END:VEVENT
BEGIN:VEVENT
DTSTART;TZID=America/New_York:20240421T113000
DTEND;TZID=America/New_York:20240421T123000
DTSTAMP:20260419T184207
CREATED:20220621T151126Z
LAST-MODIFIED:20230131T004016Z
UID:10005668-1713699000-1713702600@olddutchchurch.org
SUMMARY:ACA
DESCRIPTION:ACA in OMG
URL:https://olddutchchurch.org/event/aca/2024-04-21/
LOCATION:Old Dutch Church\, Wall Street\, Kingston\, 272 Wall Street\, Kingston\, NY\, 12401\, United States
END:VEVENT
BEGIN:VEVENT
DTSTART;TZID=America/New_York:20240421T103000
DTEND;TZID=America/New_York:20240421T113000
DTSTAMP:20260419T184207
CREATED:20220621T145509Z
LAST-MODIFIED:20230131T010033Z
UID:10005368-1713695400-1713699000@olddutchchurch.org
SUMMARY:Sunday Worship
DESCRIPTION:Sunday worship in the Sanctuary
URL:https://olddutchchurch.org/event/sunday-worship/2024-04-21/
LOCATION:Old Dutch Church\, Wall Street\, Kingston\, 272 Wall Street\, Kingston\, NY\, 12401\, United States
END:VEVENT
BEGIN:VEVENT
DTSTART;TZID=America/New_York:20240420T210000
DTEND;TZID=America/New_York:20240420T220000
DTSTAMP:20260419T184207
CREATED:20230131T003843Z
LAST-MODIFIED:20230131T003843Z
UID:10008494-1713646800-1713650400@olddutchchurch.org
SUMMARY:AA Book Group
DESCRIPTION:
URL:https://olddutchchurch.org/event/aa-book-group/2024-04-20/
END:VEVENT
BEGIN:VEVENT
DTSTART;TZID=America/New_York:20240418T190000
DTEND;TZID=America/New_York:20240418T200000
DTSTAMP:20260419T184207
CREATED:20230131T003704Z
LAST-MODIFIED:20230131T003704Z
UID:10007958-1713466800-1713470400@olddutchchurch.org
SUMMARY:AA
DESCRIPTION:
URL:https://olddutchchurch.org/event/aa/2024-04-18/
END:VEVENT
BEGIN:VEVENT
DTSTART;TZID=America/New_York:20240418T183000
DTEND;TZID=America/New_York:20240418T193000
DTSTAMP:20260419T184207
CREATED:20230131T004310Z
LAST-MODIFIED:20230131T004310Z
UID:10009256-1713465000-1713468600@olddutchchurch.org
SUMMARY:ACA Book Group
DESCRIPTION:Meeting every other week
URL:https://olddutchchurch.org/event/aca-book-group/2024-04-18/
END:VEVENT
BEGIN:VEVENT
DTSTART;TZID=America/New_York:20240417T180000
DTEND;TZID=America/New_York:20240417T210000
DTSTAMP:20260419T184207
CREATED:20230131T003225Z
LAST-MODIFIED:20250624T171339Z
UID:10007005-1713376800-1713387600@olddutchchurch.org
SUMMARY:Ubaka Hill Drum Circle
DESCRIPTION:
URL:https://olddutchchurch.org/event/ubaka-hill-drum-circle/2024-04-17/
END:VEVENT
BEGIN:VEVENT
DTSTART;TZID=America/New_York:20240417T130000
DTEND;TZID=America/New_York:20240417T140000
DTSTAMP:20260419T184207
CREATED:20220621T152107Z
LAST-MODIFIED:20250624T163908Z
UID:10007305-1713358800-1713362400@olddutchchurch.org
SUMMARY:Community Chorus (on hiatus until Fall)
DESCRIPTION:Community Chorus in Bethany Hall
URL:https://olddutchchurch.org/event/community-chorus/2024-04-17/
END:VEVENT
BEGIN:VEVENT
DTSTART;TZID=America/New_York:20240415T190000
DTEND;TZID=America/New_York:20240415T200000
DTSTAMP:20260419T184207
CREATED:20230131T004717Z
LAST-MODIFIED:20230131T004717Z
UID:10009523-1713207600-1713211200@olddutchchurch.org
SUMMARY:Debtors’ Anonymous
DESCRIPTION:
URL:https://olddutchchurch.org/event/debtors-anonymous/2024-04-15/
END:VEVENT
BEGIN:VEVENT
DTSTART;TZID=America/New_York:20240415T170000
DTEND;TZID=America/New_York:20240415T180000
DTSTAMP:20260419T184207
CREATED:20230131T005556Z
LAST-MODIFIED:20230131T005556Z
UID:10009790-1713200400-1713204000@olddutchchurch.org
SUMMARY:SLAA Augustine Fellowship
DESCRIPTION:
URL:https://olddutchchurch.org/event/slaa-augustine-fellowship/2024-04-15/
END:VEVENT
BEGIN:VEVENT
DTSTART;TZID=America/New_York:20240414T190000
DTEND;TZID=America/New_York:20240414T213000
DTSTAMP:20260419T184207
CREATED:20220621T152603Z
LAST-MODIFIED:20230131T005403Z
UID:10008225-1713121200-1713130200@olddutchchurch.org
SUMMARY:SLAA Women’s Group
DESCRIPTION:SLAA in OMG
URL:https://olddutchchurch.org/event/slaa-3/2024-04-14/
END:VEVENT
BEGIN:VEVENT
DTSTART;TZID=America/New_York:20240414T113000
DTEND;TZID=America/New_York:20240414T123000
DTSTAMP:20260419T184207
CREATED:20220621T151126Z
LAST-MODIFIED:20230131T004016Z
UID:10005667-1713094200-1713097800@olddutchchurch.org
SUMMARY:ACA
DESCRIPTION:ACA in OMG
URL:https://olddutchchurch.org/event/aca/2024-04-14/
LOCATION:Old Dutch Church\, Wall Street\, Kingston\, 272 Wall Street\, Kingston\, NY\, 12401\, United States
END:VEVENT
BEGIN:VEVENT
DTSTART;TZID=America/New_York:20240414T103000
DTEND;TZID=America/New_York:20240414T113000
DTSTAMP:20260419T184207
CREATED:20220621T145509Z
LAST-MODIFIED:20230131T010033Z
UID:10005367-1713090600-1713094200@olddutchchurch.org
SUMMARY:Sunday Worship
DESCRIPTION:Sunday worship in the Sanctuary
URL:https://olddutchchurch.org/event/sunday-worship/2024-04-14/
LOCATION:Old Dutch Church\, Wall Street\, Kingston\, 272 Wall Street\, Kingston\, NY\, 12401\, United States
END:VEVENT
BEGIN:VEVENT
DTSTART;TZID=America/New_York:20240413T210000
DTEND;TZID=America/New_York:20240413T220000
DTSTAMP:20260419T184207
CREATED:20230131T003843Z
LAST-MODIFIED:20230131T003843Z
UID:10008493-1713042000-1713045600@olddutchchurch.org
SUMMARY:AA Book Group
DESCRIPTION:
URL:https://olddutchchurch.org/event/aa-book-group/2024-04-13/
END:VEVENT
BEGIN:VEVENT
DTSTART;TZID=America/New_York:20240411T190000
DTEND;TZID=America/New_York:20240411T200000
DTSTAMP:20260419T184207
CREATED:20230131T003704Z
LAST-MODIFIED:20230131T003704Z
UID:10007957-1712862000-1712865600@olddutchchurch.org
SUMMARY:AA
DESCRIPTION:
URL:https://olddutchchurch.org/event/aa/2024-04-11/
END:VEVENT
BEGIN:VEVENT
DTSTART;TZID=America/New_York:20240411T183000
DTEND;TZID=America/New_York:20240411T193000
DTSTAMP:20260419T184207
CREATED:20230131T004310Z
LAST-MODIFIED:20230131T004310Z
UID:10009255-1712860200-1712863800@olddutchchurch.org
SUMMARY:ACA Book Group
DESCRIPTION:Meeting every other week
URL:https://olddutchchurch.org/event/aca-book-group/2024-04-11/
END:VEVENT
BEGIN:VEVENT
DTSTART;TZID=America/New_York:20240410T180000
DTEND;TZID=America/New_York:20240410T210000
DTSTAMP:20260419T184207
CREATED:20230131T003225Z
LAST-MODIFIED:20250624T171339Z
UID:10007004-1712772000-1712782800@olddutchchurch.org
SUMMARY:Ubaka Hill Drum Circle
DESCRIPTION:
URL:https://olddutchchurch.org/event/ubaka-hill-drum-circle/2024-04-10/
END:VEVENT
BEGIN:VEVENT
DTSTART;TZID=America/New_York:20240410T130000
DTEND;TZID=America/New_York:20240410T140000
DTSTAMP:20260419T184207
CREATED:20220621T152107Z
LAST-MODIFIED:20250624T163908Z
UID:10007304-1712754000-1712757600@olddutchchurch.org
SUMMARY:Community Chorus (on hiatus until Fall)
DESCRIPTION:Community Chorus in Bethany Hall
URL:https://olddutchchurch.org/event/community-chorus/2024-04-10/
END:VEVENT
BEGIN:VEVENT
DTSTART;TZID=America/New_York:20240408T190000
DTEND;TZID=America/New_York:20240408T200000
DTSTAMP:20260419T184207
CREATED:20230131T004717Z
LAST-MODIFIED:20230131T004717Z
UID:10009522-1712602800-1712606400@olddutchchurch.org
SUMMARY:Debtors’ Anonymous
DESCRIPTION:
URL:https://olddutchchurch.org/event/debtors-anonymous/2024-04-08/
END:VEVENT
BEGIN:VEVENT
DTSTART;TZID=America/New_York:20240408T170000
DTEND;TZID=America/New_York:20240408T180000
DTSTAMP:20260419T184207
CREATED:20230131T005556Z
LAST-MODIFIED:20230131T005556Z
UID:10009789-1712595600-1712599200@olddutchchurch.org
SUMMARY:SLAA Augustine Fellowship
DESCRIPTION:
URL:https://olddutchchurch.org/event/slaa-augustine-fellowship/2024-04-08/
END:VEVENT
BEGIN:VEVENT
DTSTART;TZID=America/New_York:20240407T190000
DTEND;TZID=America/New_York:20240407T213000
DTSTAMP:20260419T184207
CREATED:20220621T152603Z
LAST-MODIFIED:20230131T005403Z
UID:10008224-1712516400-1712525400@olddutchchurch.org
SUMMARY:SLAA Women’s Group
DESCRIPTION:SLAA in OMG
URL:https://olddutchchurch.org/event/slaa-3/2024-04-07/
END:VEVENT
BEGIN:VEVENT
DTSTART;TZID=America/New_York:20240407T113000
DTEND;TZID=America/New_York:20240407T123000
DTSTAMP:20260419T184207
CREATED:20220621T151126Z
LAST-MODIFIED:20230131T004016Z
UID:10005666-1712489400-1712493000@olddutchchurch.org
SUMMARY:ACA
DESCRIPTION:ACA in OMG
URL:https://olddutchchurch.org/event/aca/2024-04-07/
LOCATION:Old Dutch Church\, Wall Street\, Kingston\, 272 Wall Street\, Kingston\, NY\, 12401\, United States
END:VEVENT
BEGIN:VEVENT
DTSTART;TZID=America/New_York:20240407T103000
DTEND;TZID=America/New_York:20240407T113000
DTSTAMP:20260419T184207
CREATED:20220621T145509Z
LAST-MODIFIED:20230131T010033Z
UID:10005366-1712485800-1712489400@olddutchchurch.org
SUMMARY:Sunday Worship
DESCRIPTION:Sunday worship in the Sanctuary
URL:https://olddutchchurch.org/event/sunday-worship/2024-04-07/
LOCATION:Old Dutch Church\, Wall Street\, Kingston\, 272 Wall Street\, Kingston\, NY\, 12401\, United States
END:VEVENT
BEGIN:VEVENT
DTSTART;TZID=America/New_York:20240406T210000
DTEND;TZID=America/New_York:20240406T220000
DTSTAMP:20260419T184207
CREATED:20230131T003843Z
LAST-MODIFIED:20230131T003843Z
UID:10008492-1712437200-1712440800@olddutchchurch.org
SUMMARY:AA Book Group
DESCRIPTION:
URL:https://olddutchchurch.org/event/aa-book-group/2024-04-06/
END:VEVENT
BEGIN:VEVENT
DTSTART;TZID=America/New_York:20240404T190000
DTEND;TZID=America/New_York:20240404T200000
DTSTAMP:20260419T184207
CREATED:20230131T003704Z
LAST-MODIFIED:20230131T003704Z
UID:10007956-1712257200-1712260800@olddutchchurch.org
SUMMARY:AA
DESCRIPTION:
URL:https://olddutchchurch.org/event/aa/2024-04-04/
END:VEVENT
BEGIN:VEVENT
DTSTART;TZID=America/New_York:20240404T183000
DTEND;TZID=America/New_York:20240404T193000
DTSTAMP:20260419T184207
CREATED:20230131T004310Z
LAST-MODIFIED:20230131T004310Z
UID:10009254-1712255400-1712259000@olddutchchurch.org
SUMMARY:ACA Book Group
DESCRIPTION:Meeting every other week
URL:https://olddutchchurch.org/event/aca-book-group/2024-04-04/
END:VEVENT
BEGIN:VEVENT
DTSTART;TZID=America/New_York:20240403T180000
DTEND;TZID=America/New_York:20240403T210000
DTSTAMP:20260419T184207
CREATED:20230131T003225Z
LAST-MODIFIED:20250624T171339Z
UID:10007003-1712167200-1712178000@olddutchchurch.org
SUMMARY:Ubaka Hill Drum Circle
DESCRIPTION:
URL:https://olddutchchurch.org/event/ubaka-hill-drum-circle/2024-04-03/
END:VEVENT
BEGIN:VEVENT
DTSTART;TZID=America/New_York:20240403T130000
DTEND;TZID=America/New_York:20240403T140000
DTSTAMP:20260419T184207
CREATED:20220621T152107Z
LAST-MODIFIED:20250624T163908Z
UID:10007303-1712149200-1712152800@olddutchchurch.org
SUMMARY:Community Chorus (on hiatus until Fall)
DESCRIPTION:Community Chorus in Bethany Hall
URL:https://olddutchchurch.org/event/community-chorus/2024-04-03/
END:VEVENT
END:VCALENDAR