BEGIN:VCALENDAR
VERSION:2.0
PRODID:-//Old Dutch Church - ECPv6.15.20//NONSGML v1.0//EN
CALSCALE:GREGORIAN
METHOD:PUBLISH
X-WR-CALNAME:Old Dutch Church
X-ORIGINAL-URL:https://olddutchchurch.org
X-WR-CALDESC:Events for Old Dutch Church
REFRESH-INTERVAL;VALUE=DURATION:PT1H
X-Robots-Tag:noindex
X-PUBLISHED-TTL:PT1H
BEGIN:VTIMEZONE
TZID:America/New_York
BEGIN:DAYLIGHT
TZOFFSETFROM:-0500
TZOFFSETTO:-0400
TZNAME:EDT
DTSTART:20240310T070000
END:DAYLIGHT
BEGIN:STANDARD
TZOFFSETFROM:-0400
TZOFFSETTO:-0500
TZNAME:EST
DTSTART:20241103T060000
END:STANDARD
BEGIN:DAYLIGHT
TZOFFSETFROM:-0500
TZOFFSETTO:-0400
TZNAME:EDT
DTSTART:20250309T070000
END:DAYLIGHT
BEGIN:STANDARD
TZOFFSETFROM:-0400
TZOFFSETTO:-0500
TZNAME:EST
DTSTART:20251102T060000
END:STANDARD
BEGIN:DAYLIGHT
TZOFFSETFROM:-0500
TZOFFSETTO:-0400
TZNAME:EDT
DTSTART:20260308T070000
END:DAYLIGHT
BEGIN:STANDARD
TZOFFSETFROM:-0400
TZOFFSETTO:-0500
TZNAME:EST
DTSTART:20261101T060000
END:STANDARD
END:VTIMEZONE
BEGIN:VEVENT
DTSTART;TZID=America/New_York:20250205T130000
DTEND;TZID=America/New_York:20250205T140000
DTSTAMP:20260419T184208
CREATED:20220621T152107Z
LAST-MODIFIED:20250624T163908Z
UID:10007347-1738760400-1738764000@olddutchchurch.org
SUMMARY:Community Chorus (on hiatus until Fall)
DESCRIPTION:Community Chorus in Bethany Hall
URL:https://olddutchchurch.org/event/community-chorus/2025-02-05/
END:VEVENT
BEGIN:VEVENT
DTSTART;TZID=America/New_York:20250203T190000
DTEND;TZID=America/New_York:20250203T200000
DTSTAMP:20260419T184208
CREATED:20230131T004717Z
LAST-MODIFIED:20230131T004717Z
UID:10009565-1738609200-1738612800@olddutchchurch.org
SUMMARY:Debtors’ Anonymous
DESCRIPTION:
URL:https://olddutchchurch.org/event/debtors-anonymous/2025-02-03/
END:VEVENT
BEGIN:VEVENT
DTSTART;TZID=America/New_York:20250203T170000
DTEND;TZID=America/New_York:20250203T180000
DTSTAMP:20260419T184208
CREATED:20230131T005556Z
LAST-MODIFIED:20230131T005556Z
UID:10009832-1738602000-1738605600@olddutchchurch.org
SUMMARY:SLAA Augustine Fellowship
DESCRIPTION:
URL:https://olddutchchurch.org/event/slaa-augustine-fellowship/2025-02-03/
END:VEVENT
BEGIN:VEVENT
DTSTART;TZID=America/New_York:20250202T190000
DTEND;TZID=America/New_York:20250202T213000
DTSTAMP:20260419T184208
CREATED:20220621T152603Z
LAST-MODIFIED:20230131T005403Z
UID:10008267-1738522800-1738531800@olddutchchurch.org
SUMMARY:SLAA Women’s Group
DESCRIPTION:SLAA in OMG
URL:https://olddutchchurch.org/event/slaa-3/2025-02-02/
END:VEVENT
BEGIN:VEVENT
DTSTART;TZID=America/New_York:20250202T113000
DTEND;TZID=America/New_York:20250202T123000
DTSTAMP:20260419T184208
CREATED:20220621T151126Z
LAST-MODIFIED:20230131T004016Z
UID:10005709-1738495800-1738499400@olddutchchurch.org
SUMMARY:ACA
DESCRIPTION:ACA in OMG
URL:https://olddutchchurch.org/event/aca/2025-02-02/
LOCATION:Old Dutch Church\, Wall Street\, Kingston\, 272 Wall Street\, Kingston\, NY\, 12401\, United States
END:VEVENT
BEGIN:VEVENT
DTSTART;TZID=America/New_York:20250202T103000
DTEND;TZID=America/New_York:20250202T113000
DTSTAMP:20260419T184208
CREATED:20220621T145509Z
LAST-MODIFIED:20230131T010033Z
UID:10005409-1738492200-1738495800@olddutchchurch.org
SUMMARY:Sunday Worship
DESCRIPTION:Sunday worship in the Sanctuary
URL:https://olddutchchurch.org/event/sunday-worship/2025-02-02/
LOCATION:Old Dutch Church\, Wall Street\, Kingston\, 272 Wall Street\, Kingston\, NY\, 12401\, United States
END:VEVENT
BEGIN:VEVENT
DTSTART;TZID=America/New_York:20250201T210000
DTEND;TZID=America/New_York:20250201T220000
DTSTAMP:20260419T184208
CREATED:20230131T003843Z
LAST-MODIFIED:20230131T003843Z
UID:10008535-1738443600-1738447200@olddutchchurch.org
SUMMARY:AA Book Group
DESCRIPTION:
URL:https://olddutchchurch.org/event/aa-book-group/2025-02-01/
END:VEVENT
BEGIN:VEVENT
DTSTART;TZID=America/New_York:20250130T190000
DTEND;TZID=America/New_York:20250130T200000
DTSTAMP:20260419T184208
CREATED:20230131T003704Z
LAST-MODIFIED:20230131T003704Z
UID:10007999-1738263600-1738267200@olddutchchurch.org
SUMMARY:AA
DESCRIPTION:
URL:https://olddutchchurch.org/event/aa/2025-01-30/
END:VEVENT
BEGIN:VEVENT
DTSTART;TZID=America/New_York:20250130T183000
DTEND;TZID=America/New_York:20250130T193000
DTSTAMP:20260419T184208
CREATED:20230131T004310Z
LAST-MODIFIED:20230131T004310Z
UID:10009297-1738261800-1738265400@olddutchchurch.org
SUMMARY:ACA Book Group
DESCRIPTION:Meeting every other week
URL:https://olddutchchurch.org/event/aca-book-group/2025-01-30/
END:VEVENT
BEGIN:VEVENT
DTSTART;TZID=America/New_York:20250129T180000
DTEND;TZID=America/New_York:20250129T210000
DTSTAMP:20260419T184208
CREATED:20230131T003225Z
LAST-MODIFIED:20250624T171339Z
UID:10007046-1738173600-1738184400@olddutchchurch.org
SUMMARY:Ubaka Hill Drum Circle
DESCRIPTION:
URL:https://olddutchchurch.org/event/ubaka-hill-drum-circle/2025-01-29/
END:VEVENT
BEGIN:VEVENT
DTSTART;TZID=America/New_York:20250129T130000
DTEND;TZID=America/New_York:20250129T140000
DTSTAMP:20260419T184209
CREATED:20220621T152107Z
LAST-MODIFIED:20250624T163908Z
UID:10007346-1738155600-1738159200@olddutchchurch.org
SUMMARY:Community Chorus (on hiatus until Fall)
DESCRIPTION:Community Chorus in Bethany Hall
URL:https://olddutchchurch.org/event/community-chorus/2025-01-29/
END:VEVENT
BEGIN:VEVENT
DTSTART;TZID=America/New_York:20250127T190000
DTEND;TZID=America/New_York:20250127T200000
DTSTAMP:20260419T184209
CREATED:20230131T004717Z
LAST-MODIFIED:20230131T004717Z
UID:10009564-1738004400-1738008000@olddutchchurch.org
SUMMARY:Debtors’ Anonymous
DESCRIPTION:
URL:https://olddutchchurch.org/event/debtors-anonymous/2025-01-27/
END:VEVENT
BEGIN:VEVENT
DTSTART;TZID=America/New_York:20250127T170000
DTEND;TZID=America/New_York:20250127T180000
DTSTAMP:20260419T184209
CREATED:20230131T005556Z
LAST-MODIFIED:20230131T005556Z
UID:10009831-1737997200-1738000800@olddutchchurch.org
SUMMARY:SLAA Augustine Fellowship
DESCRIPTION:
URL:https://olddutchchurch.org/event/slaa-augustine-fellowship/2025-01-27/
END:VEVENT
BEGIN:VEVENT
DTSTART;TZID=America/New_York:20250126T190000
DTEND;TZID=America/New_York:20250126T213000
DTSTAMP:20260419T184209
CREATED:20220621T152603Z
LAST-MODIFIED:20230131T005403Z
UID:10008266-1737918000-1737927000@olddutchchurch.org
SUMMARY:SLAA Women’s Group
DESCRIPTION:SLAA in OMG
URL:https://olddutchchurch.org/event/slaa-3/2025-01-26/
END:VEVENT
BEGIN:VEVENT
DTSTART;TZID=America/New_York:20250126T113000
DTEND;TZID=America/New_York:20250126T123000
DTSTAMP:20260419T184209
CREATED:20220621T151126Z
LAST-MODIFIED:20230131T004016Z
UID:10005708-1737891000-1737894600@olddutchchurch.org
SUMMARY:ACA
DESCRIPTION:ACA in OMG
URL:https://olddutchchurch.org/event/aca/2025-01-26/
LOCATION:Old Dutch Church\, Wall Street\, Kingston\, 272 Wall Street\, Kingston\, NY\, 12401\, United States
END:VEVENT
BEGIN:VEVENT
DTSTART;TZID=America/New_York:20250126T103000
DTEND;TZID=America/New_York:20250126T113000
DTSTAMP:20260419T184209
CREATED:20220621T145509Z
LAST-MODIFIED:20230131T010033Z
UID:10005408-1737887400-1737891000@olddutchchurch.org
SUMMARY:Sunday Worship
DESCRIPTION:Sunday worship in the Sanctuary
URL:https://olddutchchurch.org/event/sunday-worship/2025-01-26/
LOCATION:Old Dutch Church\, Wall Street\, Kingston\, 272 Wall Street\, Kingston\, NY\, 12401\, United States
END:VEVENT
BEGIN:VEVENT
DTSTART;TZID=America/New_York:20250125T210000
DTEND;TZID=America/New_York:20250125T220000
DTSTAMP:20260419T184209
CREATED:20230131T003843Z
LAST-MODIFIED:20230131T003843Z
UID:10008534-1737838800-1737842400@olddutchchurch.org
SUMMARY:AA Book Group
DESCRIPTION:
URL:https://olddutchchurch.org/event/aa-book-group/2025-01-25/
END:VEVENT
BEGIN:VEVENT
DTSTART;TZID=America/New_York:20250123T190000
DTEND;TZID=America/New_York:20250123T200000
DTSTAMP:20260419T184209
CREATED:20230131T003704Z
LAST-MODIFIED:20230131T003704Z
UID:10007998-1737658800-1737662400@olddutchchurch.org
SUMMARY:AA
DESCRIPTION:
URL:https://olddutchchurch.org/event/aa/2025-01-23/
END:VEVENT
BEGIN:VEVENT
DTSTART;TZID=America/New_York:20250123T183000
DTEND;TZID=America/New_York:20250123T193000
DTSTAMP:20260419T184209
CREATED:20230131T004310Z
LAST-MODIFIED:20230131T004310Z
UID:10009296-1737657000-1737660600@olddutchchurch.org
SUMMARY:ACA Book Group
DESCRIPTION:Meeting every other week
URL:https://olddutchchurch.org/event/aca-book-group/2025-01-23/
END:VEVENT
BEGIN:VEVENT
DTSTART;TZID=America/New_York:20250122T180000
DTEND;TZID=America/New_York:20250122T210000
DTSTAMP:20260419T184209
CREATED:20230131T003225Z
LAST-MODIFIED:20250624T171339Z
UID:10007045-1737568800-1737579600@olddutchchurch.org
SUMMARY:Ubaka Hill Drum Circle
DESCRIPTION:
URL:https://olddutchchurch.org/event/ubaka-hill-drum-circle/2025-01-22/
END:VEVENT
BEGIN:VEVENT
DTSTART;TZID=America/New_York:20250122T130000
DTEND;TZID=America/New_York:20250122T140000
DTSTAMP:20260419T184209
CREATED:20220621T152107Z
LAST-MODIFIED:20250624T163908Z
UID:10007345-1737550800-1737554400@olddutchchurch.org
SUMMARY:Community Chorus (on hiatus until Fall)
DESCRIPTION:Community Chorus in Bethany Hall
URL:https://olddutchchurch.org/event/community-chorus/2025-01-22/
END:VEVENT
BEGIN:VEVENT
DTSTART;TZID=America/New_York:20250120T190000
DTEND;TZID=America/New_York:20250120T200000
DTSTAMP:20260419T184209
CREATED:20230131T004717Z
LAST-MODIFIED:20230131T004717Z
UID:10009563-1737399600-1737403200@olddutchchurch.org
SUMMARY:Debtors’ Anonymous
DESCRIPTION:
URL:https://olddutchchurch.org/event/debtors-anonymous/2025-01-20/
END:VEVENT
BEGIN:VEVENT
DTSTART;TZID=America/New_York:20250120T170000
DTEND;TZID=America/New_York:20250120T180000
DTSTAMP:20260419T184209
CREATED:20230131T005556Z
LAST-MODIFIED:20230131T005556Z
UID:10009830-1737392400-1737396000@olddutchchurch.org
SUMMARY:SLAA Augustine Fellowship
DESCRIPTION:
URL:https://olddutchchurch.org/event/slaa-augustine-fellowship/2025-01-20/
END:VEVENT
BEGIN:VEVENT
DTSTART;TZID=America/New_York:20250119T190000
DTEND;TZID=America/New_York:20250119T213000
DTSTAMP:20260419T184209
CREATED:20220621T152603Z
LAST-MODIFIED:20230131T005403Z
UID:10008265-1737313200-1737322200@olddutchchurch.org
SUMMARY:SLAA Women’s Group
DESCRIPTION:SLAA in OMG
URL:https://olddutchchurch.org/event/slaa-3/2025-01-19/
END:VEVENT
BEGIN:VEVENT
DTSTART;TZID=America/New_York:20250119T113000
DTEND;TZID=America/New_York:20250119T123000
DTSTAMP:20260419T184209
CREATED:20220621T151126Z
LAST-MODIFIED:20230131T004016Z
UID:10005707-1737286200-1737289800@olddutchchurch.org
SUMMARY:ACA
DESCRIPTION:ACA in OMG
URL:https://olddutchchurch.org/event/aca/2025-01-19/
LOCATION:Old Dutch Church\, Wall Street\, Kingston\, 272 Wall Street\, Kingston\, NY\, 12401\, United States
END:VEVENT
BEGIN:VEVENT
DTSTART;TZID=America/New_York:20250119T103000
DTEND;TZID=America/New_York:20250119T113000
DTSTAMP:20260419T184209
CREATED:20220621T145509Z
LAST-MODIFIED:20230131T010033Z
UID:10005407-1737282600-1737286200@olddutchchurch.org
SUMMARY:Sunday Worship
DESCRIPTION:Sunday worship in the Sanctuary
URL:https://olddutchchurch.org/event/sunday-worship/2025-01-19/
LOCATION:Old Dutch Church\, Wall Street\, Kingston\, 272 Wall Street\, Kingston\, NY\, 12401\, United States
END:VEVENT
BEGIN:VEVENT
DTSTART;TZID=America/New_York:20250118T210000
DTEND;TZID=America/New_York:20250118T220000
DTSTAMP:20260419T184209
CREATED:20230131T003843Z
LAST-MODIFIED:20230131T003843Z
UID:10008533-1737234000-1737237600@olddutchchurch.org
SUMMARY:AA Book Group
DESCRIPTION:
URL:https://olddutchchurch.org/event/aa-book-group/2025-01-18/
END:VEVENT
BEGIN:VEVENT
DTSTART;TZID=America/New_York:20250116T190000
DTEND;TZID=America/New_York:20250116T200000
DTSTAMP:20260419T184209
CREATED:20230131T003704Z
LAST-MODIFIED:20230131T003704Z
UID:10007997-1737054000-1737057600@olddutchchurch.org
SUMMARY:AA
DESCRIPTION:
URL:https://olddutchchurch.org/event/aa/2025-01-16/
END:VEVENT
BEGIN:VEVENT
DTSTART;TZID=America/New_York:20250116T183000
DTEND;TZID=America/New_York:20250116T193000
DTSTAMP:20260419T184209
CREATED:20230131T004310Z
LAST-MODIFIED:20230131T004310Z
UID:10009295-1737052200-1737055800@olddutchchurch.org
SUMMARY:ACA Book Group
DESCRIPTION:Meeting every other week
URL:https://olddutchchurch.org/event/aca-book-group/2025-01-16/
END:VEVENT
BEGIN:VEVENT
DTSTART;TZID=America/New_York:20250115T180000
DTEND;TZID=America/New_York:20250115T210000
DTSTAMP:20260419T184209
CREATED:20230131T003225Z
LAST-MODIFIED:20250624T171339Z
UID:10007044-1736964000-1736974800@olddutchchurch.org
SUMMARY:Ubaka Hill Drum Circle
DESCRIPTION:
URL:https://olddutchchurch.org/event/ubaka-hill-drum-circle/2025-01-15/
END:VEVENT
END:VCALENDAR