BEGIN:VCALENDAR
VERSION:2.0
PRODID:-//Old Dutch Church - ECPv6.15.20//NONSGML v1.0//EN
CALSCALE:GREGORIAN
METHOD:PUBLISH
X-WR-CALNAME:Old Dutch Church
X-ORIGINAL-URL:https://olddutchchurch.org
X-WR-CALDESC:Events for Old Dutch Church
REFRESH-INTERVAL;VALUE=DURATION:PT1H
X-Robots-Tag:noindex
X-PUBLISHED-TTL:PT1H
BEGIN:VTIMEZONE
TZID:America/New_York
BEGIN:DAYLIGHT
TZOFFSETFROM:-0500
TZOFFSETTO:-0400
TZNAME:EDT
DTSTART:20220313T070000
END:DAYLIGHT
BEGIN:STANDARD
TZOFFSETFROM:-0400
TZOFFSETTO:-0500
TZNAME:EST
DTSTART:20221106T060000
END:STANDARD
BEGIN:DAYLIGHT
TZOFFSETFROM:-0500
TZOFFSETTO:-0400
TZNAME:EDT
DTSTART:20230312T070000
END:DAYLIGHT
BEGIN:STANDARD
TZOFFSETFROM:-0400
TZOFFSETTO:-0500
TZNAME:EST
DTSTART:20231105T060000
END:STANDARD
BEGIN:DAYLIGHT
TZOFFSETFROM:-0500
TZOFFSETTO:-0400
TZNAME:EDT
DTSTART:20240310T070000
END:DAYLIGHT
BEGIN:STANDARD
TZOFFSETFROM:-0400
TZOFFSETTO:-0500
TZNAME:EST
DTSTART:20241103T060000
END:STANDARD
END:VTIMEZONE
BEGIN:VEVENT
DTSTART;TZID=America/New_York:20230911T170000
DTEND;TZID=America/New_York:20230911T180000
DTSTAMP:20260419T203032
CREATED:20230131T005556Z
LAST-MODIFIED:20230131T005556Z
UID:10009759-1694451600-1694455200@olddutchchurch.org
SUMMARY:SLAA Augustine Fellowship
DESCRIPTION:
URL:https://olddutchchurch.org/event/slaa-augustine-fellowship/2023-09-11/
END:VEVENT
BEGIN:VEVENT
DTSTART;TZID=America/New_York:20230910T190000
DTEND;TZID=America/New_York:20230910T213000
DTSTAMP:20260419T203032
CREATED:20220621T152603Z
LAST-MODIFIED:20230131T005403Z
UID:10008194-1694372400-1694381400@olddutchchurch.org
SUMMARY:SLAA Women’s Group
DESCRIPTION:SLAA in OMG
URL:https://olddutchchurch.org/event/slaa-3/2023-09-10/
END:VEVENT
BEGIN:VEVENT
DTSTART;TZID=America/New_York:20230910T180000
DTEND;TZID=America/New_York:20230910T203000
DTSTAMP:20260419T203032
CREATED:20220621T151545Z
LAST-MODIFIED:20230131T001910Z
UID:10005975-1694368800-1694377800@olddutchchurch.org
SUMMARY:ARS Choralis
DESCRIPTION:ARS Choralis in Bethany Hall
URL:https://olddutchchurch.org/event/ars-choralis/2023-09-10/
END:VEVENT
BEGIN:VEVENT
DTSTART;TZID=America/New_York:20230910T113000
DTEND;TZID=America/New_York:20230910T123000
DTSTAMP:20260419T203032
CREATED:20220621T151126Z
LAST-MODIFIED:20230131T004016Z
UID:10005636-1694345400-1694349000@olddutchchurch.org
SUMMARY:ACA
DESCRIPTION:ACA in OMG
URL:https://olddutchchurch.org/event/aca/2023-09-10/
LOCATION:Old Dutch Church\, Wall Street\, Kingston\, 272 Wall Street\, Kingston\, NY\, 12401\, United States
END:VEVENT
BEGIN:VEVENT
DTSTART;TZID=America/New_York:20230910T103000
DTEND;TZID=America/New_York:20230910T113000
DTSTAMP:20260419T203032
CREATED:20220621T145509Z
LAST-MODIFIED:20230131T010033Z
UID:10005336-1694341800-1694345400@olddutchchurch.org
SUMMARY:Sunday Worship
DESCRIPTION:Sunday worship in the Sanctuary
URL:https://olddutchchurch.org/event/sunday-worship/2023-09-10/
LOCATION:Old Dutch Church\, Wall Street\, Kingston\, 272 Wall Street\, Kingston\, NY\, 12401\, United States
END:VEVENT
BEGIN:VEVENT
DTSTART;TZID=America/New_York:20230909T210000
DTEND;TZID=America/New_York:20230909T220000
DTSTAMP:20260419T203032
CREATED:20230131T003843Z
LAST-MODIFIED:20230131T003843Z
UID:10008462-1694293200-1694296800@olddutchchurch.org
SUMMARY:AA Book Group
DESCRIPTION:
URL:https://olddutchchurch.org/event/aa-book-group/2023-09-09/
END:VEVENT
BEGIN:VEVENT
DTSTART;TZID=America/New_York:20230907T190000
DTEND;TZID=America/New_York:20230907T200000
DTSTAMP:20260419T203032
CREATED:20230131T003704Z
LAST-MODIFIED:20230131T003704Z
UID:10007926-1694113200-1694116800@olddutchchurch.org
SUMMARY:AA
DESCRIPTION:
URL:https://olddutchchurch.org/event/aa/2023-09-07/
END:VEVENT
BEGIN:VEVENT
DTSTART;TZID=America/New_York:20230907T183000
DTEND;TZID=America/New_York:20230907T193000
DTSTAMP:20260419T203032
CREATED:20230131T004310Z
LAST-MODIFIED:20230131T004310Z
UID:10009224-1694111400-1694115000@olddutchchurch.org
SUMMARY:ACA Book Group
DESCRIPTION:Meeting every other week
URL:https://olddutchchurch.org/event/aca-book-group/2023-09-07/
END:VEVENT
BEGIN:VEVENT
DTSTART;TZID=America/New_York:20230906T180000
DTEND;TZID=America/New_York:20230906T210000
DTSTAMP:20260419T203032
CREATED:20230131T003225Z
LAST-MODIFIED:20250624T171339Z
UID:10006973-1694023200-1694034000@olddutchchurch.org
SUMMARY:Ubaka Hill Drum Circle
DESCRIPTION:
URL:https://olddutchchurch.org/event/ubaka-hill-drum-circle/2023-09-06/
END:VEVENT
BEGIN:VEVENT
DTSTART;TZID=America/New_York:20230906T130000
DTEND;TZID=America/New_York:20230906T140000
DTSTAMP:20260419T203032
CREATED:20220621T152107Z
LAST-MODIFIED:20250624T163908Z
UID:10007273-1694005200-1694008800@olddutchchurch.org
SUMMARY:Community Chorus (on hiatus until Fall)
DESCRIPTION:Community Chorus in Bethany Hall
URL:https://olddutchchurch.org/event/community-chorus/2023-09-06/
END:VEVENT
BEGIN:VEVENT
DTSTART;TZID=America/New_York:20230904T190000
DTEND;TZID=America/New_York:20230904T200000
DTSTAMP:20260419T203032
CREATED:20230131T004717Z
LAST-MODIFIED:20230131T004717Z
UID:10009491-1693854000-1693857600@olddutchchurch.org
SUMMARY:Debtors’ Anonymous
DESCRIPTION:
URL:https://olddutchchurch.org/event/debtors-anonymous/2023-09-04/
END:VEVENT
BEGIN:VEVENT
DTSTART;TZID=America/New_York:20230904T170000
DTEND;TZID=America/New_York:20230904T180000
DTSTAMP:20260419T203032
CREATED:20230131T005556Z
LAST-MODIFIED:20230131T005556Z
UID:10009758-1693846800-1693850400@olddutchchurch.org
SUMMARY:SLAA Augustine Fellowship
DESCRIPTION:
URL:https://olddutchchurch.org/event/slaa-augustine-fellowship/2023-09-04/
END:VEVENT
BEGIN:VEVENT
DTSTART;TZID=America/New_York:20230903T190000
DTEND;TZID=America/New_York:20230903T213000
DTSTAMP:20260419T203032
CREATED:20220621T152603Z
LAST-MODIFIED:20230131T005403Z
UID:10008193-1693767600-1693776600@olddutchchurch.org
SUMMARY:SLAA Women’s Group
DESCRIPTION:SLAA in OMG
URL:https://olddutchchurch.org/event/slaa-3/2023-09-03/
END:VEVENT
BEGIN:VEVENT
DTSTART;TZID=America/New_York:20230903T180000
DTEND;TZID=America/New_York:20230903T203000
DTSTAMP:20260419T203032
CREATED:20220621T151545Z
LAST-MODIFIED:20230131T001910Z
UID:10005974-1693764000-1693773000@olddutchchurch.org
SUMMARY:ARS Choralis
DESCRIPTION:ARS Choralis in Bethany Hall
URL:https://olddutchchurch.org/event/ars-choralis/2023-09-03/
END:VEVENT
BEGIN:VEVENT
DTSTART;TZID=America/New_York:20230903T113000
DTEND;TZID=America/New_York:20230903T123000
DTSTAMP:20260419T203032
CREATED:20220621T151126Z
LAST-MODIFIED:20230131T004016Z
UID:10005635-1693740600-1693744200@olddutchchurch.org
SUMMARY:ACA
DESCRIPTION:ACA in OMG
URL:https://olddutchchurch.org/event/aca/2023-09-03/
LOCATION:Old Dutch Church\, Wall Street\, Kingston\, 272 Wall Street\, Kingston\, NY\, 12401\, United States
END:VEVENT
BEGIN:VEVENT
DTSTART;TZID=America/New_York:20230903T103000
DTEND;TZID=America/New_York:20230903T113000
DTSTAMP:20260419T203032
CREATED:20220621T145509Z
LAST-MODIFIED:20230131T010033Z
UID:10005335-1693737000-1693740600@olddutchchurch.org
SUMMARY:Sunday Worship
DESCRIPTION:Sunday worship in the Sanctuary
URL:https://olddutchchurch.org/event/sunday-worship/2023-09-03/
LOCATION:Old Dutch Church\, Wall Street\, Kingston\, 272 Wall Street\, Kingston\, NY\, 12401\, United States
END:VEVENT
BEGIN:VEVENT
DTSTART;TZID=America/New_York:20230902T210000
DTEND;TZID=America/New_York:20230902T220000
DTSTAMP:20260419T203032
CREATED:20230131T003843Z
LAST-MODIFIED:20230131T003843Z
UID:10008461-1693688400-1693692000@olddutchchurch.org
SUMMARY:AA Book Group
DESCRIPTION:
URL:https://olddutchchurch.org/event/aa-book-group/2023-09-02/
END:VEVENT
BEGIN:VEVENT
DTSTART;TZID=America/New_York:20230831T190000
DTEND;TZID=America/New_York:20230831T200000
DTSTAMP:20260419T203032
CREATED:20230131T003704Z
LAST-MODIFIED:20230131T003704Z
UID:10007925-1693508400-1693512000@olddutchchurch.org
SUMMARY:AA
DESCRIPTION:
URL:https://olddutchchurch.org/event/aa/2023-08-31/
END:VEVENT
BEGIN:VEVENT
DTSTART;TZID=America/New_York:20230831T183000
DTEND;TZID=America/New_York:20230831T193000
DTSTAMP:20260419T203032
CREATED:20230131T004310Z
LAST-MODIFIED:20230131T004310Z
UID:10009223-1693506600-1693510200@olddutchchurch.org
SUMMARY:ACA Book Group
DESCRIPTION:Meeting every other week
URL:https://olddutchchurch.org/event/aca-book-group/2023-08-31/
END:VEVENT
BEGIN:VEVENT
DTSTART;TZID=America/New_York:20230830T180000
DTEND;TZID=America/New_York:20230830T210000
DTSTAMP:20260419T203032
CREATED:20230131T003225Z
LAST-MODIFIED:20250624T171339Z
UID:10006972-1693418400-1693429200@olddutchchurch.org
SUMMARY:Ubaka Hill Drum Circle
DESCRIPTION:
URL:https://olddutchchurch.org/event/ubaka-hill-drum-circle/2023-08-30/
END:VEVENT
BEGIN:VEVENT
DTSTART;TZID=America/New_York:20230830T130000
DTEND;TZID=America/New_York:20230830T140000
DTSTAMP:20260419T203032
CREATED:20220621T152107Z
LAST-MODIFIED:20250624T163908Z
UID:10007272-1693400400-1693404000@olddutchchurch.org
SUMMARY:Community Chorus (on hiatus until Fall)
DESCRIPTION:Community Chorus in Bethany Hall
URL:https://olddutchchurch.org/event/community-chorus/2023-08-30/
END:VEVENT
BEGIN:VEVENT
DTSTART;TZID=America/New_York:20230828T190000
DTEND;TZID=America/New_York:20230828T200000
DTSTAMP:20260419T203032
CREATED:20230131T004717Z
LAST-MODIFIED:20230131T004717Z
UID:10009490-1693249200-1693252800@olddutchchurch.org
SUMMARY:Debtors’ Anonymous
DESCRIPTION:
URL:https://olddutchchurch.org/event/debtors-anonymous/2023-08-28/
END:VEVENT
BEGIN:VEVENT
DTSTART;TZID=America/New_York:20230828T170000
DTEND;TZID=America/New_York:20230828T180000
DTSTAMP:20260419T203032
CREATED:20230131T005556Z
LAST-MODIFIED:20230131T005556Z
UID:10009757-1693242000-1693245600@olddutchchurch.org
SUMMARY:SLAA Augustine Fellowship
DESCRIPTION:
URL:https://olddutchchurch.org/event/slaa-augustine-fellowship/2023-08-28/
END:VEVENT
BEGIN:VEVENT
DTSTART;TZID=America/New_York:20230827T190000
DTEND;TZID=America/New_York:20230827T213000
DTSTAMP:20260419T203032
CREATED:20220621T152603Z
LAST-MODIFIED:20230131T005403Z
UID:10008192-1693162800-1693171800@olddutchchurch.org
SUMMARY:SLAA Women’s Group
DESCRIPTION:SLAA in OMG
URL:https://olddutchchurch.org/event/slaa-3/2023-08-27/
END:VEVENT
BEGIN:VEVENT
DTSTART;TZID=America/New_York:20230827T180000
DTEND;TZID=America/New_York:20230827T203000
DTSTAMP:20260419T203032
CREATED:20220621T151545Z
LAST-MODIFIED:20230131T001910Z
UID:10005973-1693159200-1693168200@olddutchchurch.org
SUMMARY:ARS Choralis
DESCRIPTION:ARS Choralis in Bethany Hall
URL:https://olddutchchurch.org/event/ars-choralis/2023-08-27/
END:VEVENT
BEGIN:VEVENT
DTSTART;TZID=America/New_York:20230827T113000
DTEND;TZID=America/New_York:20230827T123000
DTSTAMP:20260419T203032
CREATED:20220621T151126Z
LAST-MODIFIED:20230131T004016Z
UID:10005634-1693135800-1693139400@olddutchchurch.org
SUMMARY:ACA
DESCRIPTION:ACA in OMG
URL:https://olddutchchurch.org/event/aca/2023-08-27/
LOCATION:Old Dutch Church\, Wall Street\, Kingston\, 272 Wall Street\, Kingston\, NY\, 12401\, United States
END:VEVENT
BEGIN:VEVENT
DTSTART;TZID=America/New_York:20230827T103000
DTEND;TZID=America/New_York:20230827T113000
DTSTAMP:20260419T203032
CREATED:20220621T145509Z
LAST-MODIFIED:20230131T010033Z
UID:10005334-1693132200-1693135800@olddutchchurch.org
SUMMARY:Sunday Worship
DESCRIPTION:Sunday worship in the Sanctuary
URL:https://olddutchchurch.org/event/sunday-worship/2023-08-27/
LOCATION:Old Dutch Church\, Wall Street\, Kingston\, 272 Wall Street\, Kingston\, NY\, 12401\, United States
END:VEVENT
BEGIN:VEVENT
DTSTART;TZID=America/New_York:20230826T210000
DTEND;TZID=America/New_York:20230826T220000
DTSTAMP:20260419T203032
CREATED:20230131T003843Z
LAST-MODIFIED:20230131T003843Z
UID:10008460-1693083600-1693087200@olddutchchurch.org
SUMMARY:AA Book Group
DESCRIPTION:
URL:https://olddutchchurch.org/event/aa-book-group/2023-08-26/
END:VEVENT
BEGIN:VEVENT
DTSTART;TZID=America/New_York:20230824T190000
DTEND;TZID=America/New_York:20230824T200000
DTSTAMP:20260419T203032
CREATED:20230131T003704Z
LAST-MODIFIED:20230131T003704Z
UID:10007924-1692903600-1692907200@olddutchchurch.org
SUMMARY:AA
DESCRIPTION:
URL:https://olddutchchurch.org/event/aa/2023-08-24/
END:VEVENT
BEGIN:VEVENT
DTSTART;TZID=America/New_York:20230824T183000
DTEND;TZID=America/New_York:20230824T193000
DTSTAMP:20260419T203032
CREATED:20230131T004310Z
LAST-MODIFIED:20230131T004310Z
UID:10009222-1692901800-1692905400@olddutchchurch.org
SUMMARY:ACA Book Group
DESCRIPTION:Meeting every other week
URL:https://olddutchchurch.org/event/aca-book-group/2023-08-24/
END:VEVENT
END:VCALENDAR