BEGIN:VCALENDAR
VERSION:2.0
PRODID:-//Old Dutch Church - ECPv6.15.20//NONSGML v1.0//EN
CALSCALE:GREGORIAN
METHOD:PUBLISH
X-WR-CALNAME:Old Dutch Church
X-ORIGINAL-URL:https://olddutchchurch.org
X-WR-CALDESC:Events for Old Dutch Church
REFRESH-INTERVAL;VALUE=DURATION:PT1H
X-Robots-Tag:noindex
X-PUBLISHED-TTL:PT1H
BEGIN:VTIMEZONE
TZID:America/New_York
BEGIN:DAYLIGHT
TZOFFSETFROM:-0500
TZOFFSETTO:-0400
TZNAME:EDT
DTSTART:20260308T070000
END:DAYLIGHT
BEGIN:STANDARD
TZOFFSETFROM:-0400
TZOFFSETTO:-0500
TZNAME:EST
DTSTART:20261101T060000
END:STANDARD
BEGIN:DAYLIGHT
TZOFFSETFROM:-0500
TZOFFSETTO:-0400
TZNAME:EDT
DTSTART:20270314T070000
END:DAYLIGHT
BEGIN:STANDARD
TZOFFSETFROM:-0400
TZOFFSETTO:-0500
TZNAME:EST
DTSTART:20271107T060000
END:STANDARD
BEGIN:DAYLIGHT
TZOFFSETFROM:-0500
TZOFFSETTO:-0400
TZNAME:EDT
DTSTART:20280312T070000
END:DAYLIGHT
BEGIN:STANDARD
TZOFFSETFROM:-0400
TZOFFSETTO:-0500
TZNAME:EST
DTSTART:20281105T060000
END:STANDARD
END:VTIMEZONE
BEGIN:VEVENT
DTSTART;TZID=America/New_York:20270620T103000
DTEND;TZID=America/New_York:20270620T113000
DTSTAMP:20260419T170128
CREATED:20220621T145509Z
LAST-MODIFIED:20230131T010033Z
UID:10005533-1813487400-1813491000@olddutchchurch.org
SUMMARY:Sunday Worship
DESCRIPTION:Sunday worship in the Sanctuary
URL:https://olddutchchurch.org/event/sunday-worship/2027-06-20/
LOCATION:Old Dutch Church\, Wall Street\, Kingston\, 272 Wall Street\, Kingston\, NY\, 12401\, United States
END:VEVENT
BEGIN:VEVENT
DTSTART;TZID=America/New_York:20270620T113000
DTEND;TZID=America/New_York:20270620T123000
DTSTAMP:20260419T170128
CREATED:20220621T151126Z
LAST-MODIFIED:20230131T004016Z
UID:10005833-1813491000-1813494600@olddutchchurch.org
SUMMARY:ACA
DESCRIPTION:ACA in OMG
URL:https://olddutchchurch.org/event/aca/2027-06-20/
LOCATION:Old Dutch Church\, Wall Street\, Kingston\, 272 Wall Street\, Kingston\, NY\, 12401\, United States
END:VEVENT
BEGIN:VEVENT
DTSTART;TZID=America/New_York:20270620T190000
DTEND;TZID=America/New_York:20270620T213000
DTSTAMP:20260419T170128
CREATED:20220621T152603Z
LAST-MODIFIED:20230131T005403Z
UID:10008391-1813518000-1813527000@olddutchchurch.org
SUMMARY:SLAA Women’s Group
DESCRIPTION:SLAA in OMG
URL:https://olddutchchurch.org/event/slaa-3/2027-06-20/
END:VEVENT
BEGIN:VEVENT
DTSTART;TZID=America/New_York:20270621T170000
DTEND;TZID=America/New_York:20270621T180000
DTSTAMP:20260419T170128
CREATED:20230131T005556Z
LAST-MODIFIED:20230131T005556Z
UID:10009956-1813597200-1813600800@olddutchchurch.org
SUMMARY:SLAA Augustine Fellowship
DESCRIPTION:
URL:https://olddutchchurch.org/event/slaa-augustine-fellowship/2027-06-21/
END:VEVENT
BEGIN:VEVENT
DTSTART;TZID=America/New_York:20270621T183000
DTEND;TZID=America/New_York:20270621T210000
DTSTAMP:20260419T170128
CREATED:20250624T172435Z
LAST-MODIFIED:20250624T172436Z
UID:10006336-1813602600-1813611600@olddutchchurch.org
SUMMARY:Mendelssohn Club
DESCRIPTION:
URL:https://olddutchchurch.org/event/mendelssohn-club-2-2/2027-06-21/
END:VEVENT
BEGIN:VEVENT
DTSTART;TZID=America/New_York:20270621T190000
DTEND;TZID=America/New_York:20270621T200000
DTSTAMP:20260419T170128
CREATED:20230131T004717Z
LAST-MODIFIED:20230131T004717Z
UID:10009689-1813604400-1813608000@olddutchchurch.org
SUMMARY:Debtors’ Anonymous
DESCRIPTION:
URL:https://olddutchchurch.org/event/debtors-anonymous/2027-06-21/
END:VEVENT
BEGIN:VEVENT
DTSTART;TZID=America/New_York:20270623T120000
DTEND;TZID=America/New_York:20270623T130000
DTSTAMP:20260419T170128
CREATED:20250625T194104Z
LAST-MODIFIED:20250625T194104Z
UID:10011782-1813752000-1813755600@olddutchchurch.org
SUMMARY:ACA
DESCRIPTION:
URL:https://olddutchchurch.org/event/aca-2/2027-06-23/
END:VEVENT
BEGIN:VEVENT
DTSTART;TZID=America/New_York:20270623T130000
DTEND;TZID=America/New_York:20270623T140000
DTSTAMP:20260419T170128
CREATED:20220621T152107Z
LAST-MODIFIED:20250624T163908Z
UID:10007471-1813755600-1813759200@olddutchchurch.org
SUMMARY:Community Chorus (on hiatus until Fall)
DESCRIPTION:Community Chorus in Bethany Hall
URL:https://olddutchchurch.org/event/community-chorus/2027-06-23/
END:VEVENT
BEGIN:VEVENT
DTSTART;TZID=America/New_York:20270623T180000
DTEND;TZID=America/New_York:20270623T210000
DTSTAMP:20260419T170128
CREATED:20230131T003225Z
LAST-MODIFIED:20250624T171339Z
UID:10007171-1813773600-1813784400@olddutchchurch.org
SUMMARY:Ubaka Hill Drum Circle
DESCRIPTION:
URL:https://olddutchchurch.org/event/ubaka-hill-drum-circle/2027-06-23/
END:VEVENT
BEGIN:VEVENT
DTSTART;TZID=America/New_York:20270624T183000
DTEND;TZID=America/New_York:20270624T193000
DTSTAMP:20260419T170128
CREATED:20230131T004310Z
LAST-MODIFIED:20230131T004310Z
UID:10009422-1813861800-1813865400@olddutchchurch.org
SUMMARY:ACA Book Group
DESCRIPTION:Meeting every other week
URL:https://olddutchchurch.org/event/aca-book-group/2027-06-24/
END:VEVENT
BEGIN:VEVENT
DTSTART;TZID=America/New_York:20270624T190000
DTEND;TZID=America/New_York:20270624T200000
DTSTAMP:20260419T170128
CREATED:20230131T003704Z
LAST-MODIFIED:20230131T003704Z
UID:10008124-1813863600-1813867200@olddutchchurch.org
SUMMARY:AA
DESCRIPTION:
URL:https://olddutchchurch.org/event/aa/2027-06-24/
END:VEVENT
BEGIN:VEVENT
DTSTART;TZID=America/New_York:20270626T210000
DTEND;TZID=America/New_York:20270626T220000
DTSTAMP:20260419T170128
CREATED:20230131T003843Z
LAST-MODIFIED:20230131T003843Z
UID:10008660-1814043600-1814047200@olddutchchurch.org
SUMMARY:AA Book Group
DESCRIPTION:
URL:https://olddutchchurch.org/event/aa-book-group/2027-06-26/
END:VEVENT
BEGIN:VEVENT
DTSTART;TZID=America/New_York:20270627T103000
DTEND;TZID=America/New_York:20270627T113000
DTSTAMP:20260419T170128
CREATED:20220621T145509Z
LAST-MODIFIED:20230131T010033Z
UID:10005534-1814092200-1814095800@olddutchchurch.org
SUMMARY:Sunday Worship
DESCRIPTION:Sunday worship in the Sanctuary
URL:https://olddutchchurch.org/event/sunday-worship/2027-06-27/
LOCATION:Old Dutch Church\, Wall Street\, Kingston\, 272 Wall Street\, Kingston\, NY\, 12401\, United States
END:VEVENT
BEGIN:VEVENT
DTSTART;TZID=America/New_York:20270627T113000
DTEND;TZID=America/New_York:20270627T123000
DTSTAMP:20260419T170128
CREATED:20220621T151126Z
LAST-MODIFIED:20230131T004016Z
UID:10005834-1814095800-1814099400@olddutchchurch.org
SUMMARY:ACA
DESCRIPTION:ACA in OMG
URL:https://olddutchchurch.org/event/aca/2027-06-27/
LOCATION:Old Dutch Church\, Wall Street\, Kingston\, 272 Wall Street\, Kingston\, NY\, 12401\, United States
END:VEVENT
BEGIN:VEVENT
DTSTART;TZID=America/New_York:20270627T190000
DTEND;TZID=America/New_York:20270627T213000
DTSTAMP:20260419T170128
CREATED:20220621T152603Z
LAST-MODIFIED:20230131T005403Z
UID:10008392-1814122800-1814131800@olddutchchurch.org
SUMMARY:SLAA Women’s Group
DESCRIPTION:SLAA in OMG
URL:https://olddutchchurch.org/event/slaa-3/2027-06-27/
END:VEVENT
BEGIN:VEVENT
DTSTART;TZID=America/New_York:20270628T170000
DTEND;TZID=America/New_York:20270628T180000
DTSTAMP:20260419T170128
CREATED:20230131T005556Z
LAST-MODIFIED:20230131T005556Z
UID:10009957-1814202000-1814205600@olddutchchurch.org
SUMMARY:SLAA Augustine Fellowship
DESCRIPTION:
URL:https://olddutchchurch.org/event/slaa-augustine-fellowship/2027-06-28/
END:VEVENT
BEGIN:VEVENT
DTSTART;TZID=America/New_York:20270628T183000
DTEND;TZID=America/New_York:20270628T210000
DTSTAMP:20260419T170128
CREATED:20250624T172435Z
LAST-MODIFIED:20250624T172436Z
UID:10006337-1814207400-1814216400@olddutchchurch.org
SUMMARY:Mendelssohn Club
DESCRIPTION:
URL:https://olddutchchurch.org/event/mendelssohn-club-2-2/2027-06-28/
END:VEVENT
BEGIN:VEVENT
DTSTART;TZID=America/New_York:20270628T190000
DTEND;TZID=America/New_York:20270628T200000
DTSTAMP:20260419T170128
CREATED:20230131T004717Z
LAST-MODIFIED:20230131T004717Z
UID:10009690-1814209200-1814212800@olddutchchurch.org
SUMMARY:Debtors’ Anonymous
DESCRIPTION:
URL:https://olddutchchurch.org/event/debtors-anonymous/2027-06-28/
END:VEVENT
BEGIN:VEVENT
DTSTART;TZID=America/New_York:20270630T120000
DTEND;TZID=America/New_York:20270630T130000
DTSTAMP:20260419T170128
CREATED:20250625T194104Z
LAST-MODIFIED:20250625T194104Z
UID:10011783-1814356800-1814360400@olddutchchurch.org
SUMMARY:ACA
DESCRIPTION:
URL:https://olddutchchurch.org/event/aca-2/2027-06-30/
END:VEVENT
BEGIN:VEVENT
DTSTART;TZID=America/New_York:20270630T130000
DTEND;TZID=America/New_York:20270630T140000
DTSTAMP:20260419T170128
CREATED:20220621T152107Z
LAST-MODIFIED:20250624T163908Z
UID:10007472-1814360400-1814364000@olddutchchurch.org
SUMMARY:Community Chorus (on hiatus until Fall)
DESCRIPTION:Community Chorus in Bethany Hall
URL:https://olddutchchurch.org/event/community-chorus/2027-06-30/
END:VEVENT
BEGIN:VEVENT
DTSTART;TZID=America/New_York:20270630T180000
DTEND;TZID=America/New_York:20270630T210000
DTSTAMP:20260419T170128
CREATED:20230131T003225Z
LAST-MODIFIED:20250624T171339Z
UID:10007172-1814378400-1814389200@olddutchchurch.org
SUMMARY:Ubaka Hill Drum Circle
DESCRIPTION:
URL:https://olddutchchurch.org/event/ubaka-hill-drum-circle/2027-06-30/
END:VEVENT
BEGIN:VEVENT
DTSTART;TZID=America/New_York:20270701T183000
DTEND;TZID=America/New_York:20270701T193000
DTSTAMP:20260419T170128
CREATED:20230131T004310Z
LAST-MODIFIED:20230131T004310Z
UID:10009423-1814466600-1814470200@olddutchchurch.org
SUMMARY:ACA Book Group
DESCRIPTION:Meeting every other week
URL:https://olddutchchurch.org/event/aca-book-group/2027-07-01/
END:VEVENT
BEGIN:VEVENT
DTSTART;TZID=America/New_York:20270701T190000
DTEND;TZID=America/New_York:20270701T200000
DTSTAMP:20260419T170128
CREATED:20230131T003704Z
LAST-MODIFIED:20230131T003704Z
UID:10008125-1814468400-1814472000@olddutchchurch.org
SUMMARY:AA
DESCRIPTION:
URL:https://olddutchchurch.org/event/aa/2027-07-01/
END:VEVENT
BEGIN:VEVENT
DTSTART;TZID=America/New_York:20270703T210000
DTEND;TZID=America/New_York:20270703T220000
DTSTAMP:20260419T170128
CREATED:20230131T003843Z
LAST-MODIFIED:20230131T003843Z
UID:10008661-1814648400-1814652000@olddutchchurch.org
SUMMARY:AA Book Group
DESCRIPTION:
URL:https://olddutchchurch.org/event/aa-book-group/2027-07-03/
END:VEVENT
BEGIN:VEVENT
DTSTART;TZID=America/New_York:20270704T103000
DTEND;TZID=America/New_York:20270704T113000
DTSTAMP:20260419T170128
CREATED:20220621T145509Z
LAST-MODIFIED:20230131T010033Z
UID:10005535-1814697000-1814700600@olddutchchurch.org
SUMMARY:Sunday Worship
DESCRIPTION:Sunday worship in the Sanctuary
URL:https://olddutchchurch.org/event/sunday-worship/2027-07-04/
LOCATION:Old Dutch Church\, Wall Street\, Kingston\, 272 Wall Street\, Kingston\, NY\, 12401\, United States
END:VEVENT
BEGIN:VEVENT
DTSTART;TZID=America/New_York:20270704T113000
DTEND;TZID=America/New_York:20270704T123000
DTSTAMP:20260419T170128
CREATED:20220621T151126Z
LAST-MODIFIED:20230131T004016Z
UID:10005835-1814700600-1814704200@olddutchchurch.org
SUMMARY:ACA
DESCRIPTION:ACA in OMG
URL:https://olddutchchurch.org/event/aca/2027-07-04/
LOCATION:Old Dutch Church\, Wall Street\, Kingston\, 272 Wall Street\, Kingston\, NY\, 12401\, United States
END:VEVENT
BEGIN:VEVENT
DTSTART;TZID=America/New_York:20270704T190000
DTEND;TZID=America/New_York:20270704T213000
DTSTAMP:20260419T170128
CREATED:20220621T152603Z
LAST-MODIFIED:20230131T005403Z
UID:10008393-1814727600-1814736600@olddutchchurch.org
SUMMARY:SLAA Women’s Group
DESCRIPTION:SLAA in OMG
URL:https://olddutchchurch.org/event/slaa-3/2027-07-04/
END:VEVENT
BEGIN:VEVENT
DTSTART;TZID=America/New_York:20270705T170000
DTEND;TZID=America/New_York:20270705T180000
DTSTAMP:20260419T170128
CREATED:20230131T005556Z
LAST-MODIFIED:20230131T005556Z
UID:10009958-1814806800-1814810400@olddutchchurch.org
SUMMARY:SLAA Augustine Fellowship
DESCRIPTION:
URL:https://olddutchchurch.org/event/slaa-augustine-fellowship/2027-07-05/
END:VEVENT
BEGIN:VEVENT
DTSTART;TZID=America/New_York:20270705T183000
DTEND;TZID=America/New_York:20270705T210000
DTSTAMP:20260419T170128
CREATED:20250624T172435Z
LAST-MODIFIED:20250624T172436Z
UID:10006338-1814812200-1814821200@olddutchchurch.org
SUMMARY:Mendelssohn Club
DESCRIPTION:
URL:https://olddutchchurch.org/event/mendelssohn-club-2-2/2027-07-05/
END:VEVENT
BEGIN:VEVENT
DTSTART;TZID=America/New_York:20270705T190000
DTEND;TZID=America/New_York:20270705T200000
DTSTAMP:20260419T170128
CREATED:20230131T004717Z
LAST-MODIFIED:20230131T004717Z
UID:10009691-1814814000-1814817600@olddutchchurch.org
SUMMARY:Debtors’ Anonymous
DESCRIPTION:
URL:https://olddutchchurch.org/event/debtors-anonymous/2027-07-05/
END:VEVENT
END:VCALENDAR