BEGIN:VCALENDAR
VERSION:2.0
PRODID:-//Old Dutch Church - ECPv6.15.20//NONSGML v1.0//EN
CALSCALE:GREGORIAN
METHOD:PUBLISH
X-ORIGINAL-URL:https://olddutchchurch.org
X-WR-CALDESC:Events for Old Dutch Church
REFRESH-INTERVAL;VALUE=DURATION:PT1H
X-Robots-Tag:noindex
X-PUBLISHED-TTL:PT1H
BEGIN:VTIMEZONE
TZID:America/New_York
BEGIN:DAYLIGHT
TZOFFSETFROM:-0500
TZOFFSETTO:-0400
TZNAME:EDT
DTSTART:20220313T070000
END:DAYLIGHT
BEGIN:STANDARD
TZOFFSETFROM:-0400
TZOFFSETTO:-0500
TZNAME:EST
DTSTART:20221106T060000
END:STANDARD
BEGIN:DAYLIGHT
TZOFFSETFROM:-0500
TZOFFSETTO:-0400
TZNAME:EDT
DTSTART:20230312T070000
END:DAYLIGHT
BEGIN:STANDARD
TZOFFSETFROM:-0400
TZOFFSETTO:-0500
TZNAME:EST
DTSTART:20231105T060000
END:STANDARD
BEGIN:DAYLIGHT
TZOFFSETFROM:-0500
TZOFFSETTO:-0400
TZNAME:EDT
DTSTART:20240310T070000
END:DAYLIGHT
BEGIN:STANDARD
TZOFFSETFROM:-0400
TZOFFSETTO:-0500
TZNAME:EST
DTSTART:20241103T060000
END:STANDARD
END:VTIMEZONE
BEGIN:VEVENT
DTSTART;TZID=America/New_York:20230427T190000
DTEND;TZID=America/New_York:20230427T200000
DTSTAMP:20260421T144152
CREATED:20230131T003704Z
LAST-MODIFIED:20230131T003704Z
UID:10007907-1682622000-1682625600@olddutchchurch.org
SUMMARY:AA
DESCRIPTION:
URL:https://olddutchchurch.org/event/aa/2023-04-27/
END:VEVENT
BEGIN:VEVENT
DTSTART;TZID=America/New_York:20230429T210000
DTEND;TZID=America/New_York:20230429T220000
DTSTAMP:20260421T144152
CREATED:20230131T003843Z
LAST-MODIFIED:20230131T003843Z
UID:10008443-1682802000-1682805600@olddutchchurch.org
SUMMARY:AA Book Group
DESCRIPTION:
URL:https://olddutchchurch.org/event/aa-book-group/2023-04-29/
END:VEVENT
BEGIN:VEVENT
DTSTART;TZID=America/New_York:20230430T103000
DTEND;TZID=America/New_York:20230430T113000
DTSTAMP:20260421T144152
CREATED:20220621T145509Z
LAST-MODIFIED:20230131T010033Z
UID:10005317-1682850600-1682854200@olddutchchurch.org
SUMMARY:Sunday Worship
DESCRIPTION:Sunday worship in the Sanctuary
URL:https://olddutchchurch.org/event/sunday-worship/2023-04-30/
LOCATION:Old Dutch Church\, Wall Street\, Kingston\, 272 Wall Street\, Kingston\, NY\, 12401\, United States
END:VEVENT
BEGIN:VEVENT
DTSTART;TZID=America/New_York:20230430T113000
DTEND;TZID=America/New_York:20230430T123000
DTSTAMP:20260421T144152
CREATED:20220621T151126Z
LAST-MODIFIED:20230131T004016Z
UID:10005617-1682854200-1682857800@olddutchchurch.org
SUMMARY:ACA
DESCRIPTION:ACA in OMG
URL:https://olddutchchurch.org/event/aca/2023-04-30/
LOCATION:Old Dutch Church\, Wall Street\, Kingston\, 272 Wall Street\, Kingston\, NY\, 12401\, United States
END:VEVENT
BEGIN:VEVENT
DTSTART;TZID=America/New_York:20230430T180000
DTEND;TZID=America/New_York:20230430T203000
DTSTAMP:20260421T144152
CREATED:20220621T151545Z
LAST-MODIFIED:20230131T001910Z
UID:10005956-1682877600-1682886600@olddutchchurch.org
SUMMARY:ARS Choralis
DESCRIPTION:ARS Choralis in Bethany Hall
URL:https://olddutchchurch.org/event/ars-choralis/2023-04-30/
END:VEVENT
BEGIN:VEVENT
DTSTART;TZID=America/New_York:20230430T190000
DTEND;TZID=America/New_York:20230430T213000
DTSTAMP:20260421T144152
CREATED:20220621T152603Z
LAST-MODIFIED:20230131T005403Z
UID:10008175-1682881200-1682890200@olddutchchurch.org
SUMMARY:SLAA Women’s Group
DESCRIPTION:SLAA in OMG
URL:https://olddutchchurch.org/event/slaa-3/2023-04-30/
END:VEVENT
BEGIN:VEVENT
DTSTART;TZID=America/New_York:20230501T170000
DTEND;TZID=America/New_York:20230501T180000
DTSTAMP:20260421T144152
CREATED:20230131T005556Z
LAST-MODIFIED:20230131T005556Z
UID:10009740-1682960400-1682964000@olddutchchurch.org
SUMMARY:SLAA Augustine Fellowship
DESCRIPTION:
URL:https://olddutchchurch.org/event/slaa-augustine-fellowship/2023-05-01/
END:VEVENT
BEGIN:VEVENT
DTSTART;TZID=America/New_York:20230501T190000
DTEND;TZID=America/New_York:20230501T200000
DTSTAMP:20260421T144152
CREATED:20230131T004717Z
LAST-MODIFIED:20230131T004717Z
UID:10009473-1682967600-1682971200@olddutchchurch.org
SUMMARY:Debtors’ Anonymous
DESCRIPTION:
URL:https://olddutchchurch.org/event/debtors-anonymous/2023-05-01/
END:VEVENT
BEGIN:VEVENT
DTSTART;TZID=America/New_York:20230503T130000
DTEND;TZID=America/New_York:20230503T140000
DTSTAMP:20260421T144152
CREATED:20220621T152107Z
LAST-MODIFIED:20250624T163908Z
UID:10007255-1683118800-1683122400@olddutchchurch.org
SUMMARY:Community Chorus (on hiatus until Fall)
DESCRIPTION:Community Chorus in Bethany Hall
URL:https://olddutchchurch.org/event/community-chorus/2023-05-03/
END:VEVENT
BEGIN:VEVENT
DTSTART;TZID=America/New_York:20230503T180000
DTEND;TZID=America/New_York:20230503T210000
DTSTAMP:20260421T144152
CREATED:20230131T003225Z
LAST-MODIFIED:20250624T171339Z
UID:10006955-1683136800-1683147600@olddutchchurch.org
SUMMARY:Ubaka Hill Drum Circle
DESCRIPTION:
URL:https://olddutchchurch.org/event/ubaka-hill-drum-circle/2023-05-03/
END:VEVENT
BEGIN:VEVENT
DTSTART;TZID=America/New_York:20230504T183000
DTEND;TZID=America/New_York:20230504T193000
DTSTAMP:20260421T144152
CREATED:20230131T004310Z
LAST-MODIFIED:20230131T004310Z
UID:10009206-1683225000-1683228600@olddutchchurch.org
SUMMARY:ACA Book Group
DESCRIPTION:Meeting every other week
URL:https://olddutchchurch.org/event/aca-book-group/2023-05-04/
END:VEVENT
BEGIN:VEVENT
DTSTART;TZID=America/New_York:20230504T190000
DTEND;TZID=America/New_York:20230504T200000
DTSTAMP:20260421T144152
CREATED:20230131T003704Z
LAST-MODIFIED:20230131T003704Z
UID:10007908-1683226800-1683230400@olddutchchurch.org
SUMMARY:AA
DESCRIPTION:
URL:https://olddutchchurch.org/event/aa/2023-05-04/
END:VEVENT
BEGIN:VEVENT
DTSTART;TZID=America/New_York:20230506T150000
DTEND;TZID=America/New_York:20230506T170000
DTSTAMP:20260421T144152
CREATED:20230501T192526Z
LAST-MODIFIED:20230808T133435Z
UID:10010542-1683385200-1683392400@olddutchchurch.org
SUMMARY:Roses and Nightingales - A Concert of Sephardic Song
DESCRIPTION:Judith Kerman\, Mezzo-soprano.  Bonnie Robiczek Meadow\, Classical Guitar.\n\nTraditional songs from the Jewish communities of the Mediterranean region with new guitar settings by Bonnie Robiczek Meadow.
URL:https://olddutchchurch.org/event/roses-and-nightingales-a-concert-of-sephardic-song/
END:VEVENT
BEGIN:VEVENT
DTSTART;TZID=America/New_York:20230506T210000
DTEND;TZID=America/New_York:20230506T220000
DTSTAMP:20260421T144152
CREATED:20230131T003843Z
LAST-MODIFIED:20230131T003843Z
UID:10008444-1683406800-1683410400@olddutchchurch.org
SUMMARY:AA Book Group
DESCRIPTION:
URL:https://olddutchchurch.org/event/aa-book-group/2023-05-06/
END:VEVENT
BEGIN:VEVENT
DTSTART;TZID=America/New_York:20230507T103000
DTEND;TZID=America/New_York:20230507T113000
DTSTAMP:20260421T144152
CREATED:20220621T145509Z
LAST-MODIFIED:20230131T010033Z
UID:10005318-1683455400-1683459000@olddutchchurch.org
SUMMARY:Sunday Worship
DESCRIPTION:Sunday worship in the Sanctuary
URL:https://olddutchchurch.org/event/sunday-worship/2023-05-07/
LOCATION:Old Dutch Church\, Wall Street\, Kingston\, 272 Wall Street\, Kingston\, NY\, 12401\, United States
END:VEVENT
BEGIN:VEVENT
DTSTART;TZID=America/New_York:20230507T113000
DTEND;TZID=America/New_York:20230507T123000
DTSTAMP:20260421T144152
CREATED:20220621T151126Z
LAST-MODIFIED:20230131T004016Z
UID:10005618-1683459000-1683462600@olddutchchurch.org
SUMMARY:ACA
DESCRIPTION:ACA in OMG
URL:https://olddutchchurch.org/event/aca/2023-05-07/
LOCATION:Old Dutch Church\, Wall Street\, Kingston\, 272 Wall Street\, Kingston\, NY\, 12401\, United States
END:VEVENT
BEGIN:VEVENT
DTSTART;TZID=America/New_York:20230507T180000
DTEND;TZID=America/New_York:20230507T203000
DTSTAMP:20260421T144152
CREATED:20220621T151545Z
LAST-MODIFIED:20230131T001910Z
UID:10005957-1683482400-1683491400@olddutchchurch.org
SUMMARY:ARS Choralis
DESCRIPTION:ARS Choralis in Bethany Hall
URL:https://olddutchchurch.org/event/ars-choralis/2023-05-07/
END:VEVENT
BEGIN:VEVENT
DTSTART;TZID=America/New_York:20230507T190000
DTEND;TZID=America/New_York:20230507T213000
DTSTAMP:20260421T144152
CREATED:20220621T152603Z
LAST-MODIFIED:20230131T005403Z
UID:10008176-1683486000-1683495000@olddutchchurch.org
SUMMARY:SLAA Women’s Group
DESCRIPTION:SLAA in OMG
URL:https://olddutchchurch.org/event/slaa-3/2023-05-07/
END:VEVENT
BEGIN:VEVENT
DTSTART;TZID=America/New_York:20230508T170000
DTEND;TZID=America/New_York:20230508T180000
DTSTAMP:20260421T144152
CREATED:20230131T005556Z
LAST-MODIFIED:20230131T005556Z
UID:10009741-1683565200-1683568800@olddutchchurch.org
SUMMARY:SLAA Augustine Fellowship
DESCRIPTION:
URL:https://olddutchchurch.org/event/slaa-augustine-fellowship/2023-05-08/
END:VEVENT
BEGIN:VEVENT
DTSTART;TZID=America/New_York:20230508T190000
DTEND;TZID=America/New_York:20230508T200000
DTSTAMP:20260421T144152
CREATED:20230131T004717Z
LAST-MODIFIED:20230131T004717Z
UID:10009474-1683572400-1683576000@olddutchchurch.org
SUMMARY:Debtors’ Anonymous
DESCRIPTION:
URL:https://olddutchchurch.org/event/debtors-anonymous/2023-05-08/
END:VEVENT
BEGIN:VEVENT
DTSTART;TZID=America/New_York:20230510T130000
DTEND;TZID=America/New_York:20230510T140000
DTSTAMP:20260421T144152
CREATED:20220621T152107Z
LAST-MODIFIED:20250624T163908Z
UID:10007256-1683723600-1683727200@olddutchchurch.org
SUMMARY:Community Chorus (on hiatus until Fall)
DESCRIPTION:Community Chorus in Bethany Hall
URL:https://olddutchchurch.org/event/community-chorus/2023-05-10/
END:VEVENT
BEGIN:VEVENT
DTSTART;TZID=America/New_York:20230510T180000
DTEND;TZID=America/New_York:20230510T210000
DTSTAMP:20260421T144153
CREATED:20230131T003225Z
LAST-MODIFIED:20250624T171339Z
UID:10006956-1683741600-1683752400@olddutchchurch.org
SUMMARY:Ubaka Hill Drum Circle
DESCRIPTION:
URL:https://olddutchchurch.org/event/ubaka-hill-drum-circle/2023-05-10/
END:VEVENT
BEGIN:VEVENT
DTSTART;TZID=America/New_York:20230511T183000
DTEND;TZID=America/New_York:20230511T193000
DTSTAMP:20260421T144153
CREATED:20230131T004310Z
LAST-MODIFIED:20230131T004310Z
UID:10009207-1683829800-1683833400@olddutchchurch.org
SUMMARY:ACA Book Group
DESCRIPTION:Meeting every other week
URL:https://olddutchchurch.org/event/aca-book-group/2023-05-11/
END:VEVENT
BEGIN:VEVENT
DTSTART;TZID=America/New_York:20230511T190000
DTEND;TZID=America/New_York:20230511T200000
DTSTAMP:20260421T144153
CREATED:20230131T003704Z
LAST-MODIFIED:20230131T003704Z
UID:10007909-1683831600-1683835200@olddutchchurch.org
SUMMARY:AA
DESCRIPTION:
URL:https://olddutchchurch.org/event/aa/2023-05-11/
END:VEVENT
BEGIN:VEVENT
DTSTART;TZID=America/New_York:20230513T210000
DTEND;TZID=America/New_York:20230513T220000
DTSTAMP:20260421T144153
CREATED:20230131T003843Z
LAST-MODIFIED:20230131T003843Z
UID:10008445-1684011600-1684015200@olddutchchurch.org
SUMMARY:AA Book Group
DESCRIPTION:
URL:https://olddutchchurch.org/event/aa-book-group/2023-05-13/
END:VEVENT
BEGIN:VEVENT
DTSTART;TZID=America/New_York:20230514T103000
DTEND;TZID=America/New_York:20230514T113000
DTSTAMP:20260421T144153
CREATED:20220621T145509Z
LAST-MODIFIED:20230131T010033Z
UID:10005319-1684060200-1684063800@olddutchchurch.org
SUMMARY:Sunday Worship
DESCRIPTION:Sunday worship in the Sanctuary
URL:https://olddutchchurch.org/event/sunday-worship/2023-05-14/
LOCATION:Old Dutch Church\, Wall Street\, Kingston\, 272 Wall Street\, Kingston\, NY\, 12401\, United States
END:VEVENT
BEGIN:VEVENT
DTSTART;TZID=America/New_York:20230514T113000
DTEND;TZID=America/New_York:20230514T123000
DTSTAMP:20260421T144153
CREATED:20220621T151126Z
LAST-MODIFIED:20230131T004016Z
UID:10005619-1684063800-1684067400@olddutchchurch.org
SUMMARY:ACA
DESCRIPTION:ACA in OMG
URL:https://olddutchchurch.org/event/aca/2023-05-14/
LOCATION:Old Dutch Church\, Wall Street\, Kingston\, 272 Wall Street\, Kingston\, NY\, 12401\, United States
END:VEVENT
BEGIN:VEVENT
DTSTART;TZID=America/New_York:20230514T180000
DTEND;TZID=America/New_York:20230514T203000
DTSTAMP:20260421T144153
CREATED:20220621T151545Z
LAST-MODIFIED:20230131T001910Z
UID:10005958-1684087200-1684096200@olddutchchurch.org
SUMMARY:ARS Choralis
DESCRIPTION:ARS Choralis in Bethany Hall
URL:https://olddutchchurch.org/event/ars-choralis/2023-05-14/
END:VEVENT
BEGIN:VEVENT
DTSTART;TZID=America/New_York:20230514T190000
DTEND;TZID=America/New_York:20230514T213000
DTSTAMP:20260421T144153
CREATED:20220621T152603Z
LAST-MODIFIED:20230131T005403Z
UID:10008177-1684090800-1684099800@olddutchchurch.org
SUMMARY:SLAA Women’s Group
DESCRIPTION:SLAA in OMG
URL:https://olddutchchurch.org/event/slaa-3/2023-05-14/
END:VEVENT
BEGIN:VEVENT
DTSTART;TZID=America/New_York:20230515T170000
DTEND;TZID=America/New_York:20230515T180000
DTSTAMP:20260421T144153
CREATED:20230131T005556Z
LAST-MODIFIED:20230131T005556Z
UID:10009742-1684170000-1684173600@olddutchchurch.org
SUMMARY:SLAA Augustine Fellowship
DESCRIPTION:
URL:https://olddutchchurch.org/event/slaa-augustine-fellowship/2023-05-15/
END:VEVENT
END:VCALENDAR