BEGIN:VCALENDAR
VERSION:2.0
PRODID:-//Old Dutch Church - ECPv6.15.20//NONSGML v1.0//EN
CALSCALE:GREGORIAN
METHOD:PUBLISH
X-WR-CALNAME:Old Dutch Church
X-ORIGINAL-URL:https://olddutchchurch.org
X-WR-CALDESC:Events for Old Dutch Church
REFRESH-INTERVAL;VALUE=DURATION:PT1H
X-Robots-Tag:noindex
X-PUBLISHED-TTL:PT1H
BEGIN:VTIMEZONE
TZID:America/New_York
BEGIN:DAYLIGHT
TZOFFSETFROM:-0500
TZOFFSETTO:-0400
TZNAME:EDT
DTSTART:20220313T070000
END:DAYLIGHT
BEGIN:STANDARD
TZOFFSETFROM:-0400
TZOFFSETTO:-0500
TZNAME:EST
DTSTART:20221106T060000
END:STANDARD
BEGIN:DAYLIGHT
TZOFFSETFROM:-0500
TZOFFSETTO:-0400
TZNAME:EDT
DTSTART:20230312T070000
END:DAYLIGHT
BEGIN:STANDARD
TZOFFSETFROM:-0400
TZOFFSETTO:-0500
TZNAME:EST
DTSTART:20231105T060000
END:STANDARD
BEGIN:DAYLIGHT
TZOFFSETFROM:-0500
TZOFFSETTO:-0400
TZNAME:EDT
DTSTART:20240310T070000
END:DAYLIGHT
BEGIN:STANDARD
TZOFFSETFROM:-0400
TZOFFSETTO:-0500
TZNAME:EST
DTSTART:20241103T060000
END:STANDARD
END:VTIMEZONE
BEGIN:VEVENT
DTSTART;TZID=America/New_York:20230309T183000
DTEND;TZID=America/New_York:20230309T193000
DTSTAMP:20260421T212002
CREATED:20230131T004310Z
LAST-MODIFIED:20230131T004310Z
UID:10009198-1678386600-1678390200@olddutchchurch.org
SUMMARY:ACA Book Group
DESCRIPTION:Meeting every other week
URL:https://olddutchchurch.org/event/aca-book-group/2023-03-09/
END:VEVENT
BEGIN:VEVENT
DTSTART;TZID=America/New_York:20230309T180000
DTEND;TZID=America/New_York:20230309T190000
DTSTAMP:20260421T212002
CREATED:20230131T010304Z
LAST-MODIFIED:20230131T010304Z
UID:10009996-1678384800-1678388400@olddutchchurch.org
SUMMARY:Lenten Bible Study
DESCRIPTION:
URL:https://olddutchchurch.org/event/lenten-bible-study/2023-03-09/
END:VEVENT
BEGIN:VEVENT
DTSTART;TZID=America/New_York:20230308T180000
DTEND;TZID=America/New_York:20230308T210000
DTSTAMP:20260421T212002
CREATED:20230131T003225Z
LAST-MODIFIED:20250624T171339Z
UID:10006947-1678298400-1678309200@olddutchchurch.org
SUMMARY:Ubaka Hill Drum Circle
DESCRIPTION:
URL:https://olddutchchurch.org/event/ubaka-hill-drum-circle/2023-03-08/
END:VEVENT
BEGIN:VEVENT
DTSTART;TZID=America/New_York:20230308T130000
DTEND;TZID=America/New_York:20230308T140000
DTSTAMP:20260421T212002
CREATED:20220621T152107Z
LAST-MODIFIED:20250624T163908Z
UID:10007247-1678280400-1678284000@olddutchchurch.org
SUMMARY:Community Chorus (on hiatus until Fall)
DESCRIPTION:Community Chorus in Bethany Hall
URL:https://olddutchchurch.org/event/community-chorus/2023-03-08/
END:VEVENT
BEGIN:VEVENT
DTSTART;TZID=America/New_York:20230307T180000
DTEND;TZID=America/New_York:20230307T210000
DTSTAMP:20260421T212002
CREATED:20220621T152213Z
LAST-MODIFIED:20220621T152213Z
UID:10007547-1678212000-1678222800@olddutchchurch.org
SUMMARY:Women’s Drum Circle
DESCRIPTION:Women’s Drum Circle – Bethany Hall
URL:https://olddutchchurch.org/event/womens-drum-circle/2023-03-07/
END:VEVENT
BEGIN:VEVENT
DTSTART;TZID=America/New_York:20230307T180000
DTEND;TZID=America/New_York:20230307T190000
DTSTAMP:20260421T212002
CREATED:20230201T153124Z
LAST-MODIFIED:20230201T153124Z
UID:10010268-1678212000-1678215600@olddutchchurch.org
SUMMARY:Pipe Dreams
DESCRIPTION:A meditative experience at Old Dutch Church in partnership with O+ \nJoin us for a healing sensory journey through light and sound featuring pipe organ compositions by Anton Faynberg and immersive visual projections by B.A. Miale. \nFREE EVENT ALL WELCOME
URL:https://olddutchchurch.org/event/pipe-dreams/2023-03-07/
END:VEVENT
BEGIN:VEVENT
DTSTART;TZID=America/New_York:20230306T190000
DTEND;TZID=America/New_York:20230306T200000
DTSTAMP:20260421T212002
CREATED:20230131T004717Z
LAST-MODIFIED:20230131T004717Z
UID:10009465-1678129200-1678132800@olddutchchurch.org
SUMMARY:Debtors’ Anonymous
DESCRIPTION:
URL:https://olddutchchurch.org/event/debtors-anonymous/2023-03-06/
END:VEVENT
BEGIN:VEVENT
DTSTART;TZID=America/New_York:20230306T190000
DTEND;TZID=America/New_York:20230306T200000
DTSTAMP:20260421T212002
CREATED:20220621T151857Z
LAST-MODIFIED:20220621T151857Z
UID:10006106-1678129200-1678132800@olddutchchurch.org
SUMMARY:BDA
DESCRIPTION:BDA in OMG
URL:https://olddutchchurch.org/event/bda/2023-03-06/
END:VEVENT
BEGIN:VEVENT
DTSTART;TZID=America/New_York:20230306T170000
DTEND;TZID=America/New_York:20230306T180000
DTSTAMP:20260421T212002
CREATED:20230131T005556Z
LAST-MODIFIED:20230131T005556Z
UID:10009732-1678122000-1678125600@olddutchchurch.org
SUMMARY:SLAA Augustine Fellowship
DESCRIPTION:
URL:https://olddutchchurch.org/event/slaa-augustine-fellowship/2023-03-06/
END:VEVENT
BEGIN:VEVENT
DTSTART;TZID=America/New_York:20230306T170000
DTEND;TZID=America/New_York:20230306T180000
DTSTAMP:20260421T212002
CREATED:20220621T151804Z
LAST-MODIFIED:20220621T151804Z
UID:10006068-1678122000-1678125600@olddutchchurch.org
SUMMARY:SLAA
DESCRIPTION:SLAA in OMG
URL:https://olddutchchurch.org/event/slaa-2/2023-03-06/
END:VEVENT
BEGIN:VEVENT
DTSTART;TZID=America/New_York:20230305T190000
DTEND;TZID=America/New_York:20230305T213000
DTSTAMP:20260421T212002
CREATED:20220621T152603Z
LAST-MODIFIED:20230131T005403Z
UID:10008167-1678042800-1678051800@olddutchchurch.org
SUMMARY:SLAA Women’s Group
DESCRIPTION:SLAA in OMG
URL:https://olddutchchurch.org/event/slaa-3/2023-03-05/
END:VEVENT
BEGIN:VEVENT
DTSTART;TZID=America/New_York:20230305T190000
DTEND;TZID=America/New_York:20230305T213000
DTSTAMP:20260421T212002
CREATED:20220621T151654Z
LAST-MODIFIED:20220621T151654Z
UID:10006030-1678042800-1678051800@olddutchchurch.org
SUMMARY:SLAA
DESCRIPTION:SLAA in OMG
URL:https://olddutchchurch.org/event/slaa/2023-03-05/
END:VEVENT
BEGIN:VEVENT
DTSTART;TZID=America/New_York:20230305T180000
DTEND;TZID=America/New_York:20230305T203000
DTSTAMP:20260421T212002
CREATED:20220621T151545Z
LAST-MODIFIED:20230131T001910Z
UID:10005948-1678039200-1678048200@olddutchchurch.org
SUMMARY:ARS Choralis
DESCRIPTION:ARS Choralis in Bethany Hall
URL:https://olddutchchurch.org/event/ars-choralis/2023-03-05/
END:VEVENT
BEGIN:VEVENT
DTSTART;TZID=America/New_York:20230305T170000
DTEND;TZID=America/New_York:20230305T183000
DTSTAMP:20260421T212002
CREATED:20220621T151346Z
LAST-MODIFIED:20220621T151346Z
UID:10005908-1678035600-1678041000@olddutchchurch.org
SUMMARY:Healing Hearts
DESCRIPTION:Healing Hearts in OMG
URL:https://olddutchchurch.org/event/healing-hearts/2023-03-05/
END:VEVENT
BEGIN:VEVENT
DTSTART;TZID=America/New_York:20230305T113000
DTEND;TZID=America/New_York:20230305T123000
DTSTAMP:20260421T212002
CREATED:20220621T151126Z
LAST-MODIFIED:20230131T004016Z
UID:10005609-1678015800-1678019400@olddutchchurch.org
SUMMARY:ACA
DESCRIPTION:ACA in OMG
URL:https://olddutchchurch.org/event/aca/2023-03-05/
LOCATION:Old Dutch Church\, Wall Street\, Kingston\, 272 Wall Street\, Kingston\, NY\, 12401\, United States
END:VEVENT
BEGIN:VEVENT
DTSTART;TZID=America/New_York:20230305T103000
DTEND;TZID=America/New_York:20230305T113000
DTSTAMP:20260421T212002
CREATED:20220621T145509Z
LAST-MODIFIED:20230131T010033Z
UID:10005309-1678012200-1678015800@olddutchchurch.org
SUMMARY:Sunday Worship
DESCRIPTION:Sunday worship in the Sanctuary
URL:https://olddutchchurch.org/event/sunday-worship/2023-03-05/
LOCATION:Old Dutch Church\, Wall Street\, Kingston\, 272 Wall Street\, Kingston\, NY\, 12401\, United States
END:VEVENT
BEGIN:VEVENT
DTSTART;TZID=America/New_York:20230304T210000
DTEND;TZID=America/New_York:20230304T220000
DTSTAMP:20260421T212002
CREATED:20230131T003843Z
LAST-MODIFIED:20230131T003843Z
UID:10008435-1677963600-1677967200@olddutchchurch.org
SUMMARY:AA Book Group
DESCRIPTION:
URL:https://olddutchchurch.org/event/aa-book-group/2023-03-04/
END:VEVENT
BEGIN:VEVENT
DTSTART;TZID=America/New_York:20230304T160000
DTEND;TZID=America/New_York:20230304T170000
DTSTAMP:20260421T212002
CREATED:20230216T145757Z
LAST-MODIFIED:20230216T145757Z
UID:10010272-1677945600-1677949200@olddutchchurch.org
SUMMARY:Falcon Ridge - the play
DESCRIPTION:Falcon Ridge\, an original play written by David Gonzalez\, explores life between 1800 and\n1950 in a fictionalized rural\, multi-racial community somewhere in Ulster County.\nDrawing from personal accounts and historical research compiled by scholars\, family\nmembers\, and local citizens\, Mr. Gonzalez has conjured up a tale that encourages\naudiences to examine their fascinating and often forgotten local history. The play centers\naround the complex relationship between long-time residents of Falcon Ridge and outsiders\nwho buy a large property there. Packed with emotional power\, the drama features\noriginal and traditional music performed by the acclaimed singer/songwriter Guy Davis. \nFREE EVENT | AGES 12 & UP FREE EVENT
URL:https://olddutchchurch.org/event/falcon-ridge-the-play-2/
END:VEVENT
BEGIN:VEVENT
DTSTART;TZID=America/New_York:20230304T090000
DTEND;TZID=America/New_York:20230304T100000
DTSTAMP:20260421T212002
CREATED:20220621T153115Z
LAST-MODIFIED:20220621T153115Z
UID:10008884-1677920400-1677924000@olddutchchurch.org
SUMMARY:HVKYPAA Book Club
DESCRIPTION:HVKYPAA Book Club – Bethany Hall
URL:https://olddutchchurch.org/event/hvkypaa-book-club/2023-03-04/
END:VEVENT
BEGIN:VEVENT
DTSTART;TZID=America/New_York:20230303T190000
DTEND;TZID=America/New_York:20230303T203000
DTSTAMP:20260421T212002
CREATED:20230216T145518Z
LAST-MODIFIED:20230216T145518Z
UID:10010271-1677870000-1677875400@olddutchchurch.org
SUMMARY:Falcon Ridge - the play
DESCRIPTION:Falcon Ridge\, an original play written by David Gonzalez\, explores life between 1800 and\n1950 in a fictionalized rural\, multi-racial community somewhere in Ulster County.\nDrawing from personal accounts and historical research compiled by scholars\, family\nmembers\, and local citizens\, Mr. Gonzalez has conjured up a tale that encourages\naudiences to examine their fascinating and often forgotten local history. The play centers\naround the complex relationship between long-time residents of Falcon Ridge and outsiders\nwho buy a large property there. Packed with emotional power\, the drama features\noriginal and traditional music performed by the acclaimed singer/songwriter Guy Davis. \nFREE EVENT | AGES 12 & UP FREE EVENT
URL:https://olddutchchurch.org/event/falcon-ridge-the-play/
END:VEVENT
BEGIN:VEVENT
DTSTART;TZID=America/New_York:20230303T113000
DTEND;TZID=America/New_York:20230303T130000
DTSTAMP:20260421T212002
CREATED:20220621T152514Z
LAST-MODIFIED:20220621T152514Z
UID:10007892-1677843000-1677848400@olddutchchurch.org
SUMMARY:Chair Yoga
DESCRIPTION:Chair Yoga – Bethany Hall \nStart time:  11:45am to 1:15pm
URL:https://olddutchchurch.org/event/chair-yoga/2023-03-03/
END:VEVENT
BEGIN:VEVENT
DTSTART;TZID=America/New_York:20230302T190000
DTEND;TZID=America/New_York:20230302T210000
DTSTAMP:20260421T212002
CREATED:20220621T152326Z
LAST-MODIFIED:20220621T152326Z
UID:10007585-1677783600-1677790800@olddutchchurch.org
SUMMARY:HVYPAA
DESCRIPTION:HVYPAA in Bethany Hall
URL:https://olddutchchurch.org/event/hvypaa/2023-03-02/
END:VEVENT
BEGIN:VEVENT
DTSTART;TZID=America/New_York:20230302T190000
DTEND;TZID=America/New_York:20230302T200000
DTSTAMP:20260421T212002
CREATED:20230131T003704Z
LAST-MODIFIED:20230131T003704Z
UID:10007899-1677783600-1677787200@olddutchchurch.org
SUMMARY:AA
DESCRIPTION:
URL:https://olddutchchurch.org/event/aa/2023-03-02/
END:VEVENT
BEGIN:VEVENT
DTSTART;TZID=America/New_York:20230302T183000
DTEND;TZID=America/New_York:20230302T193000
DTSTAMP:20260421T212002
CREATED:20230131T004310Z
LAST-MODIFIED:20230131T004310Z
UID:10009197-1677781800-1677785400@olddutchchurch.org
SUMMARY:ACA Book Group
DESCRIPTION:Meeting every other week
URL:https://olddutchchurch.org/event/aca-book-group/2023-03-02/
END:VEVENT
BEGIN:VEVENT
DTSTART;TZID=America/New_York:20230302T180000
DTEND;TZID=America/New_York:20230302T190000
DTSTAMP:20260421T212002
CREATED:20230131T010304Z
LAST-MODIFIED:20230131T010304Z
UID:10009995-1677780000-1677783600@olddutchchurch.org
SUMMARY:Lenten Bible Study
DESCRIPTION:
URL:https://olddutchchurch.org/event/lenten-bible-study/2023-03-02/
END:VEVENT
BEGIN:VEVENT
DTSTART;TZID=America/New_York:20230301T180000
DTEND;TZID=America/New_York:20230301T210000
DTSTAMP:20260421T212002
CREATED:20230131T003225Z
LAST-MODIFIED:20250624T171339Z
UID:10006946-1677693600-1677704400@olddutchchurch.org
SUMMARY:Ubaka Hill Drum Circle
DESCRIPTION:
URL:https://olddutchchurch.org/event/ubaka-hill-drum-circle/2023-03-01/
END:VEVENT
BEGIN:VEVENT
DTSTART;TZID=America/New_York:20230301T130000
DTEND;TZID=America/New_York:20230301T140000
DTSTAMP:20260421T212002
CREATED:20220621T152107Z
LAST-MODIFIED:20250624T163908Z
UID:10007246-1677675600-1677679200@olddutchchurch.org
SUMMARY:Community Chorus (on hiatus until Fall)
DESCRIPTION:Community Chorus in Bethany Hall
URL:https://olddutchchurch.org/event/community-chorus/2023-03-01/
END:VEVENT
BEGIN:VEVENT
DTSTART;TZID=America/New_York:20230228T180000
DTEND;TZID=America/New_York:20230228T210000
DTSTAMP:20260421T212002
CREATED:20220621T152213Z
LAST-MODIFIED:20220621T152213Z
UID:10007546-1677607200-1677618000@olddutchchurch.org
SUMMARY:Women’s Drum Circle
DESCRIPTION:Women’s Drum Circle – Bethany Hall
URL:https://olddutchchurch.org/event/womens-drum-circle/2023-02-28/
END:VEVENT
BEGIN:VEVENT
DTSTART;TZID=America/New_York:20230227T190000
DTEND;TZID=America/New_York:20230227T200000
DTSTAMP:20260421T212002
CREATED:20230131T004717Z
LAST-MODIFIED:20230131T004717Z
UID:10009464-1677524400-1677528000@olddutchchurch.org
SUMMARY:Debtors’ Anonymous
DESCRIPTION:
URL:https://olddutchchurch.org/event/debtors-anonymous/2023-02-27/
END:VEVENT
BEGIN:VEVENT
DTSTART;TZID=America/New_York:20230227T190000
DTEND;TZID=America/New_York:20230227T200000
DTSTAMP:20260421T212002
CREATED:20220621T151857Z
LAST-MODIFIED:20220621T151857Z
UID:10006105-1677524400-1677528000@olddutchchurch.org
SUMMARY:BDA
DESCRIPTION:BDA in OMG
URL:https://olddutchchurch.org/event/bda/2023-02-27/
END:VEVENT
END:VCALENDAR