BEGIN:VCALENDAR
VERSION:2.0
PRODID:-//Old Dutch Church - ECPv6.15.20//NONSGML v1.0//EN
CALSCALE:GREGORIAN
METHOD:PUBLISH
X-WR-CALNAME:Old Dutch Church
X-ORIGINAL-URL:https://olddutchchurch.org
X-WR-CALDESC:Events for Old Dutch Church
REFRESH-INTERVAL;VALUE=DURATION:PT1H
X-Robots-Tag:noindex
X-PUBLISHED-TTL:PT1H
BEGIN:VTIMEZONE
TZID:America/New_York
BEGIN:DAYLIGHT
TZOFFSETFROM:-0500
TZOFFSETTO:-0400
TZNAME:EDT
DTSTART:20220313T070000
END:DAYLIGHT
BEGIN:STANDARD
TZOFFSETFROM:-0400
TZOFFSETTO:-0500
TZNAME:EST
DTSTART:20221106T060000
END:STANDARD
BEGIN:DAYLIGHT
TZOFFSETFROM:-0500
TZOFFSETTO:-0400
TZNAME:EDT
DTSTART:20230312T070000
END:DAYLIGHT
BEGIN:STANDARD
TZOFFSETFROM:-0400
TZOFFSETTO:-0500
TZNAME:EST
DTSTART:20231105T060000
END:STANDARD
BEGIN:DAYLIGHT
TZOFFSETFROM:-0500
TZOFFSETTO:-0400
TZNAME:EDT
DTSTART:20240310T070000
END:DAYLIGHT
BEGIN:STANDARD
TZOFFSETFROM:-0400
TZOFFSETTO:-0500
TZNAME:EST
DTSTART:20241103T060000
END:STANDARD
END:VTIMEZONE
BEGIN:VEVENT
DTSTART;TZID=America/New_York:20230511T190000
DTEND;TZID=America/New_York:20230511T200000
DTSTAMP:20260421T203834
CREATED:20230131T003704Z
LAST-MODIFIED:20230131T003704Z
UID:10007909-1683831600-1683835200@olddutchchurch.org
SUMMARY:AA
DESCRIPTION:
URL:https://olddutchchurch.org/event/aa/2023-05-11/
END:VEVENT
BEGIN:VEVENT
DTSTART;TZID=America/New_York:20230513T210000
DTEND;TZID=America/New_York:20230513T220000
DTSTAMP:20260421T203834
CREATED:20230131T003843Z
LAST-MODIFIED:20230131T003843Z
UID:10008445-1684011600-1684015200@olddutchchurch.org
SUMMARY:AA Book Group
DESCRIPTION:
URL:https://olddutchchurch.org/event/aa-book-group/2023-05-13/
END:VEVENT
BEGIN:VEVENT
DTSTART;TZID=America/New_York:20230514T103000
DTEND;TZID=America/New_York:20230514T113000
DTSTAMP:20260421T203834
CREATED:20220621T145509Z
LAST-MODIFIED:20230131T010033Z
UID:10005319-1684060200-1684063800@olddutchchurch.org
SUMMARY:Sunday Worship
DESCRIPTION:Sunday worship in the Sanctuary
URL:https://olddutchchurch.org/event/sunday-worship/2023-05-14/
LOCATION:Old Dutch Church\, Wall Street\, Kingston\, 272 Wall Street\, Kingston\, NY\, 12401\, United States
END:VEVENT
BEGIN:VEVENT
DTSTART;TZID=America/New_York:20230514T113000
DTEND;TZID=America/New_York:20230514T123000
DTSTAMP:20260421T203834
CREATED:20220621T151126Z
LAST-MODIFIED:20230131T004016Z
UID:10005619-1684063800-1684067400@olddutchchurch.org
SUMMARY:ACA
DESCRIPTION:ACA in OMG
URL:https://olddutchchurch.org/event/aca/2023-05-14/
LOCATION:Old Dutch Church\, Wall Street\, Kingston\, 272 Wall Street\, Kingston\, NY\, 12401\, United States
END:VEVENT
BEGIN:VEVENT
DTSTART;TZID=America/New_York:20230514T180000
DTEND;TZID=America/New_York:20230514T203000
DTSTAMP:20260421T203834
CREATED:20220621T151545Z
LAST-MODIFIED:20230131T001910Z
UID:10005958-1684087200-1684096200@olddutchchurch.org
SUMMARY:ARS Choralis
DESCRIPTION:ARS Choralis in Bethany Hall
URL:https://olddutchchurch.org/event/ars-choralis/2023-05-14/
END:VEVENT
BEGIN:VEVENT
DTSTART;TZID=America/New_York:20230514T190000
DTEND;TZID=America/New_York:20230514T213000
DTSTAMP:20260421T203834
CREATED:20220621T152603Z
LAST-MODIFIED:20230131T005403Z
UID:10008177-1684090800-1684099800@olddutchchurch.org
SUMMARY:SLAA Women’s Group
DESCRIPTION:SLAA in OMG
URL:https://olddutchchurch.org/event/slaa-3/2023-05-14/
END:VEVENT
BEGIN:VEVENT
DTSTART;TZID=America/New_York:20230515T170000
DTEND;TZID=America/New_York:20230515T180000
DTSTAMP:20260421T203834
CREATED:20230131T005556Z
LAST-MODIFIED:20230131T005556Z
UID:10009742-1684170000-1684173600@olddutchchurch.org
SUMMARY:SLAA Augustine Fellowship
DESCRIPTION:
URL:https://olddutchchurch.org/event/slaa-augustine-fellowship/2023-05-15/
END:VEVENT
BEGIN:VEVENT
DTSTART;TZID=America/New_York:20230515T190000
DTEND;TZID=America/New_York:20230515T200000
DTSTAMP:20260421T203834
CREATED:20230131T004717Z
LAST-MODIFIED:20230131T004717Z
UID:10009475-1684177200-1684180800@olddutchchurch.org
SUMMARY:Debtors’ Anonymous
DESCRIPTION:
URL:https://olddutchchurch.org/event/debtors-anonymous/2023-05-15/
END:VEVENT
BEGIN:VEVENT
DTSTART;TZID=America/New_York:20230517T130000
DTEND;TZID=America/New_York:20230517T140000
DTSTAMP:20260421T203834
CREATED:20220621T152107Z
LAST-MODIFIED:20250624T163908Z
UID:10007257-1684328400-1684332000@olddutchchurch.org
SUMMARY:Community Chorus (on hiatus until Fall)
DESCRIPTION:Community Chorus in Bethany Hall
URL:https://olddutchchurch.org/event/community-chorus/2023-05-17/
END:VEVENT
BEGIN:VEVENT
DTSTART;TZID=America/New_York:20230517T180000
DTEND;TZID=America/New_York:20230517T210000
DTSTAMP:20260421T203834
CREATED:20230131T003225Z
LAST-MODIFIED:20250624T171339Z
UID:10006957-1684346400-1684357200@olddutchchurch.org
SUMMARY:Ubaka Hill Drum Circle
DESCRIPTION:
URL:https://olddutchchurch.org/event/ubaka-hill-drum-circle/2023-05-17/
END:VEVENT
BEGIN:VEVENT
DTSTART;TZID=America/New_York:20230518T183000
DTEND;TZID=America/New_York:20230518T193000
DTSTAMP:20260421T203834
CREATED:20230131T004310Z
LAST-MODIFIED:20230131T004310Z
UID:10009208-1684434600-1684438200@olddutchchurch.org
SUMMARY:ACA Book Group
DESCRIPTION:Meeting every other week
URL:https://olddutchchurch.org/event/aca-book-group/2023-05-18/
END:VEVENT
BEGIN:VEVENT
DTSTART;TZID=America/New_York:20230518T190000
DTEND;TZID=America/New_York:20230518T200000
DTSTAMP:20260421T203834
CREATED:20230131T003704Z
LAST-MODIFIED:20230131T003704Z
UID:10007910-1684436400-1684440000@olddutchchurch.org
SUMMARY:AA
DESCRIPTION:
URL:https://olddutchchurch.org/event/aa/2023-05-18/
END:VEVENT
BEGIN:VEVENT
DTSTART;TZID=America/New_York:20230520T210000
DTEND;TZID=America/New_York:20230520T220000
DTSTAMP:20260421T203834
CREATED:20230131T003843Z
LAST-MODIFIED:20230131T003843Z
UID:10008446-1684616400-1684620000@olddutchchurch.org
SUMMARY:AA Book Group
DESCRIPTION:
URL:https://olddutchchurch.org/event/aa-book-group/2023-05-20/
END:VEVENT
BEGIN:VEVENT
DTSTART;TZID=America/New_York:20230521T103000
DTEND;TZID=America/New_York:20230521T113000
DTSTAMP:20260421T203834
CREATED:20220621T145509Z
LAST-MODIFIED:20230131T010033Z
UID:10005320-1684665000-1684668600@olddutchchurch.org
SUMMARY:Sunday Worship
DESCRIPTION:Sunday worship in the Sanctuary
URL:https://olddutchchurch.org/event/sunday-worship/2023-05-21/
LOCATION:Old Dutch Church\, Wall Street\, Kingston\, 272 Wall Street\, Kingston\, NY\, 12401\, United States
END:VEVENT
BEGIN:VEVENT
DTSTART;TZID=America/New_York:20230521T113000
DTEND;TZID=America/New_York:20230521T123000
DTSTAMP:20260421T203834
CREATED:20220621T151126Z
LAST-MODIFIED:20230131T004016Z
UID:10005620-1684668600-1684672200@olddutchchurch.org
SUMMARY:ACA
DESCRIPTION:ACA in OMG
URL:https://olddutchchurch.org/event/aca/2023-05-21/
LOCATION:Old Dutch Church\, Wall Street\, Kingston\, 272 Wall Street\, Kingston\, NY\, 12401\, United States
END:VEVENT
BEGIN:VEVENT
DTSTART;TZID=America/New_York:20230521T180000
DTEND;TZID=America/New_York:20230521T203000
DTSTAMP:20260421T203834
CREATED:20220621T151545Z
LAST-MODIFIED:20230131T001910Z
UID:10005959-1684692000-1684701000@olddutchchurch.org
SUMMARY:ARS Choralis
DESCRIPTION:ARS Choralis in Bethany Hall
URL:https://olddutchchurch.org/event/ars-choralis/2023-05-21/
END:VEVENT
BEGIN:VEVENT
DTSTART;TZID=America/New_York:20230521T190000
DTEND;TZID=America/New_York:20230521T213000
DTSTAMP:20260421T203834
CREATED:20220621T152603Z
LAST-MODIFIED:20230131T005403Z
UID:10008178-1684695600-1684704600@olddutchchurch.org
SUMMARY:SLAA Women’s Group
DESCRIPTION:SLAA in OMG
URL:https://olddutchchurch.org/event/slaa-3/2023-05-21/
END:VEVENT
BEGIN:VEVENT
DTSTART;TZID=America/New_York:20230522T170000
DTEND;TZID=America/New_York:20230522T180000
DTSTAMP:20260421T203834
CREATED:20230131T005556Z
LAST-MODIFIED:20230131T005556Z
UID:10009743-1684774800-1684778400@olddutchchurch.org
SUMMARY:SLAA Augustine Fellowship
DESCRIPTION:
URL:https://olddutchchurch.org/event/slaa-augustine-fellowship/2023-05-22/
END:VEVENT
BEGIN:VEVENT
DTSTART;TZID=America/New_York:20230522T190000
DTEND;TZID=America/New_York:20230522T200000
DTSTAMP:20260421T203834
CREATED:20230131T004717Z
LAST-MODIFIED:20230131T004717Z
UID:10009476-1684782000-1684785600@olddutchchurch.org
SUMMARY:Debtors’ Anonymous
DESCRIPTION:
URL:https://olddutchchurch.org/event/debtors-anonymous/2023-05-22/
END:VEVENT
BEGIN:VEVENT
DTSTART;TZID=America/New_York:20230524T130000
DTEND;TZID=America/New_York:20230524T140000
DTSTAMP:20260421T203834
CREATED:20220621T152107Z
LAST-MODIFIED:20250624T163908Z
UID:10007258-1684933200-1684936800@olddutchchurch.org
SUMMARY:Community Chorus (on hiatus until Fall)
DESCRIPTION:Community Chorus in Bethany Hall
URL:https://olddutchchurch.org/event/community-chorus/2023-05-24/
END:VEVENT
BEGIN:VEVENT
DTSTART;TZID=America/New_York:20230524T180000
DTEND;TZID=America/New_York:20230524T210000
DTSTAMP:20260421T203834
CREATED:20230131T003225Z
LAST-MODIFIED:20250624T171339Z
UID:10006958-1684951200-1684962000@olddutchchurch.org
SUMMARY:Ubaka Hill Drum Circle
DESCRIPTION:
URL:https://olddutchchurch.org/event/ubaka-hill-drum-circle/2023-05-24/
END:VEVENT
BEGIN:VEVENT
DTSTART;TZID=America/New_York:20230525T183000
DTEND;TZID=America/New_York:20230525T193000
DTSTAMP:20260421T203834
CREATED:20230131T004310Z
LAST-MODIFIED:20230131T004310Z
UID:10009209-1685039400-1685043000@olddutchchurch.org
SUMMARY:ACA Book Group
DESCRIPTION:Meeting every other week
URL:https://olddutchchurch.org/event/aca-book-group/2023-05-25/
END:VEVENT
BEGIN:VEVENT
DTSTART;TZID=America/New_York:20230525T190000
DTEND;TZID=America/New_York:20230525T200000
DTSTAMP:20260421T203834
CREATED:20230131T003704Z
LAST-MODIFIED:20230131T003704Z
UID:10007911-1685041200-1685044800@olddutchchurch.org
SUMMARY:AA
DESCRIPTION:
URL:https://olddutchchurch.org/event/aa/2023-05-25/
END:VEVENT
BEGIN:VEVENT
DTSTART;TZID=America/New_York:20230527T210000
DTEND;TZID=America/New_York:20230527T220000
DTSTAMP:20260421T203834
CREATED:20230131T003843Z
LAST-MODIFIED:20230131T003843Z
UID:10008447-1685221200-1685224800@olddutchchurch.org
SUMMARY:AA Book Group
DESCRIPTION:
URL:https://olddutchchurch.org/event/aa-book-group/2023-05-27/
END:VEVENT
BEGIN:VEVENT
DTSTART;TZID=America/New_York:20230528T103000
DTEND;TZID=America/New_York:20230528T113000
DTSTAMP:20260421T203834
CREATED:20220621T145509Z
LAST-MODIFIED:20230131T010033Z
UID:10005321-1685269800-1685273400@olddutchchurch.org
SUMMARY:Sunday Worship
DESCRIPTION:Sunday worship in the Sanctuary
URL:https://olddutchchurch.org/event/sunday-worship/2023-05-28/
LOCATION:Old Dutch Church\, Wall Street\, Kingston\, 272 Wall Street\, Kingston\, NY\, 12401\, United States
END:VEVENT
BEGIN:VEVENT
DTSTART;TZID=America/New_York:20230528T113000
DTEND;TZID=America/New_York:20230528T123000
DTSTAMP:20260421T203834
CREATED:20220621T151126Z
LAST-MODIFIED:20230131T004016Z
UID:10005621-1685273400-1685277000@olddutchchurch.org
SUMMARY:ACA
DESCRIPTION:ACA in OMG
URL:https://olddutchchurch.org/event/aca/2023-05-28/
LOCATION:Old Dutch Church\, Wall Street\, Kingston\, 272 Wall Street\, Kingston\, NY\, 12401\, United States
END:VEVENT
BEGIN:VEVENT
DTSTART;TZID=America/New_York:20230528T180000
DTEND;TZID=America/New_York:20230528T203000
DTSTAMP:20260421T203834
CREATED:20220621T151545Z
LAST-MODIFIED:20230131T001910Z
UID:10005960-1685296800-1685305800@olddutchchurch.org
SUMMARY:ARS Choralis
DESCRIPTION:ARS Choralis in Bethany Hall
URL:https://olddutchchurch.org/event/ars-choralis/2023-05-28/
END:VEVENT
BEGIN:VEVENT
DTSTART;TZID=America/New_York:20230528T190000
DTEND;TZID=America/New_York:20230528T213000
DTSTAMP:20260421T203834
CREATED:20220621T152603Z
LAST-MODIFIED:20230131T005403Z
UID:10008179-1685300400-1685309400@olddutchchurch.org
SUMMARY:SLAA Women’s Group
DESCRIPTION:SLAA in OMG
URL:https://olddutchchurch.org/event/slaa-3/2023-05-28/
END:VEVENT
BEGIN:VEVENT
DTSTART;TZID=America/New_York:20230529T170000
DTEND;TZID=America/New_York:20230529T180000
DTSTAMP:20260421T203834
CREATED:20230131T005556Z
LAST-MODIFIED:20230131T005556Z
UID:10009744-1685379600-1685383200@olddutchchurch.org
SUMMARY:SLAA Augustine Fellowship
DESCRIPTION:
URL:https://olddutchchurch.org/event/slaa-augustine-fellowship/2023-05-29/
END:VEVENT
BEGIN:VEVENT
DTSTART;TZID=America/New_York:20230529T190000
DTEND;TZID=America/New_York:20230529T200000
DTSTAMP:20260421T203834
CREATED:20230131T004717Z
LAST-MODIFIED:20230131T004717Z
UID:10009477-1685386800-1685390400@olddutchchurch.org
SUMMARY:Debtors’ Anonymous
DESCRIPTION:
URL:https://olddutchchurch.org/event/debtors-anonymous/2023-05-29/
END:VEVENT
END:VCALENDAR