BEGIN:VCALENDAR
VERSION:2.0
PRODID:-//Old Dutch Church - ECPv6.15.20//NONSGML v1.0//EN
CALSCALE:GREGORIAN
METHOD:PUBLISH
X-WR-CALNAME:Old Dutch Church
X-ORIGINAL-URL:https://olddutchchurch.org
X-WR-CALDESC:Events for Old Dutch Church
REFRESH-INTERVAL;VALUE=DURATION:PT1H
X-Robots-Tag:noindex
X-PUBLISHED-TTL:PT1H
BEGIN:VTIMEZONE
TZID:America/New_York
BEGIN:DAYLIGHT
TZOFFSETFROM:-0500
TZOFFSETTO:-0400
TZNAME:EDT
DTSTART:20220313T070000
END:DAYLIGHT
BEGIN:STANDARD
TZOFFSETFROM:-0400
TZOFFSETTO:-0500
TZNAME:EST
DTSTART:20221106T060000
END:STANDARD
BEGIN:DAYLIGHT
TZOFFSETFROM:-0500
TZOFFSETTO:-0400
TZNAME:EDT
DTSTART:20230312T070000
END:DAYLIGHT
BEGIN:STANDARD
TZOFFSETFROM:-0400
TZOFFSETTO:-0500
TZNAME:EST
DTSTART:20231105T060000
END:STANDARD
BEGIN:DAYLIGHT
TZOFFSETFROM:-0500
TZOFFSETTO:-0400
TZNAME:EDT
DTSTART:20240310T070000
END:DAYLIGHT
BEGIN:STANDARD
TZOFFSETFROM:-0400
TZOFFSETTO:-0500
TZNAME:EST
DTSTART:20241103T060000
END:STANDARD
END:VTIMEZONE
BEGIN:VEVENT
DTSTART;TZID=America/New_York:20231119T190000
DTEND;TZID=America/New_York:20231119T213000
DTSTAMP:20260421T185343
CREATED:20220621T152603Z
LAST-MODIFIED:20230131T005403Z
UID:10008204-1700420400-1700429400@olddutchchurch.org
SUMMARY:SLAA Women’s Group
DESCRIPTION:SLAA in OMG
URL:https://olddutchchurch.org/event/slaa-3/2023-11-19/
END:VEVENT
BEGIN:VEVENT
DTSTART;TZID=America/New_York:20231120T170000
DTEND;TZID=America/New_York:20231120T180000
DTSTAMP:20260421T185343
CREATED:20230131T005556Z
LAST-MODIFIED:20230131T005556Z
UID:10009769-1700499600-1700503200@olddutchchurch.org
SUMMARY:SLAA Augustine Fellowship
DESCRIPTION:
URL:https://olddutchchurch.org/event/slaa-augustine-fellowship/2023-11-20/
END:VEVENT
BEGIN:VEVENT
DTSTART;TZID=America/New_York:20231120T190000
DTEND;TZID=America/New_York:20231120T200000
DTSTAMP:20260421T185343
CREATED:20230131T004717Z
LAST-MODIFIED:20230131T004717Z
UID:10009502-1700506800-1700510400@olddutchchurch.org
SUMMARY:Debtors’ Anonymous
DESCRIPTION:
URL:https://olddutchchurch.org/event/debtors-anonymous/2023-11-20/
END:VEVENT
BEGIN:VEVENT
DTSTART;TZID=America/New_York:20231122T130000
DTEND;TZID=America/New_York:20231122T140000
DTSTAMP:20260421T185343
CREATED:20220621T152107Z
LAST-MODIFIED:20250624T163908Z
UID:10007284-1700658000-1700661600@olddutchchurch.org
SUMMARY:Community Chorus (on hiatus until Fall)
DESCRIPTION:Community Chorus in Bethany Hall
URL:https://olddutchchurch.org/event/community-chorus/2023-11-22/
END:VEVENT
BEGIN:VEVENT
DTSTART;TZID=America/New_York:20231122T180000
DTEND;TZID=America/New_York:20231122T210000
DTSTAMP:20260421T185343
CREATED:20230131T003225Z
LAST-MODIFIED:20250624T171339Z
UID:10006984-1700676000-1700686800@olddutchchurch.org
SUMMARY:Ubaka Hill Drum Circle
DESCRIPTION:
URL:https://olddutchchurch.org/event/ubaka-hill-drum-circle/2023-11-22/
END:VEVENT
BEGIN:VEVENT
DTSTART;TZID=America/New_York:20231123T183000
DTEND;TZID=America/New_York:20231123T193000
DTSTAMP:20260421T185343
CREATED:20230131T004310Z
LAST-MODIFIED:20230131T004310Z
UID:10009235-1700764200-1700767800@olddutchchurch.org
SUMMARY:ACA Book Group
DESCRIPTION:Meeting every other week
URL:https://olddutchchurch.org/event/aca-book-group/2023-11-23/
END:VEVENT
BEGIN:VEVENT
DTSTART;TZID=America/New_York:20231123T190000
DTEND;TZID=America/New_York:20231123T200000
DTSTAMP:20260421T185343
CREATED:20230131T003704Z
LAST-MODIFIED:20230131T003704Z
UID:10007937-1700766000-1700769600@olddutchchurch.org
SUMMARY:AA
DESCRIPTION:
URL:https://olddutchchurch.org/event/aa/2023-11-23/
END:VEVENT
BEGIN:VEVENT
DTSTART;TZID=America/New_York:20231125T210000
DTEND;TZID=America/New_York:20231125T220000
DTSTAMP:20260421T185343
CREATED:20230131T003843Z
LAST-MODIFIED:20230131T003843Z
UID:10008473-1700946000-1700949600@olddutchchurch.org
SUMMARY:AA Book Group
DESCRIPTION:
URL:https://olddutchchurch.org/event/aa-book-group/2023-11-25/
END:VEVENT
BEGIN:VEVENT
DTSTART;TZID=America/New_York:20231126T103000
DTEND;TZID=America/New_York:20231126T113000
DTSTAMP:20260421T185343
CREATED:20220621T145509Z
LAST-MODIFIED:20230131T010033Z
UID:10005347-1700994600-1700998200@olddutchchurch.org
SUMMARY:Sunday Worship
DESCRIPTION:Sunday worship in the Sanctuary
URL:https://olddutchchurch.org/event/sunday-worship/2023-11-26/
LOCATION:Old Dutch Church\, Wall Street\, Kingston\, 272 Wall Street\, Kingston\, NY\, 12401\, United States
END:VEVENT
BEGIN:VEVENT
DTSTART;TZID=America/New_York:20231126T113000
DTEND;TZID=America/New_York:20231126T123000
DTSTAMP:20260421T185343
CREATED:20220621T151126Z
LAST-MODIFIED:20230131T004016Z
UID:10005647-1700998200-1701001800@olddutchchurch.org
SUMMARY:ACA
DESCRIPTION:ACA in OMG
URL:https://olddutchchurch.org/event/aca/2023-11-26/
LOCATION:Old Dutch Church\, Wall Street\, Kingston\, 272 Wall Street\, Kingston\, NY\, 12401\, United States
END:VEVENT
BEGIN:VEVENT
DTSTART;TZID=America/New_York:20231126T180000
DTEND;TZID=America/New_York:20231126T203000
DTSTAMP:20260421T185343
CREATED:20220621T151545Z
LAST-MODIFIED:20230131T001910Z
UID:10005986-1701021600-1701030600@olddutchchurch.org
SUMMARY:ARS Choralis
DESCRIPTION:ARS Choralis in Bethany Hall
URL:https://olddutchchurch.org/event/ars-choralis/2023-11-26/
END:VEVENT
BEGIN:VEVENT
DTSTART;TZID=America/New_York:20231126T190000
DTEND;TZID=America/New_York:20231126T213000
DTSTAMP:20260421T185343
CREATED:20220621T152603Z
LAST-MODIFIED:20230131T005403Z
UID:10008205-1701025200-1701034200@olddutchchurch.org
SUMMARY:SLAA Women’s Group
DESCRIPTION:SLAA in OMG
URL:https://olddutchchurch.org/event/slaa-3/2023-11-26/
END:VEVENT
BEGIN:VEVENT
DTSTART;TZID=America/New_York:20231127T170000
DTEND;TZID=America/New_York:20231127T180000
DTSTAMP:20260421T185343
CREATED:20230131T005556Z
LAST-MODIFIED:20230131T005556Z
UID:10009770-1701104400-1701108000@olddutchchurch.org
SUMMARY:SLAA Augustine Fellowship
DESCRIPTION:
URL:https://olddutchchurch.org/event/slaa-augustine-fellowship/2023-11-27/
END:VEVENT
BEGIN:VEVENT
DTSTART;TZID=America/New_York:20231127T190000
DTEND;TZID=America/New_York:20231127T200000
DTSTAMP:20260421T185343
CREATED:20230131T004717Z
LAST-MODIFIED:20230131T004717Z
UID:10009503-1701111600-1701115200@olddutchchurch.org
SUMMARY:Debtors’ Anonymous
DESCRIPTION:
URL:https://olddutchchurch.org/event/debtors-anonymous/2023-11-27/
END:VEVENT
BEGIN:VEVENT
DTSTART;TZID=America/New_York:20231129T130000
DTEND;TZID=America/New_York:20231129T140000
DTSTAMP:20260421T185343
CREATED:20220621T152107Z
LAST-MODIFIED:20250624T163908Z
UID:10007285-1701262800-1701266400@olddutchchurch.org
SUMMARY:Community Chorus (on hiatus until Fall)
DESCRIPTION:Community Chorus in Bethany Hall
URL:https://olddutchchurch.org/event/community-chorus/2023-11-29/
END:VEVENT
BEGIN:VEVENT
DTSTART;TZID=America/New_York:20231129T180000
DTEND;TZID=America/New_York:20231129T210000
DTSTAMP:20260421T185343
CREATED:20230131T003225Z
LAST-MODIFIED:20250624T171339Z
UID:10006985-1701280800-1701291600@olddutchchurch.org
SUMMARY:Ubaka Hill Drum Circle
DESCRIPTION:
URL:https://olddutchchurch.org/event/ubaka-hill-drum-circle/2023-11-29/
END:VEVENT
BEGIN:VEVENT
DTSTART;TZID=America/New_York:20231130T183000
DTEND;TZID=America/New_York:20231130T193000
DTSTAMP:20260421T185343
CREATED:20230131T004310Z
LAST-MODIFIED:20230131T004310Z
UID:10009236-1701369000-1701372600@olddutchchurch.org
SUMMARY:ACA Book Group
DESCRIPTION:Meeting every other week
URL:https://olddutchchurch.org/event/aca-book-group/2023-11-30/
END:VEVENT
BEGIN:VEVENT
DTSTART;TZID=America/New_York:20231130T190000
DTEND;TZID=America/New_York:20231130T200000
DTSTAMP:20260421T185343
CREATED:20230131T003704Z
LAST-MODIFIED:20230131T003704Z
UID:10007938-1701370800-1701374400@olddutchchurch.org
SUMMARY:AA
DESCRIPTION:
URL:https://olddutchchurch.org/event/aa/2023-11-30/
END:VEVENT
BEGIN:VEVENT
DTSTART;TZID=America/New_York:20231202T210000
DTEND;TZID=America/New_York:20231202T220000
DTSTAMP:20260421T185343
CREATED:20230131T003843Z
LAST-MODIFIED:20230131T003843Z
UID:10008474-1701550800-1701554400@olddutchchurch.org
SUMMARY:AA Book Group
DESCRIPTION:
URL:https://olddutchchurch.org/event/aa-book-group/2023-12-02/
END:VEVENT
BEGIN:VEVENT
DTSTART;TZID=America/New_York:20231203T103000
DTEND;TZID=America/New_York:20231203T113000
DTSTAMP:20260421T185343
CREATED:20220621T145509Z
LAST-MODIFIED:20230131T010033Z
UID:10005348-1701599400-1701603000@olddutchchurch.org
SUMMARY:Sunday Worship
DESCRIPTION:Sunday worship in the Sanctuary
URL:https://olddutchchurch.org/event/sunday-worship/2023-12-03/
LOCATION:Old Dutch Church\, Wall Street\, Kingston\, 272 Wall Street\, Kingston\, NY\, 12401\, United States
END:VEVENT
BEGIN:VEVENT
DTSTART;TZID=America/New_York:20231203T113000
DTEND;TZID=America/New_York:20231203T123000
DTSTAMP:20260421T185343
CREATED:20220621T151126Z
LAST-MODIFIED:20230131T004016Z
UID:10005648-1701603000-1701606600@olddutchchurch.org
SUMMARY:ACA
DESCRIPTION:ACA in OMG
URL:https://olddutchchurch.org/event/aca/2023-12-03/
LOCATION:Old Dutch Church\, Wall Street\, Kingston\, 272 Wall Street\, Kingston\, NY\, 12401\, United States
END:VEVENT
BEGIN:VEVENT
DTSTART;TZID=America/New_York:20231203T180000
DTEND;TZID=America/New_York:20231203T203000
DTSTAMP:20260421T185343
CREATED:20220621T151545Z
LAST-MODIFIED:20230131T001910Z
UID:10005987-1701626400-1701635400@olddutchchurch.org
SUMMARY:ARS Choralis
DESCRIPTION:ARS Choralis in Bethany Hall
URL:https://olddutchchurch.org/event/ars-choralis/2023-12-03/
END:VEVENT
BEGIN:VEVENT
DTSTART;TZID=America/New_York:20231203T190000
DTEND;TZID=America/New_York:20231203T213000
DTSTAMP:20260421T185343
CREATED:20220621T152603Z
LAST-MODIFIED:20230131T005403Z
UID:10008206-1701630000-1701639000@olddutchchurch.org
SUMMARY:SLAA Women’s Group
DESCRIPTION:SLAA in OMG
URL:https://olddutchchurch.org/event/slaa-3/2023-12-03/
END:VEVENT
BEGIN:VEVENT
DTSTART;TZID=America/New_York:20231204T170000
DTEND;TZID=America/New_York:20231204T180000
DTSTAMP:20260421T185343
CREATED:20230131T005556Z
LAST-MODIFIED:20230131T005556Z
UID:10009771-1701709200-1701712800@olddutchchurch.org
SUMMARY:SLAA Augustine Fellowship
DESCRIPTION:
URL:https://olddutchchurch.org/event/slaa-augustine-fellowship/2023-12-04/
END:VEVENT
BEGIN:VEVENT
DTSTART;TZID=America/New_York:20231204T190000
DTEND;TZID=America/New_York:20231204T200000
DTSTAMP:20260421T185343
CREATED:20230131T004717Z
LAST-MODIFIED:20230131T004717Z
UID:10009504-1701716400-1701720000@olddutchchurch.org
SUMMARY:Debtors’ Anonymous
DESCRIPTION:
URL:https://olddutchchurch.org/event/debtors-anonymous/2023-12-04/
END:VEVENT
BEGIN:VEVENT
DTSTART;TZID=America/New_York:20231206T130000
DTEND;TZID=America/New_York:20231206T140000
DTSTAMP:20260421T185343
CREATED:20220621T152107Z
LAST-MODIFIED:20250624T163908Z
UID:10007286-1701867600-1701871200@olddutchchurch.org
SUMMARY:Community Chorus (on hiatus until Fall)
DESCRIPTION:Community Chorus in Bethany Hall
URL:https://olddutchchurch.org/event/community-chorus/2023-12-06/
END:VEVENT
BEGIN:VEVENT
DTSTART;TZID=America/New_York:20231206T180000
DTEND;TZID=America/New_York:20231206T210000
DTSTAMP:20260421T185343
CREATED:20230131T003225Z
LAST-MODIFIED:20250624T171339Z
UID:10006986-1701885600-1701896400@olddutchchurch.org
SUMMARY:Ubaka Hill Drum Circle
DESCRIPTION:
URL:https://olddutchchurch.org/event/ubaka-hill-drum-circle/2023-12-06/
END:VEVENT
BEGIN:VEVENT
DTSTART;TZID=America/New_York:20231207T183000
DTEND;TZID=America/New_York:20231207T193000
DTSTAMP:20260421T185343
CREATED:20230131T004310Z
LAST-MODIFIED:20230131T004310Z
UID:10009237-1701973800-1701977400@olddutchchurch.org
SUMMARY:ACA Book Group
DESCRIPTION:Meeting every other week
URL:https://olddutchchurch.org/event/aca-book-group/2023-12-07/
END:VEVENT
BEGIN:VEVENT
DTSTART;TZID=America/New_York:20231207T190000
DTEND;TZID=America/New_York:20231207T200000
DTSTAMP:20260421T185343
CREATED:20230131T003704Z
LAST-MODIFIED:20230131T003704Z
UID:10007939-1701975600-1701979200@olddutchchurch.org
SUMMARY:AA
DESCRIPTION:
URL:https://olddutchchurch.org/event/aa/2023-12-07/
END:VEVENT
BEGIN:VEVENT
DTSTART;TZID=America/New_York:20231209T210000
DTEND;TZID=America/New_York:20231209T220000
DTSTAMP:20260421T185343
CREATED:20230131T003843Z
LAST-MODIFIED:20230131T003843Z
UID:10008475-1702155600-1702159200@olddutchchurch.org
SUMMARY:AA Book Group
DESCRIPTION:
URL:https://olddutchchurch.org/event/aa-book-group/2023-12-09/
END:VEVENT
END:VCALENDAR