BEGIN:VCALENDAR
VERSION:2.0
PRODID:-//Old Dutch Church - ECPv6.15.20//NONSGML v1.0//EN
CALSCALE:GREGORIAN
METHOD:PUBLISH
X-WR-CALNAME:Old Dutch Church
X-ORIGINAL-URL:https://olddutchchurch.org
X-WR-CALDESC:Events for Old Dutch Church
REFRESH-INTERVAL;VALUE=DURATION:PT1H
X-Robots-Tag:noindex
X-PUBLISHED-TTL:PT1H
BEGIN:VTIMEZONE
TZID:America/New_York
BEGIN:DAYLIGHT
TZOFFSETFROM:-0500
TZOFFSETTO:-0400
TZNAME:EDT
DTSTART:20240310T070000
END:DAYLIGHT
BEGIN:STANDARD
TZOFFSETFROM:-0400
TZOFFSETTO:-0500
TZNAME:EST
DTSTART:20241103T060000
END:STANDARD
BEGIN:DAYLIGHT
TZOFFSETFROM:-0500
TZOFFSETTO:-0400
TZNAME:EDT
DTSTART:20250309T070000
END:DAYLIGHT
BEGIN:STANDARD
TZOFFSETFROM:-0400
TZOFFSETTO:-0500
TZNAME:EST
DTSTART:20251102T060000
END:STANDARD
BEGIN:DAYLIGHT
TZOFFSETFROM:-0500
TZOFFSETTO:-0400
TZNAME:EDT
DTSTART:20260308T070000
END:DAYLIGHT
BEGIN:STANDARD
TZOFFSETFROM:-0400
TZOFFSETTO:-0500
TZNAME:EST
DTSTART:20261101T060000
END:STANDARD
END:VTIMEZONE
BEGIN:VEVENT
DTSTART;TZID=America/New_York:20250327T183000
DTEND;TZID=America/New_York:20250327T193000
DTSTAMP:20260419T202652
CREATED:20230131T004310Z
LAST-MODIFIED:20230131T004310Z
UID:10009305-1743100200-1743103800@olddutchchurch.org
SUMMARY:ACA Book Group
DESCRIPTION:Meeting every other week
URL:https://olddutchchurch.org/event/aca-book-group/2025-03-27/
END:VEVENT
BEGIN:VEVENT
DTSTART;TZID=America/New_York:20250327T190000
DTEND;TZID=America/New_York:20250327T200000
DTSTAMP:20260419T202652
CREATED:20230131T003704Z
LAST-MODIFIED:20230131T003704Z
UID:10008007-1743102000-1743105600@olddutchchurch.org
SUMMARY:AA
DESCRIPTION:
URL:https://olddutchchurch.org/event/aa/2025-03-27/
END:VEVENT
BEGIN:VEVENT
DTSTART;TZID=America/New_York:20250329T210000
DTEND;TZID=America/New_York:20250329T220000
DTSTAMP:20260419T202652
CREATED:20230131T003843Z
LAST-MODIFIED:20230131T003843Z
UID:10008543-1743282000-1743285600@olddutchchurch.org
SUMMARY:AA Book Group
DESCRIPTION:
URL:https://olddutchchurch.org/event/aa-book-group/2025-03-29/
END:VEVENT
BEGIN:VEVENT
DTSTART;TZID=America/New_York:20250330T103000
DTEND;TZID=America/New_York:20250330T113000
DTSTAMP:20260419T202652
CREATED:20220621T145509Z
LAST-MODIFIED:20230131T010033Z
UID:10005417-1743330600-1743334200@olddutchchurch.org
SUMMARY:Sunday Worship
DESCRIPTION:Sunday worship in the Sanctuary
URL:https://olddutchchurch.org/event/sunday-worship/2025-03-30/
LOCATION:Old Dutch Church\, Wall Street\, Kingston\, 272 Wall Street\, Kingston\, NY\, 12401\, United States
END:VEVENT
BEGIN:VEVENT
DTSTART;TZID=America/New_York:20250330T113000
DTEND;TZID=America/New_York:20250330T123000
DTSTAMP:20260419T202652
CREATED:20220621T151126Z
LAST-MODIFIED:20230131T004016Z
UID:10005717-1743334200-1743337800@olddutchchurch.org
SUMMARY:ACA
DESCRIPTION:ACA in OMG
URL:https://olddutchchurch.org/event/aca/2025-03-30/
LOCATION:Old Dutch Church\, Wall Street\, Kingston\, 272 Wall Street\, Kingston\, NY\, 12401\, United States
END:VEVENT
BEGIN:VEVENT
DTSTART;TZID=America/New_York:20250330T190000
DTEND;TZID=America/New_York:20250330T213000
DTSTAMP:20260419T202652
CREATED:20220621T152603Z
LAST-MODIFIED:20230131T005403Z
UID:10008275-1743361200-1743370200@olddutchchurch.org
SUMMARY:SLAA Women’s Group
DESCRIPTION:SLAA in OMG
URL:https://olddutchchurch.org/event/slaa-3/2025-03-30/
END:VEVENT
BEGIN:VEVENT
DTSTART;TZID=America/New_York:20250331T170000
DTEND;TZID=America/New_York:20250331T180000
DTSTAMP:20260419T202652
CREATED:20230131T005556Z
LAST-MODIFIED:20230131T005556Z
UID:10009840-1743440400-1743444000@olddutchchurch.org
SUMMARY:SLAA Augustine Fellowship
DESCRIPTION:
URL:https://olddutchchurch.org/event/slaa-augustine-fellowship/2025-03-31/
END:VEVENT
BEGIN:VEVENT
DTSTART;TZID=America/New_York:20250331T190000
DTEND;TZID=America/New_York:20250331T200000
DTSTAMP:20260419T202652
CREATED:20230131T004717Z
LAST-MODIFIED:20230131T004717Z
UID:10009573-1743447600-1743451200@olddutchchurch.org
SUMMARY:Debtors’ Anonymous
DESCRIPTION:
URL:https://olddutchchurch.org/event/debtors-anonymous/2025-03-31/
END:VEVENT
BEGIN:VEVENT
DTSTART;TZID=America/New_York:20250402T130000
DTEND;TZID=America/New_York:20250402T140000
DTSTAMP:20260419T202652
CREATED:20220621T152107Z
LAST-MODIFIED:20250624T163908Z
UID:10007355-1743598800-1743602400@olddutchchurch.org
SUMMARY:Community Chorus (on hiatus until Fall)
DESCRIPTION:Community Chorus in Bethany Hall
URL:https://olddutchchurch.org/event/community-chorus/2025-04-02/
END:VEVENT
BEGIN:VEVENT
DTSTART;TZID=America/New_York:20250402T180000
DTEND;TZID=America/New_York:20250402T210000
DTSTAMP:20260419T202652
CREATED:20230131T003225Z
LAST-MODIFIED:20250624T171339Z
UID:10007055-1743616800-1743627600@olddutchchurch.org
SUMMARY:Ubaka Hill Drum Circle
DESCRIPTION:
URL:https://olddutchchurch.org/event/ubaka-hill-drum-circle/2025-04-02/
END:VEVENT
BEGIN:VEVENT
DTSTART;TZID=America/New_York:20250403T183000
DTEND;TZID=America/New_York:20250403T193000
DTSTAMP:20260419T202652
CREATED:20230131T004310Z
LAST-MODIFIED:20230131T004310Z
UID:10009306-1743705000-1743708600@olddutchchurch.org
SUMMARY:ACA Book Group
DESCRIPTION:Meeting every other week
URL:https://olddutchchurch.org/event/aca-book-group/2025-04-03/
END:VEVENT
BEGIN:VEVENT
DTSTART;TZID=America/New_York:20250403T190000
DTEND;TZID=America/New_York:20250403T200000
DTSTAMP:20260419T202652
CREATED:20230131T003704Z
LAST-MODIFIED:20230131T003704Z
UID:10008008-1743706800-1743710400@olddutchchurch.org
SUMMARY:AA
DESCRIPTION:
URL:https://olddutchchurch.org/event/aa/2025-04-03/
END:VEVENT
BEGIN:VEVENT
DTSTART;TZID=America/New_York:20250405T210000
DTEND;TZID=America/New_York:20250405T220000
DTSTAMP:20260419T202652
CREATED:20230131T003843Z
LAST-MODIFIED:20230131T003843Z
UID:10008544-1743886800-1743890400@olddutchchurch.org
SUMMARY:AA Book Group
DESCRIPTION:
URL:https://olddutchchurch.org/event/aa-book-group/2025-04-05/
END:VEVENT
BEGIN:VEVENT
DTSTART;TZID=America/New_York:20250406T103000
DTEND;TZID=America/New_York:20250406T113000
DTSTAMP:20260419T202652
CREATED:20220621T145509Z
LAST-MODIFIED:20230131T010033Z
UID:10005418-1743935400-1743939000@olddutchchurch.org
SUMMARY:Sunday Worship
DESCRIPTION:Sunday worship in the Sanctuary
URL:https://olddutchchurch.org/event/sunday-worship/2025-04-06/
LOCATION:Old Dutch Church\, Wall Street\, Kingston\, 272 Wall Street\, Kingston\, NY\, 12401\, United States
END:VEVENT
BEGIN:VEVENT
DTSTART;TZID=America/New_York:20250406T113000
DTEND;TZID=America/New_York:20250406T123000
DTSTAMP:20260419T202652
CREATED:20220621T151126Z
LAST-MODIFIED:20230131T004016Z
UID:10005718-1743939000-1743942600@olddutchchurch.org
SUMMARY:ACA
DESCRIPTION:ACA in OMG
URL:https://olddutchchurch.org/event/aca/2025-04-06/
LOCATION:Old Dutch Church\, Wall Street\, Kingston\, 272 Wall Street\, Kingston\, NY\, 12401\, United States
END:VEVENT
BEGIN:VEVENT
DTSTART;TZID=America/New_York:20250406T190000
DTEND;TZID=America/New_York:20250406T213000
DTSTAMP:20260419T202652
CREATED:20220621T152603Z
LAST-MODIFIED:20230131T005403Z
UID:10008276-1743966000-1743975000@olddutchchurch.org
SUMMARY:SLAA Women’s Group
DESCRIPTION:SLAA in OMG
URL:https://olddutchchurch.org/event/slaa-3/2025-04-06/
END:VEVENT
BEGIN:VEVENT
DTSTART;TZID=America/New_York:20250407T170000
DTEND;TZID=America/New_York:20250407T180000
DTSTAMP:20260419T202652
CREATED:20230131T005556Z
LAST-MODIFIED:20230131T005556Z
UID:10009841-1744045200-1744048800@olddutchchurch.org
SUMMARY:SLAA Augustine Fellowship
DESCRIPTION:
URL:https://olddutchchurch.org/event/slaa-augustine-fellowship/2025-04-07/
END:VEVENT
BEGIN:VEVENT
DTSTART;TZID=America/New_York:20250407T190000
DTEND;TZID=America/New_York:20250407T200000
DTSTAMP:20260419T202652
CREATED:20230131T004717Z
LAST-MODIFIED:20230131T004717Z
UID:10009574-1744052400-1744056000@olddutchchurch.org
SUMMARY:Debtors’ Anonymous
DESCRIPTION:
URL:https://olddutchchurch.org/event/debtors-anonymous/2025-04-07/
END:VEVENT
BEGIN:VEVENT
DTSTART;TZID=America/New_York:20250409T130000
DTEND;TZID=America/New_York:20250409T140000
DTSTAMP:20260419T202652
CREATED:20220621T152107Z
LAST-MODIFIED:20250624T163908Z
UID:10007356-1744203600-1744207200@olddutchchurch.org
SUMMARY:Community Chorus (on hiatus until Fall)
DESCRIPTION:Community Chorus in Bethany Hall
URL:https://olddutchchurch.org/event/community-chorus/2025-04-09/
END:VEVENT
BEGIN:VEVENT
DTSTART;TZID=America/New_York:20250409T180000
DTEND;TZID=America/New_York:20250409T210000
DTSTAMP:20260419T202652
CREATED:20230131T003225Z
LAST-MODIFIED:20250624T171339Z
UID:10007056-1744221600-1744232400@olddutchchurch.org
SUMMARY:Ubaka Hill Drum Circle
DESCRIPTION:
URL:https://olddutchchurch.org/event/ubaka-hill-drum-circle/2025-04-09/
END:VEVENT
BEGIN:VEVENT
DTSTART;TZID=America/New_York:20250410T183000
DTEND;TZID=America/New_York:20250410T193000
DTSTAMP:20260419T202652
CREATED:20230131T004310Z
LAST-MODIFIED:20230131T004310Z
UID:10009307-1744309800-1744313400@olddutchchurch.org
SUMMARY:ACA Book Group
DESCRIPTION:Meeting every other week
URL:https://olddutchchurch.org/event/aca-book-group/2025-04-10/
END:VEVENT
BEGIN:VEVENT
DTSTART;TZID=America/New_York:20250410T190000
DTEND;TZID=America/New_York:20250410T200000
DTSTAMP:20260419T202652
CREATED:20230131T003704Z
LAST-MODIFIED:20230131T003704Z
UID:10008009-1744311600-1744315200@olddutchchurch.org
SUMMARY:AA
DESCRIPTION:
URL:https://olddutchchurch.org/event/aa/2025-04-10/
END:VEVENT
BEGIN:VEVENT
DTSTART;TZID=America/New_York:20250412T210000
DTEND;TZID=America/New_York:20250412T220000
DTSTAMP:20260419T202652
CREATED:20230131T003843Z
LAST-MODIFIED:20230131T003843Z
UID:10008545-1744491600-1744495200@olddutchchurch.org
SUMMARY:AA Book Group
DESCRIPTION:
URL:https://olddutchchurch.org/event/aa-book-group/2025-04-12/
END:VEVENT
BEGIN:VEVENT
DTSTART;TZID=America/New_York:20250413T103000
DTEND;TZID=America/New_York:20250413T113000
DTSTAMP:20260419T202652
CREATED:20220621T145509Z
LAST-MODIFIED:20230131T010033Z
UID:10005419-1744540200-1744543800@olddutchchurch.org
SUMMARY:Sunday Worship
DESCRIPTION:Sunday worship in the Sanctuary
URL:https://olddutchchurch.org/event/sunday-worship/2025-04-13/
LOCATION:Old Dutch Church\, Wall Street\, Kingston\, 272 Wall Street\, Kingston\, NY\, 12401\, United States
END:VEVENT
BEGIN:VEVENT
DTSTART;TZID=America/New_York:20250413T113000
DTEND;TZID=America/New_York:20250413T123000
DTSTAMP:20260419T202652
CREATED:20220621T151126Z
LAST-MODIFIED:20230131T004016Z
UID:10005719-1744543800-1744547400@olddutchchurch.org
SUMMARY:ACA
DESCRIPTION:ACA in OMG
URL:https://olddutchchurch.org/event/aca/2025-04-13/
LOCATION:Old Dutch Church\, Wall Street\, Kingston\, 272 Wall Street\, Kingston\, NY\, 12401\, United States
END:VEVENT
BEGIN:VEVENT
DTSTART;TZID=America/New_York:20250413T190000
DTEND;TZID=America/New_York:20250413T213000
DTSTAMP:20260419T202652
CREATED:20220621T152603Z
LAST-MODIFIED:20230131T005403Z
UID:10008277-1744570800-1744579800@olddutchchurch.org
SUMMARY:SLAA Women’s Group
DESCRIPTION:SLAA in OMG
URL:https://olddutchchurch.org/event/slaa-3/2025-04-13/
END:VEVENT
BEGIN:VEVENT
DTSTART;TZID=America/New_York:20250414T170000
DTEND;TZID=America/New_York:20250414T180000
DTSTAMP:20260419T202652
CREATED:20230131T005556Z
LAST-MODIFIED:20230131T005556Z
UID:10009842-1744650000-1744653600@olddutchchurch.org
SUMMARY:SLAA Augustine Fellowship
DESCRIPTION:
URL:https://olddutchchurch.org/event/slaa-augustine-fellowship/2025-04-14/
END:VEVENT
BEGIN:VEVENT
DTSTART;TZID=America/New_York:20250414T190000
DTEND;TZID=America/New_York:20250414T200000
DTSTAMP:20260419T202652
CREATED:20230131T004717Z
LAST-MODIFIED:20230131T004717Z
UID:10009575-1744657200-1744660800@olddutchchurch.org
SUMMARY:Debtors’ Anonymous
DESCRIPTION:
URL:https://olddutchchurch.org/event/debtors-anonymous/2025-04-14/
END:VEVENT
BEGIN:VEVENT
DTSTART;TZID=America/New_York:20250416T130000
DTEND;TZID=America/New_York:20250416T140000
DTSTAMP:20260419T202652
CREATED:20220621T152107Z
LAST-MODIFIED:20250624T163908Z
UID:10007357-1744808400-1744812000@olddutchchurch.org
SUMMARY:Community Chorus (on hiatus until Fall)
DESCRIPTION:Community Chorus in Bethany Hall
URL:https://olddutchchurch.org/event/community-chorus/2025-04-16/
END:VEVENT
BEGIN:VEVENT
DTSTART;TZID=America/New_York:20250416T180000
DTEND;TZID=America/New_York:20250416T210000
DTSTAMP:20260419T202652
CREATED:20230131T003225Z
LAST-MODIFIED:20250624T171339Z
UID:10007057-1744826400-1744837200@olddutchchurch.org
SUMMARY:Ubaka Hill Drum Circle
DESCRIPTION:
URL:https://olddutchchurch.org/event/ubaka-hill-drum-circle/2025-04-16/
END:VEVENT
END:VCALENDAR