BEGIN:VCALENDAR
VERSION:2.0
PRODID:-//Old Dutch Church - ECPv6.15.20//NONSGML v1.0//EN
CALSCALE:GREGORIAN
METHOD:PUBLISH
X-ORIGINAL-URL:https://olddutchchurch.org
X-WR-CALDESC:Events for Old Dutch Church
REFRESH-INTERVAL;VALUE=DURATION:PT1H
X-Robots-Tag:noindex
X-PUBLISHED-TTL:PT1H
BEGIN:VTIMEZONE
TZID:America/New_York
BEGIN:DAYLIGHT
TZOFFSETFROM:-0500
TZOFFSETTO:-0400
TZNAME:EDT
DTSTART:20240310T070000
END:DAYLIGHT
BEGIN:STANDARD
TZOFFSETFROM:-0400
TZOFFSETTO:-0500
TZNAME:EST
DTSTART:20241103T060000
END:STANDARD
BEGIN:DAYLIGHT
TZOFFSETFROM:-0500
TZOFFSETTO:-0400
TZNAME:EDT
DTSTART:20250309T070000
END:DAYLIGHT
BEGIN:STANDARD
TZOFFSETFROM:-0400
TZOFFSETTO:-0500
TZNAME:EST
DTSTART:20251102T060000
END:STANDARD
BEGIN:DAYLIGHT
TZOFFSETFROM:-0500
TZOFFSETTO:-0400
TZNAME:EDT
DTSTART:20260308T070000
END:DAYLIGHT
BEGIN:STANDARD
TZOFFSETFROM:-0400
TZOFFSETTO:-0500
TZNAME:EST
DTSTART:20261101T060000
END:STANDARD
END:VTIMEZONE
BEGIN:VEVENT
DTSTART;TZID=America/New_York:20250424T190000
DTEND;TZID=America/New_York:20250424T200000
DTSTAMP:20260422T185541
CREATED:20230131T003704Z
LAST-MODIFIED:20230131T003704Z
UID:10008011-1745521200-1745524800@olddutchchurch.org
SUMMARY:AA
DESCRIPTION:
URL:https://olddutchchurch.org/event/aa/2025-04-24/
END:VEVENT
BEGIN:VEVENT
DTSTART;TZID=America/New_York:20250426T210000
DTEND;TZID=America/New_York:20250426T220000
DTSTAMP:20260422T185541
CREATED:20230131T003843Z
LAST-MODIFIED:20230131T003843Z
UID:10008547-1745701200-1745704800@olddutchchurch.org
SUMMARY:AA Book Group
DESCRIPTION:
URL:https://olddutchchurch.org/event/aa-book-group/2025-04-26/
END:VEVENT
BEGIN:VEVENT
DTSTART;TZID=America/New_York:20250427T103000
DTEND;TZID=America/New_York:20250427T113000
DTSTAMP:20260422T185541
CREATED:20220621T145509Z
LAST-MODIFIED:20230131T010033Z
UID:10005421-1745749800-1745753400@olddutchchurch.org
SUMMARY:Sunday Worship
DESCRIPTION:Sunday worship in the Sanctuary
URL:https://olddutchchurch.org/event/sunday-worship/2025-04-27/
LOCATION:Old Dutch Church\, Wall Street\, Kingston\, 272 Wall Street\, Kingston\, NY\, 12401\, United States
END:VEVENT
BEGIN:VEVENT
DTSTART;TZID=America/New_York:20250427T113000
DTEND;TZID=America/New_York:20250427T123000
DTSTAMP:20260422T185541
CREATED:20220621T151126Z
LAST-MODIFIED:20230131T004016Z
UID:10005721-1745753400-1745757000@olddutchchurch.org
SUMMARY:ACA
DESCRIPTION:ACA in OMG
URL:https://olddutchchurch.org/event/aca/2025-04-27/
LOCATION:Old Dutch Church\, Wall Street\, Kingston\, 272 Wall Street\, Kingston\, NY\, 12401\, United States
END:VEVENT
BEGIN:VEVENT
DTSTART;TZID=America/New_York:20250427T190000
DTEND;TZID=America/New_York:20250427T213000
DTSTAMP:20260422T185541
CREATED:20220621T152603Z
LAST-MODIFIED:20230131T005403Z
UID:10008279-1745780400-1745789400@olddutchchurch.org
SUMMARY:SLAA Women’s Group
DESCRIPTION:SLAA in OMG
URL:https://olddutchchurch.org/event/slaa-3/2025-04-27/
END:VEVENT
BEGIN:VEVENT
DTSTART;TZID=America/New_York:20250428T170000
DTEND;TZID=America/New_York:20250428T180000
DTSTAMP:20260422T185541
CREATED:20230131T005556Z
LAST-MODIFIED:20230131T005556Z
UID:10009844-1745859600-1745863200@olddutchchurch.org
SUMMARY:SLAA Augustine Fellowship
DESCRIPTION:
URL:https://olddutchchurch.org/event/slaa-augustine-fellowship/2025-04-28/
END:VEVENT
BEGIN:VEVENT
DTSTART;TZID=America/New_York:20250428T190000
DTEND;TZID=America/New_York:20250428T200000
DTSTAMP:20260422T185541
CREATED:20230131T004717Z
LAST-MODIFIED:20230131T004717Z
UID:10009577-1745866800-1745870400@olddutchchurch.org
SUMMARY:Debtors’ Anonymous
DESCRIPTION:
URL:https://olddutchchurch.org/event/debtors-anonymous/2025-04-28/
END:VEVENT
BEGIN:VEVENT
DTSTART;TZID=America/New_York:20250430T130000
DTEND;TZID=America/New_York:20250430T140000
DTSTAMP:20260422T185541
CREATED:20220621T152107Z
LAST-MODIFIED:20250624T163908Z
UID:10007359-1746018000-1746021600@olddutchchurch.org
SUMMARY:Community Chorus (on hiatus until Fall)
DESCRIPTION:Community Chorus in Bethany Hall
URL:https://olddutchchurch.org/event/community-chorus/2025-04-30/
END:VEVENT
BEGIN:VEVENT
DTSTART;TZID=America/New_York:20250430T180000
DTEND;TZID=America/New_York:20250430T210000
DTSTAMP:20260422T185541
CREATED:20230131T003225Z
LAST-MODIFIED:20250624T171339Z
UID:10007059-1746036000-1746046800@olddutchchurch.org
SUMMARY:Ubaka Hill Drum Circle
DESCRIPTION:
URL:https://olddutchchurch.org/event/ubaka-hill-drum-circle/2025-04-30/
END:VEVENT
BEGIN:VEVENT
DTSTART;TZID=America/New_York:20250501T183000
DTEND;TZID=America/New_York:20250501T193000
DTSTAMP:20260422T185541
CREATED:20230131T004310Z
LAST-MODIFIED:20230131T004310Z
UID:10009310-1746124200-1746127800@olddutchchurch.org
SUMMARY:ACA Book Group
DESCRIPTION:Meeting every other week
URL:https://olddutchchurch.org/event/aca-book-group/2025-05-01/
END:VEVENT
BEGIN:VEVENT
DTSTART;TZID=America/New_York:20250501T190000
DTEND;TZID=America/New_York:20250501T200000
DTSTAMP:20260422T185541
CREATED:20230131T003704Z
LAST-MODIFIED:20230131T003704Z
UID:10008012-1746126000-1746129600@olddutchchurch.org
SUMMARY:AA
DESCRIPTION:
URL:https://olddutchchurch.org/event/aa/2025-05-01/
END:VEVENT
BEGIN:VEVENT
DTSTART;TZID=America/New_York:20250503T210000
DTEND;TZID=America/New_York:20250503T220000
DTSTAMP:20260422T185541
CREATED:20230131T003843Z
LAST-MODIFIED:20230131T003843Z
UID:10008548-1746306000-1746309600@olddutchchurch.org
SUMMARY:AA Book Group
DESCRIPTION:
URL:https://olddutchchurch.org/event/aa-book-group/2025-05-03/
END:VEVENT
BEGIN:VEVENT
DTSTART;TZID=America/New_York:20250504T103000
DTEND;TZID=America/New_York:20250504T113000
DTSTAMP:20260422T185541
CREATED:20220621T145509Z
LAST-MODIFIED:20230131T010033Z
UID:10005422-1746354600-1746358200@olddutchchurch.org
SUMMARY:Sunday Worship
DESCRIPTION:Sunday worship in the Sanctuary
URL:https://olddutchchurch.org/event/sunday-worship/2025-05-04/
LOCATION:Old Dutch Church\, Wall Street\, Kingston\, 272 Wall Street\, Kingston\, NY\, 12401\, United States
END:VEVENT
BEGIN:VEVENT
DTSTART;TZID=America/New_York:20250504T113000
DTEND;TZID=America/New_York:20250504T123000
DTSTAMP:20260422T185541
CREATED:20220621T151126Z
LAST-MODIFIED:20230131T004016Z
UID:10005722-1746358200-1746361800@olddutchchurch.org
SUMMARY:ACA
DESCRIPTION:ACA in OMG
URL:https://olddutchchurch.org/event/aca/2025-05-04/
LOCATION:Old Dutch Church\, Wall Street\, Kingston\, 272 Wall Street\, Kingston\, NY\, 12401\, United States
END:VEVENT
BEGIN:VEVENT
DTSTART;TZID=America/New_York:20250504T190000
DTEND;TZID=America/New_York:20250504T213000
DTSTAMP:20260422T185541
CREATED:20220621T152603Z
LAST-MODIFIED:20230131T005403Z
UID:10008280-1746385200-1746394200@olddutchchurch.org
SUMMARY:SLAA Women’s Group
DESCRIPTION:SLAA in OMG
URL:https://olddutchchurch.org/event/slaa-3/2025-05-04/
END:VEVENT
BEGIN:VEVENT
DTSTART;TZID=America/New_York:20250505T170000
DTEND;TZID=America/New_York:20250505T180000
DTSTAMP:20260422T185541
CREATED:20230131T005556Z
LAST-MODIFIED:20230131T005556Z
UID:10009845-1746464400-1746468000@olddutchchurch.org
SUMMARY:SLAA Augustine Fellowship
DESCRIPTION:
URL:https://olddutchchurch.org/event/slaa-augustine-fellowship/2025-05-05/
END:VEVENT
BEGIN:VEVENT
DTSTART;TZID=America/New_York:20250505T190000
DTEND;TZID=America/New_York:20250505T200000
DTSTAMP:20260422T185541
CREATED:20230131T004717Z
LAST-MODIFIED:20230131T004717Z
UID:10009578-1746471600-1746475200@olddutchchurch.org
SUMMARY:Debtors’ Anonymous
DESCRIPTION:
URL:https://olddutchchurch.org/event/debtors-anonymous/2025-05-05/
END:VEVENT
BEGIN:VEVENT
DTSTART;TZID=America/New_York:20250507T130000
DTEND;TZID=America/New_York:20250507T140000
DTSTAMP:20260422T185541
CREATED:20220621T152107Z
LAST-MODIFIED:20250624T163908Z
UID:10007360-1746622800-1746626400@olddutchchurch.org
SUMMARY:Community Chorus (on hiatus until Fall)
DESCRIPTION:Community Chorus in Bethany Hall
URL:https://olddutchchurch.org/event/community-chorus/2025-05-07/
END:VEVENT
BEGIN:VEVENT
DTSTART;TZID=America/New_York:20250507T180000
DTEND;TZID=America/New_York:20250507T210000
DTSTAMP:20260422T185541
CREATED:20230131T003225Z
LAST-MODIFIED:20250624T171339Z
UID:10007060-1746640800-1746651600@olddutchchurch.org
SUMMARY:Ubaka Hill Drum Circle
DESCRIPTION:
URL:https://olddutchchurch.org/event/ubaka-hill-drum-circle/2025-05-07/
END:VEVENT
BEGIN:VEVENT
DTSTART;TZID=America/New_York:20250508T183000
DTEND;TZID=America/New_York:20250508T193000
DTSTAMP:20260422T185541
CREATED:20230131T004310Z
LAST-MODIFIED:20230131T004310Z
UID:10009311-1746729000-1746732600@olddutchchurch.org
SUMMARY:ACA Book Group
DESCRIPTION:Meeting every other week
URL:https://olddutchchurch.org/event/aca-book-group/2025-05-08/
END:VEVENT
BEGIN:VEVENT
DTSTART;TZID=America/New_York:20250508T190000
DTEND;TZID=America/New_York:20250508T200000
DTSTAMP:20260422T185542
CREATED:20230131T003704Z
LAST-MODIFIED:20230131T003704Z
UID:10008013-1746730800-1746734400@olddutchchurch.org
SUMMARY:AA
DESCRIPTION:
URL:https://olddutchchurch.org/event/aa/2025-05-08/
END:VEVENT
BEGIN:VEVENT
DTSTART;TZID=America/New_York:20250510T210000
DTEND;TZID=America/New_York:20250510T220000
DTSTAMP:20260422T185542
CREATED:20230131T003843Z
LAST-MODIFIED:20230131T003843Z
UID:10008549-1746910800-1746914400@olddutchchurch.org
SUMMARY:AA Book Group
DESCRIPTION:
URL:https://olddutchchurch.org/event/aa-book-group/2025-05-10/
END:VEVENT
BEGIN:VEVENT
DTSTART;TZID=America/New_York:20250511T103000
DTEND;TZID=America/New_York:20250511T113000
DTSTAMP:20260422T185542
CREATED:20220621T145509Z
LAST-MODIFIED:20230131T010033Z
UID:10005423-1746959400-1746963000@olddutchchurch.org
SUMMARY:Sunday Worship
DESCRIPTION:Sunday worship in the Sanctuary
URL:https://olddutchchurch.org/event/sunday-worship/2025-05-11/
LOCATION:Old Dutch Church\, Wall Street\, Kingston\, 272 Wall Street\, Kingston\, NY\, 12401\, United States
END:VEVENT
BEGIN:VEVENT
DTSTART;TZID=America/New_York:20250511T113000
DTEND;TZID=America/New_York:20250511T123000
DTSTAMP:20260422T185542
CREATED:20220621T151126Z
LAST-MODIFIED:20230131T004016Z
UID:10005723-1746963000-1746966600@olddutchchurch.org
SUMMARY:ACA
DESCRIPTION:ACA in OMG
URL:https://olddutchchurch.org/event/aca/2025-05-11/
LOCATION:Old Dutch Church\, Wall Street\, Kingston\, 272 Wall Street\, Kingston\, NY\, 12401\, United States
END:VEVENT
BEGIN:VEVENT
DTSTART;TZID=America/New_York:20250511T190000
DTEND;TZID=America/New_York:20250511T213000
DTSTAMP:20260422T185542
CREATED:20220621T152603Z
LAST-MODIFIED:20230131T005403Z
UID:10008281-1746990000-1746999000@olddutchchurch.org
SUMMARY:SLAA Women’s Group
DESCRIPTION:SLAA in OMG
URL:https://olddutchchurch.org/event/slaa-3/2025-05-11/
END:VEVENT
BEGIN:VEVENT
DTSTART;TZID=America/New_York:20250512T170000
DTEND;TZID=America/New_York:20250512T180000
DTSTAMP:20260422T185542
CREATED:20230131T005556Z
LAST-MODIFIED:20230131T005556Z
UID:10009846-1747069200-1747072800@olddutchchurch.org
SUMMARY:SLAA Augustine Fellowship
DESCRIPTION:
URL:https://olddutchchurch.org/event/slaa-augustine-fellowship/2025-05-12/
END:VEVENT
BEGIN:VEVENT
DTSTART;TZID=America/New_York:20250512T190000
DTEND;TZID=America/New_York:20250512T200000
DTSTAMP:20260422T185542
CREATED:20230131T004717Z
LAST-MODIFIED:20230131T004717Z
UID:10009579-1747076400-1747080000@olddutchchurch.org
SUMMARY:Debtors’ Anonymous
DESCRIPTION:
URL:https://olddutchchurch.org/event/debtors-anonymous/2025-05-12/
END:VEVENT
BEGIN:VEVENT
DTSTART;TZID=America/New_York:20250514T130000
DTEND;TZID=America/New_York:20250514T140000
DTSTAMP:20260422T185542
CREATED:20220621T152107Z
LAST-MODIFIED:20250624T163908Z
UID:10007361-1747227600-1747231200@olddutchchurch.org
SUMMARY:Community Chorus (on hiatus until Fall)
DESCRIPTION:Community Chorus in Bethany Hall
URL:https://olddutchchurch.org/event/community-chorus/2025-05-14/
END:VEVENT
BEGIN:VEVENT
DTSTART;TZID=America/New_York:20250514T180000
DTEND;TZID=America/New_York:20250514T210000
DTSTAMP:20260422T185542
CREATED:20230131T003225Z
LAST-MODIFIED:20250624T171339Z
UID:10007061-1747245600-1747256400@olddutchchurch.org
SUMMARY:Ubaka Hill Drum Circle
DESCRIPTION:
URL:https://olddutchchurch.org/event/ubaka-hill-drum-circle/2025-05-14/
END:VEVENT
BEGIN:VEVENT
DTSTART;TZID=America/New_York:20250515T183000
DTEND;TZID=America/New_York:20250515T193000
DTSTAMP:20260422T185542
CREATED:20230131T004310Z
LAST-MODIFIED:20230131T004310Z
UID:10009312-1747333800-1747337400@olddutchchurch.org
SUMMARY:ACA Book Group
DESCRIPTION:Meeting every other week
URL:https://olddutchchurch.org/event/aca-book-group/2025-05-15/
END:VEVENT
END:VCALENDAR