BEGIN:VCALENDAR
VERSION:2.0
PRODID:-//Old Dutch Church - ECPv6.15.20//NONSGML v1.0//EN
CALSCALE:GREGORIAN
METHOD:PUBLISH
X-WR-CALNAME:Old Dutch Church
X-ORIGINAL-URL:https://olddutchchurch.org
X-WR-CALDESC:Events for Old Dutch Church
REFRESH-INTERVAL;VALUE=DURATION:PT1H
X-Robots-Tag:noindex
X-PUBLISHED-TTL:PT1H
BEGIN:VTIMEZONE
TZID:America/New_York
BEGIN:DAYLIGHT
TZOFFSETFROM:-0500
TZOFFSETTO:-0400
TZNAME:EDT
DTSTART:20240310T070000
END:DAYLIGHT
BEGIN:STANDARD
TZOFFSETFROM:-0400
TZOFFSETTO:-0500
TZNAME:EST
DTSTART:20241103T060000
END:STANDARD
BEGIN:DAYLIGHT
TZOFFSETFROM:-0500
TZOFFSETTO:-0400
TZNAME:EDT
DTSTART:20250309T070000
END:DAYLIGHT
BEGIN:STANDARD
TZOFFSETFROM:-0400
TZOFFSETTO:-0500
TZNAME:EST
DTSTART:20251102T060000
END:STANDARD
BEGIN:DAYLIGHT
TZOFFSETFROM:-0500
TZOFFSETTO:-0400
TZNAME:EDT
DTSTART:20260308T070000
END:DAYLIGHT
BEGIN:STANDARD
TZOFFSETFROM:-0400
TZOFFSETTO:-0500
TZNAME:EST
DTSTART:20261101T060000
END:STANDARD
END:VTIMEZONE
BEGIN:VEVENT
DTSTART;TZID=America/New_York:20250820T130000
DTEND;TZID=America/New_York:20250820T140000
DTSTAMP:20260419T232555
CREATED:20220621T152107Z
LAST-MODIFIED:20250624T163908Z
UID:10007375-1755694800-1755698400@olddutchchurch.org
SUMMARY:Community Chorus (on hiatus until Fall)
DESCRIPTION:Community Chorus in Bethany Hall
URL:https://olddutchchurch.org/event/community-chorus/2025-08-20/
END:VEVENT
BEGIN:VEVENT
DTSTART;TZID=America/New_York:20250820T120000
DTEND;TZID=America/New_York:20250820T130000
DTSTAMP:20260419T232555
CREATED:20250625T194104Z
LAST-MODIFIED:20250625T194104Z
UID:10011686-1755691200-1755694800@olddutchchurch.org
SUMMARY:ACA
DESCRIPTION:
URL:https://olddutchchurch.org/event/aca-2/2025-08-20/
END:VEVENT
BEGIN:VEVENT
DTSTART;TZID=America/New_York:20250818T190000
DTEND;TZID=America/New_York:20250818T200000
DTSTAMP:20260419T232555
CREATED:20230131T004717Z
LAST-MODIFIED:20230131T004717Z
UID:10009593-1755543600-1755547200@olddutchchurch.org
SUMMARY:Debtors’ Anonymous
DESCRIPTION:
URL:https://olddutchchurch.org/event/debtors-anonymous/2025-08-18/
END:VEVENT
BEGIN:VEVENT
DTSTART;TZID=America/New_York:20250818T170000
DTEND;TZID=America/New_York:20250818T180000
DTSTAMP:20260419T232555
CREATED:20230131T005556Z
LAST-MODIFIED:20230131T005556Z
UID:10009860-1755536400-1755540000@olddutchchurch.org
SUMMARY:SLAA Augustine Fellowship
DESCRIPTION:
URL:https://olddutchchurch.org/event/slaa-augustine-fellowship/2025-08-18/
END:VEVENT
BEGIN:VEVENT
DTSTART;TZID=America/New_York:20250817T190000
DTEND;TZID=America/New_York:20250817T213000
DTSTAMP:20260419T232555
CREATED:20220621T152603Z
LAST-MODIFIED:20230131T005403Z
UID:10008295-1755457200-1755466200@olddutchchurch.org
SUMMARY:SLAA Women’s Group
DESCRIPTION:SLAA in OMG
URL:https://olddutchchurch.org/event/slaa-3/2025-08-17/
END:VEVENT
BEGIN:VEVENT
DTSTART;TZID=America/New_York:20250817T113000
DTEND;TZID=America/New_York:20250817T123000
DTSTAMP:20260419T232555
CREATED:20220621T151126Z
LAST-MODIFIED:20230131T004016Z
UID:10005737-1755430200-1755433800@olddutchchurch.org
SUMMARY:ACA
DESCRIPTION:ACA in OMG
URL:https://olddutchchurch.org/event/aca/2025-08-17/
LOCATION:Old Dutch Church\, Wall Street\, Kingston\, 272 Wall Street\, Kingston\, NY\, 12401\, United States
END:VEVENT
BEGIN:VEVENT
DTSTART;TZID=America/New_York:20250817T103000
DTEND;TZID=America/New_York:20250817T113000
DTSTAMP:20260419T232555
CREATED:20220621T145509Z
LAST-MODIFIED:20230131T010033Z
UID:10005437-1755426600-1755430200@olddutchchurch.org
SUMMARY:Sunday Worship
DESCRIPTION:Sunday worship in the Sanctuary
URL:https://olddutchchurch.org/event/sunday-worship/2025-08-17/
LOCATION:Old Dutch Church\, Wall Street\, Kingston\, 272 Wall Street\, Kingston\, NY\, 12401\, United States
END:VEVENT
BEGIN:VEVENT
DTSTART;TZID=America/New_York:20250816T210000
DTEND;TZID=America/New_York:20250816T220000
DTSTAMP:20260419T232555
CREATED:20230131T003843Z
LAST-MODIFIED:20230131T003843Z
UID:10008563-1755378000-1755381600@olddutchchurch.org
SUMMARY:AA Book Group
DESCRIPTION:
URL:https://olddutchchurch.org/event/aa-book-group/2025-08-16/
END:VEVENT
BEGIN:VEVENT
DTSTART;TZID=America/New_York:20250814T190000
DTEND;TZID=America/New_York:20250814T200000
DTSTAMP:20260419T232555
CREATED:20230131T003704Z
LAST-MODIFIED:20230131T003704Z
UID:10008027-1755198000-1755201600@olddutchchurch.org
SUMMARY:AA
DESCRIPTION:
URL:https://olddutchchurch.org/event/aa/2025-08-14/
END:VEVENT
BEGIN:VEVENT
DTSTART;TZID=America/New_York:20250814T183000
DTEND;TZID=America/New_York:20250814T193000
DTSTAMP:20260419T232555
CREATED:20230131T004310Z
LAST-MODIFIED:20230131T004310Z
UID:10009325-1755196200-1755199800@olddutchchurch.org
SUMMARY:ACA Book Group
DESCRIPTION:Meeting every other week
URL:https://olddutchchurch.org/event/aca-book-group/2025-08-14/
END:VEVENT
BEGIN:VEVENT
DTSTART;TZID=America/New_York:20250813T180000
DTEND;TZID=America/New_York:20250813T210000
DTSTAMP:20260419T232555
CREATED:20230131T003225Z
LAST-MODIFIED:20250624T171339Z
UID:10007074-1755108000-1755118800@olddutchchurch.org
SUMMARY:Ubaka Hill Drum Circle
DESCRIPTION:
URL:https://olddutchchurch.org/event/ubaka-hill-drum-circle/2025-08-13/
END:VEVENT
BEGIN:VEVENT
DTSTART;TZID=America/New_York:20250813T160000
DTEND;TZID=America/New_York:20250813T180000
DTSTAMP:20260419T232555
CREATED:20250624T194037Z
LAST-MODIFIED:20250624T194037Z
UID:10011663-1755100800-1755108000@olddutchchurch.org
SUMMARY:Vegan Happy Cart
DESCRIPTION:Free Vegan Food
URL:https://olddutchchurch.org/event/vegan-happy-cart/2025-08-13/
END:VEVENT
BEGIN:VEVENT
DTSTART;TZID=America/New_York:20250813T130000
DTEND;TZID=America/New_York:20250813T140000
DTSTAMP:20260419T232555
CREATED:20220621T152107Z
LAST-MODIFIED:20250624T163908Z
UID:10007374-1755090000-1755093600@olddutchchurch.org
SUMMARY:Community Chorus (on hiatus until Fall)
DESCRIPTION:Community Chorus in Bethany Hall
URL:https://olddutchchurch.org/event/community-chorus/2025-08-13/
END:VEVENT
BEGIN:VEVENT
DTSTART;TZID=America/New_York:20250813T120000
DTEND;TZID=America/New_York:20250813T130000
DTSTAMP:20260419T232555
CREATED:20250625T194104Z
LAST-MODIFIED:20250625T194104Z
UID:10011685-1755086400-1755090000@olddutchchurch.org
SUMMARY:ACA
DESCRIPTION:
URL:https://olddutchchurch.org/event/aca-2/2025-08-13/
END:VEVENT
BEGIN:VEVENT
DTSTART;TZID=America/New_York:20250811T190000
DTEND;TZID=America/New_York:20250811T200000
DTSTAMP:20260419T232555
CREATED:20230131T004717Z
LAST-MODIFIED:20230131T004717Z
UID:10009592-1754938800-1754942400@olddutchchurch.org
SUMMARY:Debtors’ Anonymous
DESCRIPTION:
URL:https://olddutchchurch.org/event/debtors-anonymous/2025-08-11/
END:VEVENT
BEGIN:VEVENT
DTSTART;TZID=America/New_York:20250811T170000
DTEND;TZID=America/New_York:20250811T180000
DTSTAMP:20260419T232555
CREATED:20230131T005556Z
LAST-MODIFIED:20230131T005556Z
UID:10009859-1754931600-1754935200@olddutchchurch.org
SUMMARY:SLAA Augustine Fellowship
DESCRIPTION:
URL:https://olddutchchurch.org/event/slaa-augustine-fellowship/2025-08-11/
END:VEVENT
BEGIN:VEVENT
DTSTART;TZID=America/New_York:20250810T190000
DTEND;TZID=America/New_York:20250810T213000
DTSTAMP:20260419T232555
CREATED:20220621T152603Z
LAST-MODIFIED:20230131T005403Z
UID:10008294-1754852400-1754861400@olddutchchurch.org
SUMMARY:SLAA Women’s Group
DESCRIPTION:SLAA in OMG
URL:https://olddutchchurch.org/event/slaa-3/2025-08-10/
END:VEVENT
BEGIN:VEVENT
DTSTART;TZID=America/New_York:20250810T113000
DTEND;TZID=America/New_York:20250810T123000
DTSTAMP:20260419T232555
CREATED:20220621T151126Z
LAST-MODIFIED:20230131T004016Z
UID:10005736-1754825400-1754829000@olddutchchurch.org
SUMMARY:ACA
DESCRIPTION:ACA in OMG
URL:https://olddutchchurch.org/event/aca/2025-08-10/
LOCATION:Old Dutch Church\, Wall Street\, Kingston\, 272 Wall Street\, Kingston\, NY\, 12401\, United States
END:VEVENT
BEGIN:VEVENT
DTSTART;TZID=America/New_York:20250810T103000
DTEND;TZID=America/New_York:20250810T113000
DTSTAMP:20260419T232555
CREATED:20220621T145509Z
LAST-MODIFIED:20230131T010033Z
UID:10005436-1754821800-1754825400@olddutchchurch.org
SUMMARY:Sunday Worship
DESCRIPTION:Sunday worship in the Sanctuary
URL:https://olddutchchurch.org/event/sunday-worship/2025-08-10/
LOCATION:Old Dutch Church\, Wall Street\, Kingston\, 272 Wall Street\, Kingston\, NY\, 12401\, United States
END:VEVENT
BEGIN:VEVENT
DTSTART;TZID=America/New_York:20250809T210000
DTEND;TZID=America/New_York:20250809T220000
DTSTAMP:20260419T232555
CREATED:20230131T003843Z
LAST-MODIFIED:20230131T003843Z
UID:10008562-1754773200-1754776800@olddutchchurch.org
SUMMARY:AA Book Group
DESCRIPTION:
URL:https://olddutchchurch.org/event/aa-book-group/2025-08-09/
END:VEVENT
BEGIN:VEVENT
DTSTART;TZID=America/New_York:20250807T190000
DTEND;TZID=America/New_York:20250807T200000
DTSTAMP:20260419T232555
CREATED:20230131T003704Z
LAST-MODIFIED:20230131T003704Z
UID:10008026-1754593200-1754596800@olddutchchurch.org
SUMMARY:AA
DESCRIPTION:
URL:https://olddutchchurch.org/event/aa/2025-08-07/
END:VEVENT
BEGIN:VEVENT
DTSTART;TZID=America/New_York:20250807T183000
DTEND;TZID=America/New_York:20250807T193000
DTSTAMP:20260419T232555
CREATED:20230131T004310Z
LAST-MODIFIED:20230131T004310Z
UID:10009324-1754591400-1754595000@olddutchchurch.org
SUMMARY:ACA Book Group
DESCRIPTION:Meeting every other week
URL:https://olddutchchurch.org/event/aca-book-group/2025-08-07/
END:VEVENT
BEGIN:VEVENT
DTSTART;TZID=America/New_York:20250806T180000
DTEND;TZID=America/New_York:20250806T210000
DTSTAMP:20260419T232555
CREATED:20230131T003225Z
LAST-MODIFIED:20250624T171339Z
UID:10007073-1754503200-1754514000@olddutchchurch.org
SUMMARY:Ubaka Hill Drum Circle
DESCRIPTION:
URL:https://olddutchchurch.org/event/ubaka-hill-drum-circle/2025-08-06/
END:VEVENT
BEGIN:VEVENT
DTSTART;TZID=America/New_York:20250806T160000
DTEND;TZID=America/New_York:20250806T180000
DTSTAMP:20260419T232555
CREATED:20250624T194037Z
LAST-MODIFIED:20250624T194037Z
UID:10011662-1754496000-1754503200@olddutchchurch.org
SUMMARY:Vegan Happy Cart
DESCRIPTION:Free Vegan Food
URL:https://olddutchchurch.org/event/vegan-happy-cart/2025-08-06/
END:VEVENT
BEGIN:VEVENT
DTSTART;TZID=America/New_York:20250806T130000
DTEND;TZID=America/New_York:20250806T140000
DTSTAMP:20260419T232555
CREATED:20220621T152107Z
LAST-MODIFIED:20250624T163908Z
UID:10007373-1754485200-1754488800@olddutchchurch.org
SUMMARY:Community Chorus (on hiatus until Fall)
DESCRIPTION:Community Chorus in Bethany Hall
URL:https://olddutchchurch.org/event/community-chorus/2025-08-06/
END:VEVENT
BEGIN:VEVENT
DTSTART;TZID=America/New_York:20250806T120000
DTEND;TZID=America/New_York:20250806T130000
DTSTAMP:20260419T232555
CREATED:20250625T194104Z
LAST-MODIFIED:20250625T194104Z
UID:10011684-1754481600-1754485200@olddutchchurch.org
SUMMARY:ACA
DESCRIPTION:
URL:https://olddutchchurch.org/event/aca-2/2025-08-06/
END:VEVENT
BEGIN:VEVENT
DTSTART;TZID=America/New_York:20250804T190000
DTEND;TZID=America/New_York:20250804T200000
DTSTAMP:20260419T232555
CREATED:20230131T004717Z
LAST-MODIFIED:20230131T004717Z
UID:10009591-1754334000-1754337600@olddutchchurch.org
SUMMARY:Debtors’ Anonymous
DESCRIPTION:
URL:https://olddutchchurch.org/event/debtors-anonymous/2025-08-04/
END:VEVENT
BEGIN:VEVENT
DTSTART;TZID=America/New_York:20250804T170000
DTEND;TZID=America/New_York:20250804T180000
DTSTAMP:20260419T232555
CREATED:20230131T005556Z
LAST-MODIFIED:20230131T005556Z
UID:10009858-1754326800-1754330400@olddutchchurch.org
SUMMARY:SLAA Augustine Fellowship
DESCRIPTION:
URL:https://olddutchchurch.org/event/slaa-augustine-fellowship/2025-08-04/
END:VEVENT
BEGIN:VEVENT
DTSTART;TZID=America/New_York:20250803T190000
DTEND;TZID=America/New_York:20250803T213000
DTSTAMP:20260419T232555
CREATED:20220621T152603Z
LAST-MODIFIED:20230131T005403Z
UID:10008293-1754247600-1754256600@olddutchchurch.org
SUMMARY:SLAA Women’s Group
DESCRIPTION:SLAA in OMG
URL:https://olddutchchurch.org/event/slaa-3/2025-08-03/
END:VEVENT
BEGIN:VEVENT
DTSTART;TZID=America/New_York:20250803T113000
DTEND;TZID=America/New_York:20250803T123000
DTSTAMP:20260419T232555
CREATED:20220621T151126Z
LAST-MODIFIED:20230131T004016Z
UID:10005735-1754220600-1754224200@olddutchchurch.org
SUMMARY:ACA
DESCRIPTION:ACA in OMG
URL:https://olddutchchurch.org/event/aca/2025-08-03/
LOCATION:Old Dutch Church\, Wall Street\, Kingston\, 272 Wall Street\, Kingston\, NY\, 12401\, United States
END:VEVENT
END:VCALENDAR