BEGIN:VCALENDAR
VERSION:2.0
PRODID:-//Old Dutch Church - ECPv6.15.20//NONSGML v1.0//EN
CALSCALE:GREGORIAN
METHOD:PUBLISH
X-ORIGINAL-URL:https://olddutchchurch.org
X-WR-CALDESC:Events for Old Dutch Church
REFRESH-INTERVAL;VALUE=DURATION:PT1H
X-Robots-Tag:noindex
X-PUBLISHED-TTL:PT1H
BEGIN:VTIMEZONE
TZID:America/New_York
BEGIN:DAYLIGHT
TZOFFSETFROM:-0500
TZOFFSETTO:-0400
TZNAME:EDT
DTSTART:20260308T070000
END:DAYLIGHT
BEGIN:STANDARD
TZOFFSETFROM:-0400
TZOFFSETTO:-0500
TZNAME:EST
DTSTART:20261101T060000
END:STANDARD
BEGIN:DAYLIGHT
TZOFFSETFROM:-0500
TZOFFSETTO:-0400
TZNAME:EDT
DTSTART:20270314T070000
END:DAYLIGHT
BEGIN:STANDARD
TZOFFSETFROM:-0400
TZOFFSETTO:-0500
TZNAME:EST
DTSTART:20271107T060000
END:STANDARD
BEGIN:DAYLIGHT
TZOFFSETFROM:-0500
TZOFFSETTO:-0400
TZNAME:EDT
DTSTART:20280312T070000
END:DAYLIGHT
BEGIN:STANDARD
TZOFFSETFROM:-0400
TZOFFSETTO:-0500
TZNAME:EST
DTSTART:20281105T060000
END:STANDARD
END:VTIMEZONE
BEGIN:VEVENT
DTSTART;TZID=America/New_York:20270410T210000
DTEND;TZID=America/New_York:20270410T220000
DTSTAMP:20260419T212325
CREATED:20230131T003843Z
LAST-MODIFIED:20230131T003843Z
UID:10008649-1807390800-1807394400@olddutchchurch.org
SUMMARY:AA Book Group
DESCRIPTION:
URL:https://olddutchchurch.org/event/aa-book-group/2027-04-10/
END:VEVENT
BEGIN:VEVENT
DTSTART;TZID=America/New_York:20270411T103000
DTEND;TZID=America/New_York:20270411T113000
DTSTAMP:20260419T212325
CREATED:20220621T145509Z
LAST-MODIFIED:20230131T010033Z
UID:10005523-1807439400-1807443000@olddutchchurch.org
SUMMARY:Sunday Worship
DESCRIPTION:Sunday worship in the Sanctuary
URL:https://olddutchchurch.org/event/sunday-worship/2027-04-11/
LOCATION:Old Dutch Church\, Wall Street\, Kingston\, 272 Wall Street\, Kingston\, NY\, 12401\, United States
END:VEVENT
BEGIN:VEVENT
DTSTART;TZID=America/New_York:20270411T113000
DTEND;TZID=America/New_York:20270411T123000
DTSTAMP:20260419T212325
CREATED:20220621T151126Z
LAST-MODIFIED:20230131T004016Z
UID:10005823-1807443000-1807446600@olddutchchurch.org
SUMMARY:ACA
DESCRIPTION:ACA in OMG
URL:https://olddutchchurch.org/event/aca/2027-04-11/
LOCATION:Old Dutch Church\, Wall Street\, Kingston\, 272 Wall Street\, Kingston\, NY\, 12401\, United States
END:VEVENT
BEGIN:VEVENT
DTSTART;TZID=America/New_York:20270411T190000
DTEND;TZID=America/New_York:20270411T213000
DTSTAMP:20260419T212325
CREATED:20220621T152603Z
LAST-MODIFIED:20230131T005403Z
UID:10008381-1807470000-1807479000@olddutchchurch.org
SUMMARY:SLAA Women’s Group
DESCRIPTION:SLAA in OMG
URL:https://olddutchchurch.org/event/slaa-3/2027-04-11/
END:VEVENT
BEGIN:VEVENT
DTSTART;TZID=America/New_York:20270412T170000
DTEND;TZID=America/New_York:20270412T180000
DTSTAMP:20260419T212325
CREATED:20230131T005556Z
LAST-MODIFIED:20230131T005556Z
UID:10009946-1807549200-1807552800@olddutchchurch.org
SUMMARY:SLAA Augustine Fellowship
DESCRIPTION:
URL:https://olddutchchurch.org/event/slaa-augustine-fellowship/2027-04-12/
END:VEVENT
BEGIN:VEVENT
DTSTART;TZID=America/New_York:20270412T183000
DTEND;TZID=America/New_York:20270412T210000
DTSTAMP:20260419T212325
CREATED:20250624T172435Z
LAST-MODIFIED:20250624T172436Z
UID:10006326-1807554600-1807563600@olddutchchurch.org
SUMMARY:Mendelssohn Club
DESCRIPTION:
URL:https://olddutchchurch.org/event/mendelssohn-club-2-2/2027-04-12/
END:VEVENT
BEGIN:VEVENT
DTSTART;TZID=America/New_York:20270412T190000
DTEND;TZID=America/New_York:20270412T200000
DTSTAMP:20260419T212325
CREATED:20230131T004717Z
LAST-MODIFIED:20230131T004717Z
UID:10009679-1807556400-1807560000@olddutchchurch.org
SUMMARY:Debtors’ Anonymous
DESCRIPTION:
URL:https://olddutchchurch.org/event/debtors-anonymous/2027-04-12/
END:VEVENT
BEGIN:VEVENT
DTSTART;TZID=America/New_York:20270414T120000
DTEND;TZID=America/New_York:20270414T130000
DTSTAMP:20260419T212326
CREATED:20250625T194104Z
LAST-MODIFIED:20250625T194104Z
UID:10011772-1807704000-1807707600@olddutchchurch.org
SUMMARY:ACA
DESCRIPTION:
URL:https://olddutchchurch.org/event/aca-2/2027-04-14/
END:VEVENT
BEGIN:VEVENT
DTSTART;TZID=America/New_York:20270414T130000
DTEND;TZID=America/New_York:20270414T140000
DTSTAMP:20260419T212326
CREATED:20220621T152107Z
LAST-MODIFIED:20250624T163908Z
UID:10007461-1807707600-1807711200@olddutchchurch.org
SUMMARY:Community Chorus (on hiatus until Fall)
DESCRIPTION:Community Chorus in Bethany Hall
URL:https://olddutchchurch.org/event/community-chorus/2027-04-14/
END:VEVENT
BEGIN:VEVENT
DTSTART;TZID=America/New_York:20270414T180000
DTEND;TZID=America/New_York:20270414T210000
DTSTAMP:20260419T212326
CREATED:20230131T003225Z
LAST-MODIFIED:20250624T171339Z
UID:10007161-1807725600-1807736400@olddutchchurch.org
SUMMARY:Ubaka Hill Drum Circle
DESCRIPTION:
URL:https://olddutchchurch.org/event/ubaka-hill-drum-circle/2027-04-14/
END:VEVENT
BEGIN:VEVENT
DTSTART;TZID=America/New_York:20270415T183000
DTEND;TZID=America/New_York:20270415T193000
DTSTAMP:20260419T212326
CREATED:20230131T004310Z
LAST-MODIFIED:20230131T004310Z
UID:10009412-1807813800-1807817400@olddutchchurch.org
SUMMARY:ACA Book Group
DESCRIPTION:Meeting every other week
URL:https://olddutchchurch.org/event/aca-book-group/2027-04-15/
END:VEVENT
BEGIN:VEVENT
DTSTART;TZID=America/New_York:20270415T190000
DTEND;TZID=America/New_York:20270415T200000
DTSTAMP:20260419T212326
CREATED:20230131T003704Z
LAST-MODIFIED:20230131T003704Z
UID:10008114-1807815600-1807819200@olddutchchurch.org
SUMMARY:AA
DESCRIPTION:
URL:https://olddutchchurch.org/event/aa/2027-04-15/
END:VEVENT
BEGIN:VEVENT
DTSTART;TZID=America/New_York:20270417T210000
DTEND;TZID=America/New_York:20270417T220000
DTSTAMP:20260419T212326
CREATED:20230131T003843Z
LAST-MODIFIED:20230131T003843Z
UID:10008650-1807995600-1807999200@olddutchchurch.org
SUMMARY:AA Book Group
DESCRIPTION:
URL:https://olddutchchurch.org/event/aa-book-group/2027-04-17/
END:VEVENT
BEGIN:VEVENT
DTSTART;TZID=America/New_York:20270418T103000
DTEND;TZID=America/New_York:20270418T113000
DTSTAMP:20260419T212326
CREATED:20220621T145509Z
LAST-MODIFIED:20230131T010033Z
UID:10005524-1808044200-1808047800@olddutchchurch.org
SUMMARY:Sunday Worship
DESCRIPTION:Sunday worship in the Sanctuary
URL:https://olddutchchurch.org/event/sunday-worship/2027-04-18/
LOCATION:Old Dutch Church\, Wall Street\, Kingston\, 272 Wall Street\, Kingston\, NY\, 12401\, United States
END:VEVENT
BEGIN:VEVENT
DTSTART;TZID=America/New_York:20270418T113000
DTEND;TZID=America/New_York:20270418T123000
DTSTAMP:20260419T212326
CREATED:20220621T151126Z
LAST-MODIFIED:20230131T004016Z
UID:10005824-1808047800-1808051400@olddutchchurch.org
SUMMARY:ACA
DESCRIPTION:ACA in OMG
URL:https://olddutchchurch.org/event/aca/2027-04-18/
LOCATION:Old Dutch Church\, Wall Street\, Kingston\, 272 Wall Street\, Kingston\, NY\, 12401\, United States
END:VEVENT
BEGIN:VEVENT
DTSTART;TZID=America/New_York:20270418T190000
DTEND;TZID=America/New_York:20270418T213000
DTSTAMP:20260419T212326
CREATED:20220621T152603Z
LAST-MODIFIED:20230131T005403Z
UID:10008382-1808074800-1808083800@olddutchchurch.org
SUMMARY:SLAA Women’s Group
DESCRIPTION:SLAA in OMG
URL:https://olddutchchurch.org/event/slaa-3/2027-04-18/
END:VEVENT
BEGIN:VEVENT
DTSTART;TZID=America/New_York:20270419T170000
DTEND;TZID=America/New_York:20270419T180000
DTSTAMP:20260419T212326
CREATED:20230131T005556Z
LAST-MODIFIED:20230131T005556Z
UID:10009947-1808154000-1808157600@olddutchchurch.org
SUMMARY:SLAA Augustine Fellowship
DESCRIPTION:
URL:https://olddutchchurch.org/event/slaa-augustine-fellowship/2027-04-19/
END:VEVENT
BEGIN:VEVENT
DTSTART;TZID=America/New_York:20270419T183000
DTEND;TZID=America/New_York:20270419T210000
DTSTAMP:20260419T212326
CREATED:20250624T172435Z
LAST-MODIFIED:20250624T172436Z
UID:10006327-1808159400-1808168400@olddutchchurch.org
SUMMARY:Mendelssohn Club
DESCRIPTION:
URL:https://olddutchchurch.org/event/mendelssohn-club-2-2/2027-04-19/
END:VEVENT
BEGIN:VEVENT
DTSTART;TZID=America/New_York:20270419T190000
DTEND;TZID=America/New_York:20270419T200000
DTSTAMP:20260419T212326
CREATED:20230131T004717Z
LAST-MODIFIED:20230131T004717Z
UID:10009680-1808161200-1808164800@olddutchchurch.org
SUMMARY:Debtors’ Anonymous
DESCRIPTION:
URL:https://olddutchchurch.org/event/debtors-anonymous/2027-04-19/
END:VEVENT
BEGIN:VEVENT
DTSTART;TZID=America/New_York:20270421T120000
DTEND;TZID=America/New_York:20270421T130000
DTSTAMP:20260419T212326
CREATED:20250625T194104Z
LAST-MODIFIED:20250625T194104Z
UID:10011773-1808308800-1808312400@olddutchchurch.org
SUMMARY:ACA
DESCRIPTION:
URL:https://olddutchchurch.org/event/aca-2/2027-04-21/
END:VEVENT
BEGIN:VEVENT
DTSTART;TZID=America/New_York:20270421T130000
DTEND;TZID=America/New_York:20270421T140000
DTSTAMP:20260419T212326
CREATED:20220621T152107Z
LAST-MODIFIED:20250624T163908Z
UID:10007462-1808312400-1808316000@olddutchchurch.org
SUMMARY:Community Chorus (on hiatus until Fall)
DESCRIPTION:Community Chorus in Bethany Hall
URL:https://olddutchchurch.org/event/community-chorus/2027-04-21/
END:VEVENT
BEGIN:VEVENT
DTSTART;TZID=America/New_York:20270421T180000
DTEND;TZID=America/New_York:20270421T210000
DTSTAMP:20260419T212326
CREATED:20230131T003225Z
LAST-MODIFIED:20250624T171339Z
UID:10007162-1808330400-1808341200@olddutchchurch.org
SUMMARY:Ubaka Hill Drum Circle
DESCRIPTION:
URL:https://olddutchchurch.org/event/ubaka-hill-drum-circle/2027-04-21/
END:VEVENT
BEGIN:VEVENT
DTSTART;TZID=America/New_York:20270422T183000
DTEND;TZID=America/New_York:20270422T193000
DTSTAMP:20260419T212326
CREATED:20230131T004310Z
LAST-MODIFIED:20230131T004310Z
UID:10009413-1808418600-1808422200@olddutchchurch.org
SUMMARY:ACA Book Group
DESCRIPTION:Meeting every other week
URL:https://olddutchchurch.org/event/aca-book-group/2027-04-22/
END:VEVENT
BEGIN:VEVENT
DTSTART;TZID=America/New_York:20270422T190000
DTEND;TZID=America/New_York:20270422T200000
DTSTAMP:20260419T212326
CREATED:20230131T003704Z
LAST-MODIFIED:20230131T003704Z
UID:10008115-1808420400-1808424000@olddutchchurch.org
SUMMARY:AA
DESCRIPTION:
URL:https://olddutchchurch.org/event/aa/2027-04-22/
END:VEVENT
BEGIN:VEVENT
DTSTART;TZID=America/New_York:20270424T210000
DTEND;TZID=America/New_York:20270424T220000
DTSTAMP:20260419T212326
CREATED:20230131T003843Z
LAST-MODIFIED:20230131T003843Z
UID:10008651-1808600400-1808604000@olddutchchurch.org
SUMMARY:AA Book Group
DESCRIPTION:
URL:https://olddutchchurch.org/event/aa-book-group/2027-04-24/
END:VEVENT
BEGIN:VEVENT
DTSTART;TZID=America/New_York:20270425T103000
DTEND;TZID=America/New_York:20270425T113000
DTSTAMP:20260419T212326
CREATED:20220621T145509Z
LAST-MODIFIED:20230131T010033Z
UID:10005525-1808649000-1808652600@olddutchchurch.org
SUMMARY:Sunday Worship
DESCRIPTION:Sunday worship in the Sanctuary
URL:https://olddutchchurch.org/event/sunday-worship/2027-04-25/
LOCATION:Old Dutch Church\, Wall Street\, Kingston\, 272 Wall Street\, Kingston\, NY\, 12401\, United States
END:VEVENT
BEGIN:VEVENT
DTSTART;TZID=America/New_York:20270425T113000
DTEND;TZID=America/New_York:20270425T123000
DTSTAMP:20260419T212326
CREATED:20220621T151126Z
LAST-MODIFIED:20230131T004016Z
UID:10005825-1808652600-1808656200@olddutchchurch.org
SUMMARY:ACA
DESCRIPTION:ACA in OMG
URL:https://olddutchchurch.org/event/aca/2027-04-25/
LOCATION:Old Dutch Church\, Wall Street\, Kingston\, 272 Wall Street\, Kingston\, NY\, 12401\, United States
END:VEVENT
BEGIN:VEVENT
DTSTART;TZID=America/New_York:20270425T190000
DTEND;TZID=America/New_York:20270425T213000
DTSTAMP:20260419T212326
CREATED:20220621T152603Z
LAST-MODIFIED:20230131T005403Z
UID:10008383-1808679600-1808688600@olddutchchurch.org
SUMMARY:SLAA Women’s Group
DESCRIPTION:SLAA in OMG
URL:https://olddutchchurch.org/event/slaa-3/2027-04-25/
END:VEVENT
BEGIN:VEVENT
DTSTART;TZID=America/New_York:20270426T170000
DTEND;TZID=America/New_York:20270426T180000
DTSTAMP:20260419T212326
CREATED:20230131T005556Z
LAST-MODIFIED:20230131T005556Z
UID:10009948-1808758800-1808762400@olddutchchurch.org
SUMMARY:SLAA Augustine Fellowship
DESCRIPTION:
URL:https://olddutchchurch.org/event/slaa-augustine-fellowship/2027-04-26/
END:VEVENT
BEGIN:VEVENT
DTSTART;TZID=America/New_York:20270426T183000
DTEND;TZID=America/New_York:20270426T210000
DTSTAMP:20260419T212326
CREATED:20250624T172435Z
LAST-MODIFIED:20250624T172436Z
UID:10006328-1808764200-1808773200@olddutchchurch.org
SUMMARY:Mendelssohn Club
DESCRIPTION:
URL:https://olddutchchurch.org/event/mendelssohn-club-2-2/2027-04-26/
END:VEVENT
END:VCALENDAR