BEGIN:VCALENDAR
VERSION:2.0
PRODID:-//Old Dutch Church - ECPv6.15.20//NONSGML v1.0//EN
CALSCALE:GREGORIAN
METHOD:PUBLISH
X-WR-CALNAME:Old Dutch Church
X-ORIGINAL-URL:https://olddutchchurch.org
X-WR-CALDESC:Events for Old Dutch Church
REFRESH-INTERVAL;VALUE=DURATION:PT1H
X-Robots-Tag:noindex
X-PUBLISHED-TTL:PT1H
BEGIN:VTIMEZONE
TZID:America/New_York
BEGIN:DAYLIGHT
TZOFFSETFROM:-0500
TZOFFSETTO:-0400
TZNAME:EDT
DTSTART:20240310T070000
END:DAYLIGHT
BEGIN:STANDARD
TZOFFSETFROM:-0400
TZOFFSETTO:-0500
TZNAME:EST
DTSTART:20241103T060000
END:STANDARD
BEGIN:DAYLIGHT
TZOFFSETFROM:-0500
TZOFFSETTO:-0400
TZNAME:EDT
DTSTART:20250309T070000
END:DAYLIGHT
BEGIN:STANDARD
TZOFFSETFROM:-0400
TZOFFSETTO:-0500
TZNAME:EST
DTSTART:20251102T060000
END:STANDARD
BEGIN:DAYLIGHT
TZOFFSETFROM:-0500
TZOFFSETTO:-0400
TZNAME:EDT
DTSTART:20260308T070000
END:DAYLIGHT
BEGIN:STANDARD
TZOFFSETFROM:-0400
TZOFFSETTO:-0500
TZNAME:EST
DTSTART:20261101T060000
END:STANDARD
END:VTIMEZONE
BEGIN:VEVENT
DTSTART;TZID=America/New_York:20250515T190000
DTEND;TZID=America/New_York:20250515T200000
DTSTAMP:20260422T175739
CREATED:20230131T003704Z
LAST-MODIFIED:20230131T003704Z
UID:10008014-1747335600-1747339200@olddutchchurch.org
SUMMARY:AA
DESCRIPTION:
URL:https://olddutchchurch.org/event/aa/2025-05-15/
END:VEVENT
BEGIN:VEVENT
DTSTART;TZID=America/New_York:20250517T210000
DTEND;TZID=America/New_York:20250517T220000
DTSTAMP:20260422T175739
CREATED:20230131T003843Z
LAST-MODIFIED:20230131T003843Z
UID:10008550-1747515600-1747519200@olddutchchurch.org
SUMMARY:AA Book Group
DESCRIPTION:
URL:https://olddutchchurch.org/event/aa-book-group/2025-05-17/
END:VEVENT
BEGIN:VEVENT
DTSTART;TZID=America/New_York:20250518T103000
DTEND;TZID=America/New_York:20250518T113000
DTSTAMP:20260422T175739
CREATED:20220621T145509Z
LAST-MODIFIED:20230131T010033Z
UID:10005424-1747564200-1747567800@olddutchchurch.org
SUMMARY:Sunday Worship
DESCRIPTION:Sunday worship in the Sanctuary
URL:https://olddutchchurch.org/event/sunday-worship/2025-05-18/
LOCATION:Old Dutch Church\, Wall Street\, Kingston\, 272 Wall Street\, Kingston\, NY\, 12401\, United States
END:VEVENT
BEGIN:VEVENT
DTSTART;TZID=America/New_York:20250518T113000
DTEND;TZID=America/New_York:20250518T123000
DTSTAMP:20260422T175739
CREATED:20220621T151126Z
LAST-MODIFIED:20230131T004016Z
UID:10005724-1747567800-1747571400@olddutchchurch.org
SUMMARY:ACA
DESCRIPTION:ACA in OMG
URL:https://olddutchchurch.org/event/aca/2025-05-18/
LOCATION:Old Dutch Church\, Wall Street\, Kingston\, 272 Wall Street\, Kingston\, NY\, 12401\, United States
END:VEVENT
BEGIN:VEVENT
DTSTART;TZID=America/New_York:20250518T190000
DTEND;TZID=America/New_York:20250518T213000
DTSTAMP:20260422T175739
CREATED:20220621T152603Z
LAST-MODIFIED:20230131T005403Z
UID:10008282-1747594800-1747603800@olddutchchurch.org
SUMMARY:SLAA Women’s Group
DESCRIPTION:SLAA in OMG
URL:https://olddutchchurch.org/event/slaa-3/2025-05-18/
END:VEVENT
BEGIN:VEVENT
DTSTART;TZID=America/New_York:20250519T170000
DTEND;TZID=America/New_York:20250519T180000
DTSTAMP:20260422T175739
CREATED:20230131T005556Z
LAST-MODIFIED:20230131T005556Z
UID:10009847-1747674000-1747677600@olddutchchurch.org
SUMMARY:SLAA Augustine Fellowship
DESCRIPTION:
URL:https://olddutchchurch.org/event/slaa-augustine-fellowship/2025-05-19/
END:VEVENT
BEGIN:VEVENT
DTSTART;TZID=America/New_York:20250519T190000
DTEND;TZID=America/New_York:20250519T200000
DTSTAMP:20260422T175739
CREATED:20230131T004717Z
LAST-MODIFIED:20230131T004717Z
UID:10009580-1747681200-1747684800@olddutchchurch.org
SUMMARY:Debtors’ Anonymous
DESCRIPTION:
URL:https://olddutchchurch.org/event/debtors-anonymous/2025-05-19/
END:VEVENT
BEGIN:VEVENT
DTSTART;TZID=America/New_York:20250521T130000
DTEND;TZID=America/New_York:20250521T140000
DTSTAMP:20260422T175739
CREATED:20220621T152107Z
LAST-MODIFIED:20250624T163908Z
UID:10007362-1747832400-1747836000@olddutchchurch.org
SUMMARY:Community Chorus (on hiatus until Fall)
DESCRIPTION:Community Chorus in Bethany Hall
URL:https://olddutchchurch.org/event/community-chorus/2025-05-21/
END:VEVENT
BEGIN:VEVENT
DTSTART;TZID=America/New_York:20250521T180000
DTEND;TZID=America/New_York:20250521T210000
DTSTAMP:20260422T175739
CREATED:20230131T003225Z
LAST-MODIFIED:20250624T171339Z
UID:10007062-1747850400-1747861200@olddutchchurch.org
SUMMARY:Ubaka Hill Drum Circle
DESCRIPTION:
URL:https://olddutchchurch.org/event/ubaka-hill-drum-circle/2025-05-21/
END:VEVENT
BEGIN:VEVENT
DTSTART;TZID=America/New_York:20250522T183000
DTEND;TZID=America/New_York:20250522T193000
DTSTAMP:20260422T175739
CREATED:20230131T004310Z
LAST-MODIFIED:20230131T004310Z
UID:10009313-1747938600-1747942200@olddutchchurch.org
SUMMARY:ACA Book Group
DESCRIPTION:Meeting every other week
URL:https://olddutchchurch.org/event/aca-book-group/2025-05-22/
END:VEVENT
BEGIN:VEVENT
DTSTART;TZID=America/New_York:20250522T190000
DTEND;TZID=America/New_York:20250522T200000
DTSTAMP:20260422T175739
CREATED:20230131T003704Z
LAST-MODIFIED:20230131T003704Z
UID:10008015-1747940400-1747944000@olddutchchurch.org
SUMMARY:AA
DESCRIPTION:
URL:https://olddutchchurch.org/event/aa/2025-05-22/
END:VEVENT
BEGIN:VEVENT
DTSTART;TZID=America/New_York:20250524T210000
DTEND;TZID=America/New_York:20250524T220000
DTSTAMP:20260422T175739
CREATED:20230131T003843Z
LAST-MODIFIED:20230131T003843Z
UID:10008551-1748120400-1748124000@olddutchchurch.org
SUMMARY:AA Book Group
DESCRIPTION:
URL:https://olddutchchurch.org/event/aa-book-group/2025-05-24/
END:VEVENT
BEGIN:VEVENT
DTSTART;TZID=America/New_York:20250525T103000
DTEND;TZID=America/New_York:20250525T113000
DTSTAMP:20260422T175739
CREATED:20220621T145509Z
LAST-MODIFIED:20230131T010033Z
UID:10005425-1748169000-1748172600@olddutchchurch.org
SUMMARY:Sunday Worship
DESCRIPTION:Sunday worship in the Sanctuary
URL:https://olddutchchurch.org/event/sunday-worship/2025-05-25/
LOCATION:Old Dutch Church\, Wall Street\, Kingston\, 272 Wall Street\, Kingston\, NY\, 12401\, United States
END:VEVENT
BEGIN:VEVENT
DTSTART;TZID=America/New_York:20250525T113000
DTEND;TZID=America/New_York:20250525T123000
DTSTAMP:20260422T175739
CREATED:20220621T151126Z
LAST-MODIFIED:20230131T004016Z
UID:10005725-1748172600-1748176200@olddutchchurch.org
SUMMARY:ACA
DESCRIPTION:ACA in OMG
URL:https://olddutchchurch.org/event/aca/2025-05-25/
LOCATION:Old Dutch Church\, Wall Street\, Kingston\, 272 Wall Street\, Kingston\, NY\, 12401\, United States
END:VEVENT
BEGIN:VEVENT
DTSTART;TZID=America/New_York:20250525T190000
DTEND;TZID=America/New_York:20250525T213000
DTSTAMP:20260422T175739
CREATED:20220621T152603Z
LAST-MODIFIED:20230131T005403Z
UID:10008283-1748199600-1748208600@olddutchchurch.org
SUMMARY:SLAA Women’s Group
DESCRIPTION:SLAA in OMG
URL:https://olddutchchurch.org/event/slaa-3/2025-05-25/
END:VEVENT
BEGIN:VEVENT
DTSTART;TZID=America/New_York:20250526T170000
DTEND;TZID=America/New_York:20250526T180000
DTSTAMP:20260422T175739
CREATED:20230131T005556Z
LAST-MODIFIED:20230131T005556Z
UID:10009848-1748278800-1748282400@olddutchchurch.org
SUMMARY:SLAA Augustine Fellowship
DESCRIPTION:
URL:https://olddutchchurch.org/event/slaa-augustine-fellowship/2025-05-26/
END:VEVENT
BEGIN:VEVENT
DTSTART;TZID=America/New_York:20250526T190000
DTEND;TZID=America/New_York:20250526T200000
DTSTAMP:20260422T175739
CREATED:20230131T004717Z
LAST-MODIFIED:20230131T004717Z
UID:10009581-1748286000-1748289600@olddutchchurch.org
SUMMARY:Debtors’ Anonymous
DESCRIPTION:
URL:https://olddutchchurch.org/event/debtors-anonymous/2025-05-26/
END:VEVENT
BEGIN:VEVENT
DTSTART;TZID=America/New_York:20250528T130000
DTEND;TZID=America/New_York:20250528T140000
DTSTAMP:20260422T175739
CREATED:20220621T152107Z
LAST-MODIFIED:20250624T163908Z
UID:10007363-1748437200-1748440800@olddutchchurch.org
SUMMARY:Community Chorus (on hiatus until Fall)
DESCRIPTION:Community Chorus in Bethany Hall
URL:https://olddutchchurch.org/event/community-chorus/2025-05-28/
END:VEVENT
BEGIN:VEVENT
DTSTART;TZID=America/New_York:20250528T180000
DTEND;TZID=America/New_York:20250528T210000
DTSTAMP:20260422T175739
CREATED:20230131T003225Z
LAST-MODIFIED:20250624T171339Z
UID:10007063-1748455200-1748466000@olddutchchurch.org
SUMMARY:Ubaka Hill Drum Circle
DESCRIPTION:
URL:https://olddutchchurch.org/event/ubaka-hill-drum-circle/2025-05-28/
END:VEVENT
BEGIN:VEVENT
DTSTART;TZID=America/New_York:20250529T183000
DTEND;TZID=America/New_York:20250529T193000
DTSTAMP:20260422T175739
CREATED:20230131T004310Z
LAST-MODIFIED:20230131T004310Z
UID:10009314-1748543400-1748547000@olddutchchurch.org
SUMMARY:ACA Book Group
DESCRIPTION:Meeting every other week
URL:https://olddutchchurch.org/event/aca-book-group/2025-05-29/
END:VEVENT
BEGIN:VEVENT
DTSTART;TZID=America/New_York:20250529T190000
DTEND;TZID=America/New_York:20250529T200000
DTSTAMP:20260422T175739
CREATED:20230131T003704Z
LAST-MODIFIED:20230131T003704Z
UID:10008016-1748545200-1748548800@olddutchchurch.org
SUMMARY:AA
DESCRIPTION:
URL:https://olddutchchurch.org/event/aa/2025-05-29/
END:VEVENT
BEGIN:VEVENT
DTSTART;TZID=America/New_York:20250531T210000
DTEND;TZID=America/New_York:20250531T220000
DTSTAMP:20260422T175739
CREATED:20230131T003843Z
LAST-MODIFIED:20230131T003843Z
UID:10008552-1748725200-1748728800@olddutchchurch.org
SUMMARY:AA Book Group
DESCRIPTION:
URL:https://olddutchchurch.org/event/aa-book-group/2025-05-31/
END:VEVENT
BEGIN:VEVENT
DTSTART;TZID=America/New_York:20250601T103000
DTEND;TZID=America/New_York:20250601T113000
DTSTAMP:20260422T175739
CREATED:20220621T145509Z
LAST-MODIFIED:20230131T010033Z
UID:10005426-1748773800-1748777400@olddutchchurch.org
SUMMARY:Sunday Worship
DESCRIPTION:Sunday worship in the Sanctuary
URL:https://olddutchchurch.org/event/sunday-worship/2025-06-01/
LOCATION:Old Dutch Church\, Wall Street\, Kingston\, 272 Wall Street\, Kingston\, NY\, 12401\, United States
END:VEVENT
BEGIN:VEVENT
DTSTART;TZID=America/New_York:20250601T113000
DTEND;TZID=America/New_York:20250601T123000
DTSTAMP:20260422T175739
CREATED:20220621T151126Z
LAST-MODIFIED:20230131T004016Z
UID:10005726-1748777400-1748781000@olddutchchurch.org
SUMMARY:ACA
DESCRIPTION:ACA in OMG
URL:https://olddutchchurch.org/event/aca/2025-06-01/
LOCATION:Old Dutch Church\, Wall Street\, Kingston\, 272 Wall Street\, Kingston\, NY\, 12401\, United States
END:VEVENT
BEGIN:VEVENT
DTSTART;TZID=America/New_York:20250601T190000
DTEND;TZID=America/New_York:20250601T213000
DTSTAMP:20260422T175739
CREATED:20220621T152603Z
LAST-MODIFIED:20230131T005403Z
UID:10008284-1748804400-1748813400@olddutchchurch.org
SUMMARY:SLAA Women’s Group
DESCRIPTION:SLAA in OMG
URL:https://olddutchchurch.org/event/slaa-3/2025-06-01/
END:VEVENT
BEGIN:VEVENT
DTSTART;TZID=America/New_York:20250602T170000
DTEND;TZID=America/New_York:20250602T180000
DTSTAMP:20260422T175739
CREATED:20230131T005556Z
LAST-MODIFIED:20230131T005556Z
UID:10009849-1748883600-1748887200@olddutchchurch.org
SUMMARY:SLAA Augustine Fellowship
DESCRIPTION:
URL:https://olddutchchurch.org/event/slaa-augustine-fellowship/2025-06-02/
END:VEVENT
BEGIN:VEVENT
DTSTART;TZID=America/New_York:20250602T190000
DTEND;TZID=America/New_York:20250602T200000
DTSTAMP:20260422T175739
CREATED:20230131T004717Z
LAST-MODIFIED:20230131T004717Z
UID:10009582-1748890800-1748894400@olddutchchurch.org
SUMMARY:Debtors’ Anonymous
DESCRIPTION:
URL:https://olddutchchurch.org/event/debtors-anonymous/2025-06-02/
END:VEVENT
BEGIN:VEVENT
DTSTART;TZID=America/New_York:20250604T130000
DTEND;TZID=America/New_York:20250604T140000
DTSTAMP:20260422T175739
CREATED:20220621T152107Z
LAST-MODIFIED:20250624T163908Z
UID:10007364-1749042000-1749045600@olddutchchurch.org
SUMMARY:Community Chorus (on hiatus until Fall)
DESCRIPTION:Community Chorus in Bethany Hall
URL:https://olddutchchurch.org/event/community-chorus/2025-06-04/
END:VEVENT
BEGIN:VEVENT
DTSTART;TZID=America/New_York:20250604T180000
DTEND;TZID=America/New_York:20250604T210000
DTSTAMP:20260422T175739
CREATED:20230131T003225Z
LAST-MODIFIED:20250624T171339Z
UID:10007064-1749060000-1749070800@olddutchchurch.org
SUMMARY:Ubaka Hill Drum Circle
DESCRIPTION:
URL:https://olddutchchurch.org/event/ubaka-hill-drum-circle/2025-06-04/
END:VEVENT
BEGIN:VEVENT
DTSTART;TZID=America/New_York:20250605T183000
DTEND;TZID=America/New_York:20250605T193000
DTSTAMP:20260422T175739
CREATED:20230131T004310Z
LAST-MODIFIED:20230131T004310Z
UID:10009315-1749148200-1749151800@olddutchchurch.org
SUMMARY:ACA Book Group
DESCRIPTION:Meeting every other week
URL:https://olddutchchurch.org/event/aca-book-group/2025-06-05/
END:VEVENT
END:VCALENDAR